{"text_format":"1","workbook":"xlsx","n_sheets":8,"sheets":["Purpose-Background","1.PU& Period Selection","2.Waste Generation Rate","3.PU&MSW Projections","4.MSW Comp. Analysis","5.MSW Detailed Analysis","6.MSW Diversions","7.MSW Projections"],"not_rendered":{"charts":3,"images":1,"macros":1,"external_links":0,"defined_names":30,"comments":0,"pivot_tables":0},"unopened":[],"bounds":{"document_bytes":16777216,"sheet_cells":100000,"rows_first":2000,"rows_last":500,"rows_between":2000,"halvings":0,"cell_chars":16384,"cell_head_chars":4096},"cells_cut":0,"cells_raw":0,"read":"whole","date_system":"1900"}

{"sheet":"Purpose-Background","index":0,"n_rows":34,"n_cols":4,"rows_kept":34,"cut":false,"hidden":false,"merged":[[13,3,13,12],[7,3,7,12],[6,3,6,12],[1,3,2,12],[3,3,3,12],[4,3,4,12],[5,3,5,12],[34,3,34,12],[26,3,28,12],[8,3,8,12],[9,3,9,12],[10,3,10,12],[11,3,11,12],[12,3,12,12],[32,3,32,12],[33,3,33,12],[21,3,21,12],[31,3,31,12],[19,3,20,12],[22,3,24,12],[14,3,14,12],[15,3,17,12],[30,3,30,12]]}
[]
[null,null,null,"Population and Municipal Solid Waste Composition Calculator"]
[]
[]
[null,null,null,"Purpose and Background"]
[]
[null,null,null,"Developing a Local Solid Waste Management Plan (LSWMP) consist of several steps:"]
[null,null,null,"·         Assessment  of current planning unit conditions, "]
[null,null,null,"·    Forecasting the future,"]
[null,null,null,"·         Establishing objectives with clear statements of what is need to be achieved and when, "]
[null,null,null,"·         Identifying and evaluating various alternatives and courses of action, "]
[null,null,null,"·         Making decisions and selecting the best alternative for accomplishing objectives, "]
[null,null,null,"·         Formulating tasks, subtasks, milestones, responsible parties, and certainly ensuring its effective implementation, as well as "]
[null,null,null,"·         Evaluating achievements and taking corrective actions when necessary."]
[]
[null,null,null,"The purpose of the Population and Municipal Solid Waste Composition Calculator is to support planning units during the planning process, through a graphic and numerical representation of the current and future characteristics of the waste stream. The calculator has been designed to aid  the development of a LSWMP from its early stage of assessment to its implementation and even evaluation of the plan over time. "]
[]
[]
[]
[null,null,null,"The calculator intends to approximate the solid waste stream composition of the planning unit based on specific demographics and the goals set up for a specific planning period. "]
[]
[]
[null,null,null,"This projection tool is not intended to substitute for the valuable information gained by performing a municipal specific waste composition analysis. There is no substitute for accurately gathered and analyzed municipal specific waste composition data. This tool is merely intended to help refine the waste composition differences between planning units as a result of the wide array of demographics in New York State."]
[]
[]
[]
[null,null,null,"For this tool, DEC developed estimates of material’s composition present in the MSW stream using data inputs that include field-based waste composition studies, performed within New York State and in other major US cities and States that have similar demographic characteristics to some of New York’s regions."]
[]
[]
[]
[null,null,null,"After a careful review of dozens of composition analyses, the data from the following sources were used:"]
[null,null,null,"·         Municipalities within New York State:  New York City and Onondaga County Resource Recovery Authority (OCRRA)."]
[null,null,null,"·         Municipalities in other states:  Seattle, WA and San Francisco, CA."]
[null,null,null,"·         Other States:  Vermont, Wisconsin, Missouri, Georgia, Oregon, Ohio, Delaware, Pennsylvania, and California."]

{"sheet":"1.PU& Period Selection","index":1,"n_rows":159,"n_cols":123,"rows_kept":159,"cut":false,"hidden":false,"merged":[[156,66,156,72],[157,66,157,72],[158,66,158,72],[153,64,153,72],[154,65,154,72],[155,65,155,72],[4,66,4,73],[5,66,5,73],[81,66,81,74],[18,0,18,2],[1,2,1,10],[11,2,13,3],[11,4,13,10],[14,2,15,3],[14,4,15,10],[7,1,8,11]]}
[]
[null,null,"Step 1. Planning Unit and Plan Period Selection"]
[]
[]
[null,null,null,null,null,null,null,null,null,null,null,null,null,null,null,null,null,null,null,null,null,null,null,null,null,null,null,null,null,null,null,null,null,null,null,null,null,null,null,null,null,null,null,null,null,null,null,null,null,null,null,null,null,null,null,null,null,null,null,null,null,null,null,null,null,"Notes 3/22/22 :","Pop for Eastern Rensselaer, T of North Hempsted, Oyster Bay - only account for affiliated municipalities."]
[null,null,null,null,null,null,null,null,null,null,null,null,null,null,null,null,null,null,null,null,null,null,null,null,null,null,null,null,null,null,null,null,null,null,null,null,null,null,null,null,null,null,null,null,null,null,null,null,null,null,null,null,null,null,null,null,null,null,null,null,null,null,null,null,null,null,"We need to go back and revise some of the annual % changes - especially for R1 munic impacted by the pandemic"]
[]
[null,"Please, select from the drop-down list the name of your planning unit and the planning period of your LSWMP. Be aware that a LSWMP must be developed for a 10-year period, and that your selection will be replicated on each one of the following tabs."]
[]
[]
[null,null,null,null,null,null,null,null,null,null,null,null,null,null,null,null,null,null,null,null,null,null,null,null,null,null,null,null,null,null,null,null,null,null,null,null,null,null,null,null,null,null,null,null,null,null,null,null,null,null,null,null,null,null,null,null,null,null,null,null,null,null,null,null,null,null,"Population (2020)","Rural","Suburban","Urban",null,"% Change 2010-2020","Annual % Change"]
[null,null,"Planning Unit",null,null,null,null,null,null,null,null,null,null,null,null,null,null,null,null,null,null,null,null,null,null,null,null,null,null,null,null,null,null,null,null,null,null,null,null,null,null,null,null,null,null,null,null,null,null,null,null,null,null,null,null,null,null,null,null,null,null,null,null,null,1,"Allegany County",46456,0.56169999999999998,0.43830000000000002,0,{"$f":"SUM(BP12:BR12)","v":1},-5.0872389980795164E-2,{"$f":"BT12/10","v":-5.0872389980795166E-3},null,"2015-2024",2015,2016,2017,2018,2019,2020,2021,2022,2023,2024,2025,2026,2027,2028,null,null,null,null,null,2,3,4,5,6,7,8,9,10,11,12,13,14,15,16,17,18,19,20,21,22,23,24,25,26,27,28,29,"Generation rate at the end of the planning period (Lbs./person/day)"]
[null,null,null,null,null,null,null,null,null,null,null,null,null,null,null,null,null,null,null,null,null,null,null,null,null,null,null,null,null,null,null,null,null,null,null,null,null,null,null,null,null,null,null,null,null,null,null,null,null,null,null,null,null,null,null,null,null,null,null,null,null,null,null,null,2,"Broome County",198683,0.28499999999999998,0.68420000000000003,3.0800000000000001E-2,{"$f":"SUM(BP13:BR13)","v":1},-9.5563310069790627E-3,{"$f":"BT13/10","v":-9.5563310069790629E-4},null,"2016-2025",2016,2017,2018,2019,2020,2021,2022,2023,2024,2025,2026,2027,2028,2029,null,null,null,null,"MSW generation rate does not change. Consequently, MSW generation fluctuates with the population of the planning unit, if the population increases, waste generation will rise as well, and vice versa.",{"$f":"+'3.PU&MSW Projections'!$E$69","v":{"$error":"#N/A"}},{"$f":"+'3.PU&MSW Projections'!$E$69","v":{"$error":"#N/A"}},{"$f":"+'3.PU&MSW Projections'!$E$69","v":{"$error":"#N/A"}},{"$f":"+'3.PU&MSW Projections'!$E$69","v":{"$error":"#N/A"}},{"$f":"+'3.PU&MSW Projections'!$E$69","v":{"$error":"#N/A"}},{"$f":"+'3.PU&MSW Projections'!$E$69","v":{"$error":"#N/A"}},{"$f":"+'3.PU&MSW Projections'!$E$69","v":{"$error":"#N/A"}},{"$f":"+'3.PU&MSW Projections'!$E$69","v":{"$error":"#N/A"}},{"$f":"+'3.PU&MSW Projections'!$E$69","v":{"$error":"#N/A"}},{"$f":"+'3.PU&MSW Projections'!$E$69","v":{"$error":"#N/A"}},{"$f":"+'3.PU&MSW Projections'!$E$69","v":{"$error":"#N/A"}},{"$f":"+'3.PU&MSW Projections'!$E$69","v":{"$error":"#N/A"}},{"$f":"+'3.PU&MSW Projections'!$E$69","v":{"$error":"#N/A"}},{"$f":"+'3.PU&MSW Projections'!$E$69","v":{"$error":"#N/A"}},null,{"$f":"(('3.PU&MSW Projections'!$E$69*'3.PU&MSW Projections'!$G$56)*0.1825)","v":{"$error":"#N/A"}},{"$f":"(('3.PU&MSW Projections'!$E$69*'3.PU&MSW Projections'!$H$56)*0.1825)","v":{"$error":"#N/A"}},{"$f":"(('3.PU&MSW Projections'!$E$69*'3.PU&MSW Projections'!$I$56)*0.1825)","v":{"$error":"#N/A"}},{"$f":"(('3.PU&MSW Projections'!$E$69*'3.PU&MSW Projections'!J56)*0.1825)","v":{"$error":"#N/A"}},{"$f":"(('3.PU&MSW Projections'!$E$69*'3.PU&MSW Projections'!K56)*0.1825)","v":{"$error":"#N/A"}},{"$f":"(('3.PU&MSW Projections'!$E$69*'3.PU&MSW Projections'!L56)*0.1825)","v":{"$error":"#N/A"}},{"$f":"(('3.PU&MSW Projections'!$E$69*'3.PU&MSW Projections'!M56)*0.1825)","v":{"$error":"#N/A"}},{"$f":"(('3.PU&MSW Projections'!$E$69*'3.PU&MSW Projections'!N56)*0.1825)","v":{"$error":"#N/A"}},{"$f":"(('3.PU&MSW Projections'!$E$69*'3.PU&MSW Projections'!O56)*0.1825)","v":{"$error":"#N/A"}},{"$f":"(('3.PU&MSW Projections'!$E$69*'3.PU&MSW Projections'!P56)*0.1825)","v":{"$error":"#N/A"}},{"$f":"(('3.PU&MSW Projections'!$E$69*'3.PU&MSW Projections'!Q56)*0.1825)","v":{"$error":"#N/A"}},{"$f":"(('3.PU&MSW Projections'!$E$69*'3.PU&MSW Projections'!R56)*0.1825)","v":{"$error":"#N/A"}},{"$f":"(('3.PU&MSW Projections'!$E$69*'3.PU&MSW Projections'!S56)*0.1825)","v":{"$error":"#N/A"}},{"$f":"+(DP13*5.4794)/'3.PU&MSW Projections'!Q56","v":{"$error":"#N/A"}}]
[null,null,null,null,null,null,null,null,null,null,null,null,null,null,null,null,null,null,null,null,null,null,null,null,null,null,null,null,null,null,null,null,null,null,null,null,null,null,null,null,null,null,null,null,null,null,null,null,null,null,null,null,null,null,null,null,null,null,null,null,null,null,null,null,3,"Capital Region Solid Waste Management Partnership (CRSWMP)",219438,7.3599999999999999E-2,0.88080000000000003,3.4000000000000002E-2,0.98840000000000006,2.2363234841919884E-2,2.2363234841919883E-3,null,"2017-2026",2017,2018,2019,2020,2021,2022,2023,2024,2025,2026,2027,2028,2029,2030,null,null,null,null,"MSW generation amount remains the same, regardless of whether or not the planning unit's population fluctuates.",{"$f":"+'3.PU&MSW Projections'!$E$69","v":{"$error":"#N/A"}},{"$f":"(DF14/'3.PU&MSW Projections'!G56)*5.47","v":{"$error":"#N/A"}},{"$f":"(DG14/'3.PU&MSW Projections'!H56)*5.47","v":{"$error":"#N/A"}},{"$f":"(DH14/'3.PU&MSW Projections'!I56)*5.47","v":{"$error":"#N/A"}},{"$f":"(DI14/'3.PU&MSW Projections'!J56)*5.47","v":{"$error":"#N/A"}},{"$f":"(DJ14/'3.PU&MSW Projections'!K56)*5.47","v":{"$error":"#N/A"}},{"$f":"(DK14/'3.PU&MSW Projections'!L56)*5.47","v":{"$error":"#N/A"}},{"$f":"(DL14/'3.PU&MSW Projections'!M56)*5.47","v":{"$error":"#N/A"}},{"$f":"(DM14/'3.PU&MSW Projections'!N56)*5.47","v":{"$error":"#N/A"}},{"$f":"(DN14/'3.PU&MSW Projections'!O56)*5.47","v":{"$error":"#N/A"}},{"$f":"(DO14/'3.PU&MSW Projections'!P56)*5.47","v":{"$error":"#N/A"}},{"$f":"(DP14/'3.PU&MSW Projections'!Q56)*5.47","v":{"$error":"#N/A"}},{"$f":"(DQ14/'3.PU&MSW Projections'!R56)*5.47","v":{"$error":"#N/A"}},{"$f":"(DR14/'3.PU&MSW Projections'!S56)*5.47","v":{"$error":"#N/A"}},null,{"$f":"(('3.PU&MSW Projections'!$E$69*'3.PU&MSW Projections'!$G$56)*0.1825)","v":{"$error":"#N/A"}},{"$f":"(('3.PU&MSW Projections'!$E$69*'3.PU&MSW Projections'!$G$56)*0.1825)","v":{"$error":"#N/A"}},{"$f":"(('3.PU&MSW Projections'!$E$69*'3.PU&MSW Projections'!$G$56)*0.1825)","v":{"$error":"#N/A"}},{"$f":"(('3.PU&MSW Projections'!$E$69*'3.PU&MSW Projections'!$G$56)*0.1825)","v":{"$error":"#N/A"}},{"$f":"(('3.PU&MSW Projections'!$E$69*'3.PU&MSW Projections'!$G$56)*0.1825)","v":{"$error":"#N/A"}},{"$f":"(('3.PU&MSW Projections'!$E$69*'3.PU&MSW Projections'!$G$56)*0.1825)","v":{"$error":"#N/A"}},{"$f":"(('3.PU&MSW Projections'!$E$69*'3.PU&MSW Projections'!$G$56)*0.1825)","v":{"$error":"#N/A"}},{"$f":"(('3.PU&MSW Projections'!$E$69*'3.PU&MSW Projections'!$G$56)*0.1825)","v":{"$error":"#N/A"}},{"$f":"(('3.PU&MSW Projections'!$E$69*'3.PU&MSW Projections'!$G$56)*0.1825)","v":{"$error":"#N/A"}},{"$f":"(('3.PU&MSW Projections'!$E$69*'3.PU&MSW Projections'!$G$56)*0.1825)","v":{"$error":"#N/A"}},{"$f":"(('3.PU&MSW Projections'!$E$69*'3.PU&MSW Projections'!$G$56)*0.1825)","v":{"$error":"#N/A"}},{"$f":"(('3.PU&MSW Projections'!$E$69*'3.PU&MSW Projections'!$G$56)*0.1825)","v":{"$error":"#N/A"}},{"$f":"(('3.PU&MSW Projections'!$E$69*'3.PU&MSW Projections'!$G$56)*0.1825)","v":{"$error":"#N/A"}},{"$f":"+(DP14*5.4794)/'3.PU&MSW Projections'!Q56","v":{"$error":"#N/A"}}]
[null,null,"Planning Period",null,null,null,null,null,null,null,null,null,null,null,null,null,null,null,null,null,null,null,null,null,null,null,null,null,null,null,null,null,null,null,null,null,null,null,null,null,null,null,null,null,null,null,null,null,null,null,null,null,null,null,null,null,null,null,null,null,null,null,null,null,4,"Cattaraugus County",77042,0.51549999999999996,0.48449999999999999,0,1,-4.0775925395619854E-2,-4.077592539561985E-3,null,"2018-2027",2018,2019,2020,2021,2022,2023,2024,2025,2026,2027,2028,2029,2030,2031,null,null,null,null,"As a result of successfully implementing the Local Solid Waste Management Plan, MSW generation will be reduced by an annual factor of …",{"$f":"+'3.PU&MSW Projections'!E69","v":{"$error":"#N/A"}},{"$f":"+'3.PU&MSW Projections'!E69-('3.PU&MSW Projections'!E69*'3.PU&MSW Projections'!$Q$65)","v":{"$error":"#N/A"}},{"$f":"+'3.PU&MSW Projections'!H69-('3.PU&MSW Projections'!H69*'3.PU&MSW Projections'!$Q$65)","v":{"$error":"#N/A"}},{"$f":"+'3.PU&MSW Projections'!I69-('3.PU&MSW Projections'!I69*'3.PU&MSW Projections'!$Q$65)","v":{"$error":"#N/A"}},{"$f":"+'3.PU&MSW Projections'!J69-('3.PU&MSW Projections'!J69*'3.PU&MSW Projections'!$Q$65)","v":{"$error":"#N/A"}},{"$f":"+'3.PU&MSW Projections'!K69-('3.PU&MSW Projections'!K69*'3.PU&MSW Projections'!$Q$65)","v":{"$error":"#N/A"}},{"$f":"+'3.PU&MSW Projections'!L69-('3.PU&MSW Projections'!L69*'3.PU&MSW Projections'!$Q$65)","v":{"$error":"#N/A"}},{"$f":"+'3.PU&MSW Projections'!M69-('3.PU&MSW Projections'!M69*'3.PU&MSW Projections'!$Q$65)","v":{"$error":"#N/A"}},{"$f":"+'3.PU&MSW Projections'!N69-('3.PU&MSW Projections'!N69*'3.PU&MSW Projections'!$Q$65)","v":{"$error":"#N/A"}},{"$f":"+'3.PU&MSW Projections'!O69-('3.PU&MSW Projections'!O69*'3.PU&MSW Projections'!$Q$65)","v":{"$error":"#N/A"}},{"$f":"+'3.PU&MSW Projections'!P69-('3.PU&MSW Projections'!P69*'3.PU&MSW Projections'!$Q$65)","v":{"$error":"#N/A"}},{"$f":"+'3.PU&MSW Projections'!Q69-('3.PU&MSW Projections'!Q69*'3.PU&MSW Projections'!$Q$65)","v":{"$error":"#N/A"}},{"$f":"+'3.PU&MSW Projections'!R69-('3.PU&MSW Projections'!R69*'3.PU&MSW Projections'!$Q$65)","v":{"$error":"#N/A"}},{"$f":"+'3.PU&MSW Projections'!S69-('3.PU&MSW Projections'!S69*'3.PU&MSW Projections'!$Q$65)","v":{"$error":"#N/A"}},null,{"$f":"(('3.PU&MSW Projections'!G56*CQ15)*0.1825)","v":{"$error":"#N/A"}},{"$f":"(('3.PU&MSW Projections'!H56*CR15)*0.1825)","v":{"$error":"#N/A"}},{"$f":"(('3.PU&MSW Projections'!I56*CS15)*0.1825)","v":{"$error":"#N/A"}},{"$f":"(('3.PU&MSW Projections'!J56*CT15)*0.1825)","v":{"$error":"#N/A"}},{"$f":"(('3.PU&MSW Projections'!K56*CU15)*0.1825)","v":{"$error":"#N/A"}},{"$f":"(('3.PU&MSW Projections'!L56*CV15)*0.1825)","v":{"$error":"#N/A"}},{"$f":"(('3.PU&MSW Projections'!M56*CW15)*0.1825)","v":{"$error":"#N/A"}},{"$f":"(('3.PU&MSW Projections'!N56*CX15)*0.1825)","v":{"$error":"#N/A"}},{"$f":"(('3.PU&MSW Projections'!O56*CY15)*0.1825)","v":{"$error":"#N/A"}},{"$f":"(('3.PU&MSW Projections'!P56*CZ15)*0.1825)","v":{"$error":"#N/A"}},{"$f":"(('3.PU&MSW Projections'!Q56*DA15)*0.1825)","v":{"$error":"#N/A"}},{"$f":"(('3.PU&MSW Projections'!R56*DB15)*0.1825)","v":{"$error":"#N/A"}},{"$f":"(('3.PU&MSW Projections'!S56*DC15)*0.1825)","v":{"$error":"#N/A"}},{"$f":"+(DP15*5.4794)/'3.PU&MSW Projections'!Q56","v":{"$error":"#N/A"}}]
[null,null,null,null,null,null,null,null,null,null,null,null,null,null,null,null,null,null,null,null,null,null,null,null,null,null,null,null,null,null,null,null,null,null,null,null,null,null,null,null,null,null,null,null,null,null,null,null,null,null,null,null,null,null,null,null,null,null,null,null,null,null,null,null,5,"Cayuga County",76248,0.51990000000000003,0.48010000000000003,0,1,-4.7209656861520004E-2,-4.7209656861520004E-3,null,"2019-2028",2019,2020,2021,2022,2023,2024,2025,2026,2027,2028,2029,2030,2031,2032]
[null,null,null,null,null,null,null,null,null,null,null,null,null,null,null,null,null,null,null,null,null,null,null,null,null,null,null,null,null,null,null,null,null,null,null,null,null,null,null,null,null,null,null,null,null,null,null,null,null,null,null,null,null,null,null,null,null,null,null,null,null,null,null,null,6,"Chautauqua County",127657,0.40710000000000002,0.59289999999999998,0,1,-5.3726696564248916E-2,-5.3726696564248919E-3,null,"2020-2029",2020,2021,2022,2023,2024,2025,2026,2027,2028,2029,2030,2031,2032,2033]
[null,null,null,null,null,null,null,null,null,null,null,null,null,null,null,null,null,null,null,null,null,null,null,null,null,null,null,null,null,null,null,null,null,null,null,null,null,null,null,null,null,null,null,null,null,null,null,null,null,null,null,null,null,null,null,null,null,null,null,null,null,null,null,null,7,"Chemung County",84148,0.3453,0.65469999999999995,0,1,-5.2707418664865474E-2,-5.2707418664865472E-3,null,"2021-2030",2021,2022,2023,2024,2025,2026,2027,2028,2029,2030,2031,2032,2033,2034]
[null,null,null,null,null,null,null,null,null,null,null,null,null,null,null,null,null,null,null,null,null,null,null,null,null,null,null,null,null,null,null,null,null,null,null,null,null,null,null,null,null,null,null,null,null,null,null,null,null,null,null,null,null,null,null,null,null,null,null,null,null,null,null,null,8,"Chenango County",47220,0.69630000000000003,0.30370000000000003,0,1,-6.4524436872238841E-2,-6.4524436872238841E-3,null,"2022-2031",2022,2023,2024,2025,2026,2027,2028,2029,2030,2031,2032,2033,2034,2035]
[null,null,null,null,null,null,null,null,null,null,null,null,null,null,null,null,null,null,null,null,null,null,null,null,null,null,null,null,null,null,null,null,null,null,null,null,null,null,null,null,null,null,null,null,null,null,null,null,null,null,null,null,null,null,null,null,null,null,null,null,null,null,null,null,9,"City of Glen Cove",28365,0,1,0,1,5.1958166444147753E-2,5.1958166444147757E-3,null,"2023-2032",2023,2024,2025,2026,2027,2028,2029,2030,2031,2032,2033,2034,2035,2036]
[null,null,null,null,null,null,null,null,null,null,null,null,null,null,null,null,null,null,null,null,null,null,null,null,null,null,null,null,null,null,null,null,null,null,null,null,null,null,null,null,null,null,null,null,null,null,null,null,null,null,null,null,null,null,null,null,null,null,null,null,null,null,null,null,10,"City of Long Beach",35029,0,0.33779999999999999,0.66220000000000001,1,5.2712246431254696E-2,5.2712246431254692E-3,null,"2024-2033",2024,2025,2026,2027,2028,2029,2030,2031,2032,2033,2034,2035,2036,2037,null,null,null,null,null,null,3,{"$f":"CHOOSE(CR21,CP13,CP14,CP15)","v":"As a result of successfully implementing the Local Solid Waste Management Plan, MSW generation will be reduced by an annual factor of …"}]
[null,null,null,null,null,null,null,null,null,null,null,null,null,null,null,null,null,null,null,null,null,null,null,null,null,null,null,null,null,null,null,null,null,null,null,null,null,null,null,null,null,null,null,null,null,null,null,null,null,null,null,null,null,null,null,null,null,null,null,null,null,null,null,null,11,"Clinton County",79843,0.55479999999999996,0.40189999999999998,4.3299999999999998E-2,0.99999999999999989,-2.7822423533995715E-2,-2.7822423533995716E-3,null,"2025-2034",2025,2026,2027,2028,2029,2030,2031,2032,2033,2034,2035,2036,2037,2038]
[null,null,null,null,null,null,null,null,null,null,null,null,null,null,null,null,null,null,null,null,null,null,null,null,null,null,null,null,null,null,null,null,null,null,null,null,null,null,null,null,null,null,null,null,null,null,null,null,null,null,null,null,null,null,null,null,null,null,null,null,null,null,null,null,12,"Columbia County ",60016,0.70820000000000005,0.2918,0,1,-2.2578438080344054E-2,-2.2578438080344053E-3,null,"2026-2035",2026,2027,2028,2029,2030,2031,2032,2033,2034,2035,2036,2037,2038,2039]
[null,null,null,null,null,null,null,null,null,null,null,null,null,null,null,null,null,null,null,null,null,null,null,null,null,null,null,null,null,null,null,null,null,null,null,null,null,null,null,null,null,null,null,null,null,null,null,null,null,null,null,null,null,null,null,null,null,null,null,null,null,null,null,null,13,"Cortland County",46809,0.44940000000000002,0.55059999999999998,0,1,-5.1220204313280365E-2,-5.1220204313280364E-3,null,"2027-2036",2027,2028,2029,2030,2031,2032,2033,2034,2035,2036,2037,2038,2039,2040]
[null,null,null,null,null,null,null,null,null,null,null,null,null,null,null,null,null,null,null,null,null,null,null,null,null,null,null,null,null,null,null,null,null,null,null,null,null,null,null,null,null,null,null,null,null,null,null,null,null,null,null,null,null,null,null,null,null,null,null,null,null,null,null,null,14,"County of Franklin Solid Waste Management Authority (CFSWMA)",47555,0.68740000000000001,0.31259999999999999,0,1,-7.8373611891703332E-2,-7.8373611891703332E-3,null,"2028-2037",2028,2029,2030,2031,2032,2033,2034,2035,2036,2037,2038,2039,2040,2041]
[null,null,null,null,null,null,null,null,null,null,null,null,null,null,null,null,null,null,null,null,null,null,null,null,null,null,null,null,null,null,null,null,null,null,null,null,null,null,null,null,null,null,null,null,null,null,null,null,null,null,null,null,null,null,null,null,null,null,null,null,null,null,null,null,15,"Delaware County",44308,0.69089999999999996,0.30909999999999999,0,1,-7.6531888286786157E-2,-7.6531888286786153E-3,null,"2029-2038",2029,2030,2031,2032,2033,2034,2035,2036,2037,2038,2039,2040,2041,2042]
[null,null,null,null,null,null,null,null,null,null,null,null,null,null,null,null,null,null,null,null,null,null,null,null,null,null,null,null,null,null,null,null,null,null,null,null,null,null,null,null,null,null,null,null,null,null,null,null,null,null,null,null,null,null,null,null,null,null,null,null,null,null,null,null,16,"Development Authority of the North Country (DANC)",251808,0.51759999999999995,0.4824,0,1,-1.352346626968581E-2,-1.3523466269685809E-3]
[null,null,null,null,null,null,null,null,null,null,null,null,null,null,null,null,null,null,null,null,null,null,null,null,null,null,null,null,null,null,null,null,null,null,null,null,null,null,null,null,null,null,null,null,null,null,null,null,null,null,null,null,null,null,null,null,null,null,null,null,null,null,null,null,17,"Dutchess County",295911,0.2019,0.65900000000000003,0.1391,1,-5.3010541601678047E-3,-5.3010541601678049E-4]
[null,null,null,null,null,null,null,null,null,null,null,null,null,null,null,null,null,null,null,null,null,null,null,null,null,null,null,null,null,null,null,null,null,null,null,null,null,null,null,null,null,null,null,null,null,null,null,null,null,null,null,null,null,null,null,null,null,null,null,null,null,null,null,null,18,"Eastern Rensselaer County Solid Waste Management Authority (ERCSWMA)",22131,0.81920000000000004,0.18079999999999999,0,1,-5.4553998632946001E-2,-5.4553998632946004E-3]
[null,null,null,null,null,null,null,null,null,null,null,null,null,null,null,null,null,null,null,null,null,null,null,null,null,null,null,null,null,null,null,null,null,null,null,null,null,null,null,null,null,null,null,null,null,null,null,null,null,null,null,null,null,null,null,null,null,null,null,null,null,null,null,null,19,"Essex County",37387,0.70020000000000004,0.29980000000000001,0,1,-5.0368300736601472E-2,-5.0368300736601474E-3]
[null,null,null,null,null,null,null,null,null,null,null,null,null,null,null,null,null,null,null,null,null,null,null,null,null,null,null,null,null,null,null,null,null,null,null,null,null,null,null,null,null,null,null,null,null,null,null,null,null,null,null,null,null,null,null,null,null,null,null,null,null,null,null,null,20,"Fishers Island Waste Management District",125,1,0,0,1,-0.47033898305084748,-4.7033898305084747E-2]
[null,null,null,null,null,null,null,null,null,null,null,null,null,null,null,null,null,null,null,null,null,null,null,null,null,null,null,null,null,null,null,null,null,null,null,null,null,null,null,null,null,null,null,null,null,null,null,null,null,null,null,null,null,null,null,null,null,null,null,null,null,null,null,null,21,"Fulton County",53324,0.49940000000000001,0.50060000000000004,0,1,-3.9743566656462156E-2,-3.9743566656462153E-3]
[null,null,null,null,null,null,null,null,null,null,null,null,null,null,null,null,null,null,null,null,null,null,null,null,null,null,null,null,null,null,null,null,null,null,null,null,null,null,null,null,null,null,null,null,null,null,null,null,null,null,null,null,null,null,null,null,null,null,null,null,null,null,null,null,22,"GLOW Region Solid Waste Management Committee",160753,0.56879999999999997,0.43120000000000003,0,1,-4.1007713554498976E-2,-4.1007713554498974E-3]
[null,null,null,null,null,null,null,null,null,null,null,null,null,null,null,null,null,null,null,null,null,null,null,null,null,null,null,null,null,null,null,null,null,null,null,null,null,null,null,null,null,null,null,null,null,null,null,null,null,null,null,null,null,null,null,null,null,null,null,null,null,null,null,null,23,"Greene County",47931,0.75670000000000004,0.24329999999999999,0,1,-2.6208325714633999E-2,-2.6208325714634001E-3]
[null,null,null,null,null,null,null,null,null,null,null,null,null,null,null,null,null,null,null,null,null,null,null,null,null,null,null,null,null,null,null,null,null,null,null,null,null,null,null,null,null,null,null,null,null,null,null,null,null,null,null,null,null,null,null,null,null,null,null,null,null,null,null,null,24,"Hamilton County",5107,1,0,0,1,5.6038047973531846E-2,5.6038047973531848E-3]
[null,null,null,null,null,null,null,null,null,null,null,null,null,null,null,null,null,null,null,null,null,null,null,null,null,null,null,null,null,null,null,null,null,null,null,null,null,null,null,null,null,null,null,null,null,null,null,null,null,null,null,null,null,null,null,null,null,null,null,null,null,null,null,null,25,"Islip Resource Recovery Agency",339938,5.1000000000000004E-3,0.75760000000000005,0.23730000000000001,1,1.3098172216377633E-2,1.3098172216377633E-3]
[null,null,null,null,null,null,null,null,null,null,null,null,null,null,null,null,null,null,null,null,null,null,null,null,null,null,null,null,null,null,null,null,null,null,null,null,null,null,null,null,null,null,null,null,null,null,null,null,null,null,null,null,null,null,null,null,null,null,null,null,null,null,null,null,26,"Madison County",68016,0.54659999999999997,0.45340000000000003,0,1,-7.388143024427439E-2,-7.388143024427439E-3]
[null,null,null,null,null,null,null,null,null,null,null,null,null,null,null,null,null,null,null,null,null,null,null,null,null,null,null,null,null,null,null,null,null,null,null,null,null,null,null,null,null,null,null,null,null,null,null,null,null,null,null,null,null,null,null,null,null,null,null,null,null,null,null,null,27,"Monroe County ",759443,5.0799999999999998E-2,0.6663,0.28289999999999998,1,2.0284975763894115E-2,2.0284975763894117E-3]
[null,null,null,null,null,null,null,null,null,null,null,null,null,null,null,null,null,null,null,null,null,null,null,null,null,null,null,null,null,null,null,null,null,null,null,null,null,null,null,null,null,null,null,null,null,null,null,null,null,null,null,null,null,null,null,null,null,null,null,null,null,null,null,null,28,"Montgomery County",49532,0.38779999999999998,0.61219999999999997,0,1,-1.368008124415062E-2,-1.368008124415062E-3]
[null,null,null,null,null,null,null,null,null,null,null,null,null,null,null,null,null,null,null,null,null,null,null,null,null,null,null,null,null,null,null,null,null,null,null,null,null,null,null,null,null,null,null,null,null,null,null,null,null,null,null,null,null,null,null,null,null,null,null,null,null,null,null,null,29,"New York City",8804190,0,0,1,1,7.6947616632047453E-2,7.6947616632047451E-3]
[null,null,null,null,null,null,null,null,null,null,null,null,null,null,null,null,null,null,null,null,null,null,null,null,null,null,null,null,null,null,null,null,null,null,null,null,null,null,null,null,null,null,null,null,null,null,null,null,null,null,null,null,null,null,null,null,null,null,null,null,null,null,null,null,30,"Niagara County",212666,0.2276,0.77239999999999998,0,1,-1.7568335419852265E-2,-1.7568335419852264E-3]
[null,null,null,null,null,null,null,null,null,null,null,null,null,null,null,null,null,null,null,null,null,null,null,null,null,null,null,null,null,null,null,null,null,null,null,null,null,null,null,null,null,null,null,null,null,null,null,null,null,null,null,null,null,null,null,null,null,null,null,null,null,null,null,null,31,"Northeast-Southtowns Solid Waste Management Board (NEST)",434912,0.18160000000000001,0.81840000000000002,0,1,2.470630922705018E-2,2.470630922705018E-3]
[null,null,null,null,null,null,null,null,null,null,null,null,null,null,null,null,null,null,null,null,null,null,null,null,null,null,null,null,null,null,null,null,null,null,null,null,null,null,null,null,null,null,null,null,null,null,null,null,null,null,null,null,null,null,null,null,null,null,null,null,null,null,null,null,32,"Northwest Communities Solid Waste Management Board (NWCB)",238749,0,0.86850000000000005,0.13150000000000001,1,3.1593911085954274E-2,3.1593911085954275E-3]
[null,null,null,null,null,null,null,null,null,null,null,null,null,null,null,null,null,null,null,null,null,null,null,null,null,null,null,null,null,null,null,null,null,null,null,null,null,null,null,null,null,null,null,null,null,null,null,null,null,null,null,null,null,null,null,null,null,null,null,null,null,null,null,null,33,"Oneida-Herkimer Solid Waste Authority (OHSWA)",292264,0.36969999999999997,0.63029999999999997,0,1,-2.3824554020247364E-2,-2.3824554020247363E-3]
[null,null,null,null,null,null,null,null,null,null,null,null,null,null,null,null,null,null,null,null,null,null,null,null,null,null,null,null,null,null,null,null,null,null,null,null,null,null,null,null,null,null,null,null,null,null,null,null,null,null,null,null,null,null,null,null,null,null,null,null,null,null,null,null,34,"Onondaga County (Except Town and Village of Skaneateles)",459349,0.1082,0.57609999999999995,0.31569999999999998,0.99999999999999989,-1.0177962102314616E-3,-1.0177962102314616E-4]
[null,null,null,null,null,null,null,null,null,null,null,null,null,null,null,null,null,null,null,null,null,null,null,null,null,null,null,null,null,null,null,null,null,null,null,null,null,null,null,null,null,null,null,null,null,null,null,null,null,null,null,null,null,null,null,null,null,null,null,null,null,null,null,null,35,"Ontario County ",112458,0.43059999999999998,0.56940000000000002,0,1,4.1943463879700923E-2,4.1943463879700925E-3]
[null,null,null,null,null,null,null,null,null,null,null,null,null,null,null,null,null,null,null,null,null,null,null,null,null,null,null,null,null,null,null,null,null,null,null,null,null,null,null,null,null,null,null,null,null,null,null,null,null,null,null,null,null,null,null,null,null,null,null,null,null,null,null,null,36,"Orange County",401310,0.30640000000000001,0.48670000000000002,0.2069,1,7.6437785163071037E-2,7.6437785163071034E-3]
[null,null,null,null,null,null,null,null,null,null,null,null,null,null,null,null,null,null,null,null,null,null,null,null,null,null,null,null,null,null,null,null,null,null,null,null,null,null,null,null,null,null,null,null,null,null,null,null,null,null,null,null,null,null,null,null,null,null,null,null,null,null,null,null,37,"Orleans County",40343,0.65559999999999996,0.34439999999999998,0,1,-5.9230930671827997E-2,-5.9230930671828001E-3]
[null,null,null,null,null,null,null,null,null,null,null,null,null,null,null,null,null,null,null,null,null,null,null,null,null,null,null,null,null,null,null,null,null,null,null,null,null,null,null,null,null,null,null,null,null,null,null,null,null,null,null,null,null,null,null,null,null,null,null,null,null,null,null,null,38,"Oswego County",117525,0.61170000000000002,0.35820000000000002,3.0099999999999998E-2,1,-3.7540230449843989E-2,-3.754023044984399E-3]
[null,null,null,null,null,null,null,null,null,null,null,null,null,null,null,null,null,null,null,null,null,null,null,null,null,null,null,null,null,null,null,null,null,null,null,null,null,null,null,null,null,null,null,null,null,null,null,null,null,null,null,null,null,null,null,null,null,null,null,null,null,null,null,null,39,"Otsego County",58524,0.61729999999999996,0.38269999999999998,0,1,-5.9991326555196837E-2,-5.9991326555196836E-3]
[null,null,null,null,null,null,null,null,null,null,null,null,null,null,null,null,null,null,null,null,null,null,null,null,null,null,null,null,null,null,null,null,null,null,null,null,null,null,null,null,null,null,null,null,null,null,null,null,null,null,null,null,null,null,null,null,null,null,null,null,null,null,null,null,40,"Putnam County",97668,0.32319999999999999,0.65280000000000005,2.4E-2,1,-2.0479390231671848E-2,-2.0479390231671847E-3]
[null,null,null,null,null,null,null,null,null,null,null,null,null,null,null,null,null,null,null,null,null,null,null,null,null,null,null,null,null,null,null,null,null,null,null,null,null,null,null,null,null,null,null,null,null,null,null,null,null,null,null,null,null,null,null,null,null,null,null,null,null,null,null,null,41,"Rockland County Solid Waste Management Authority (RCSWMA)",338329,2.9600000000000001E-2,0.6109,0.35949999999999999,1,8.5476776381433944E-2,8.5476776381433941E-3]
[null,null,null,null,null,null,null,null,null,null,null,null,null,null,null,null,null,null,null,null,null,null,null,null,null,null,null,null,null,null,null,null,null,null,null,null,null,null,null,null,null,null,null,null,null,null,null,null,null,null,null,null,null,null,null,null,null,null,null,null,null,null,null,null,42,"Saratoga County",235509,0.31590000000000001,0.65139999999999998,3.27E-2,1,7.2411170864316712E-2,7.2411170864316709E-3]
[null,null,null,null,null,null,null,null,null,null,null,null,null,null,null,null,null,null,null,null,null,null,null,null,null,null,null,null,null,null,null,null,null,null,null,null,null,null,null,null,null,null,null,null,null,null,null,null,null,null,null,null,null,null,null,null,null,null,null,null,null,null,null,null,43,"Schenectady County",158061,0.10539999999999999,0.4672,0.4274,1,2.154762904987494E-2,2.154762904987494E-3]
[null,null,null,null,null,null,null,null,null,null,null,null,null,null,null,null,null,null,null,null,null,null,null,null,null,null,null,null,null,null,null,null,null,null,null,null,null,null,null,null,null,null,null,null,null,null,null,null,null,null,null,null,null,null,null,null,null,null,null,null,null,null,null,null,44,"Schoharie County",29714,0.74460000000000004,0.25540000000000002,0,1,-9.2674585483526209E-2,-9.2674585483526212E-3]
[null,null,null,null,null,null,null,null,null,null,null,null,null,null,null,null,null,null,null,null,null,null,null,null,null,null,null,null,null,null,null,null,null,null,null,null,null,null,null,null,null,null,null,null,null,null,null,null,null,null,null,null,null,null,null,null,null,null,null,null,null,null,null,null,45,"Schuyler County",17898,0.76480000000000004,0.23519999999999999,0,1,-2.425993567028294E-2,-2.4259935670282941E-3]
[null,null,null,null,null,null,null,null,null,null,null,null,null,null,null,null,null,null,null,null,null,null,null,null,null,null,null,null,null,null,null,null,null,null,null,null,null,null,null,null,null,null,null,null,null,null,null,null,null,null,null,null,null,null,null,null,null,null,null,null,null,null,null,null,46,"Seneca County",33814,0.6099,0.3901,0,1,-4.076480099855323E-2,-4.0764800998553232E-3]
[null,null,null,null,null,null,null,null,null,null,null,null,null,null,null,null,null,null,null,null,null,null,null,null,null,null,null,null,null,null,null,null,null,null,null,null,null,null,null,null,null,null,null,null,null,null,null,null,null,null,null,null,null,null,null,null,null,null,null,null,null,null,null,null,47,"Steuben County",93584,0.53549999999999998,0.46450000000000002,0,1,-5.4611576926962321E-2,-5.4611576926962323E-3]
[null,null,null,null,null,null,null,null,null,null,null,null,null,null,null,null,null,null,null,null,null,null,null,null,null,null,null,null,null,null,null,null,null,null,null,null,null,null,null,null,null,null,null,null,null,null,null,null,null,null,null,null,null,null,null,null,null,null,null,null,null,null,null,null,48,"Sullivan County",78624,0.7278,0.2722,0,1,1.3888351580331929E-2,1.3888351580331928E-3]
[null,null,null,null,null,null,null,null,null,null,null,null,null,null,null,null,null,null,null,null,null,null,null,null,null,null,null,null,null,null,null,null,null,null,null,null,null,null,null,null,null,null,null,null,null,null,null,null,null,null,null,null,null,null,null,null,null,null,null,null,null,null,null,null,49,"Tioga County",48455,0.75370000000000004,0.24629999999999999,0,1,-5.2224938875305625E-2,-5.2224938875305629E-3]
[null,null,null,null,null,null,null,null,null,null,null,null,null,null,null,null,null,null,null,null,null,null,null,null,null,null,null,null,null,null,null,null,null,null,null,null,null,null,null,null,null,null,null,null,null,null,null,null,null,null,null,null,null,null,null,null,null,null,null,null,null,null,null,null,50,"Tompkins County",105740,0.42759999999999998,0.27679999999999999,0.29559999999999997,0.99999999999999989,4.1116931196093102E-2,4.1116931196093099E-3]
[null,null,null,null,null,null,null,null,null,null,null,null,null,null,null,null,null,null,null,null,null,null,null,null,null,null,null,null,null,null,null,null,null,null,null,null,null,null,null,null,null,null,null,null,null,null,null,null,null,null,null,null,null,null,null,null,null,null,null,null,null,null,null,null,51,"Town of Babylon",218223,7.0000000000000001E-3,0.35589999999999999,0.6371,1,2.1628909706324348E-2,2.1628909706324349E-3]
[null,null,null,null,null,null,null,null,null,null,null,null,null,null,null,null,null,null,null,null,null,null,null,null,null,null,null,null,null,null,null,null,null,null,null,null,null,null,null,null,null,null,null,null,null,null,null,null,null,null,null,null,null,null,null,null,null,null,null,null,null,null,null,null,52,"Town of Brookhaven",485773,4.5999999999999999E-3,0.95220000000000005,4.3200000000000002E-2,1,-5.4933750308616572E-4,-5.4933750308616572E-5]
[null,null,null,null,null,null,null,null,null,null,null,null,null,null,null,null,null,null,null,null,null,null,null,null,null,null,null,null,null,null,null,null,null,null,null,null,null,null,null,null,null,null,null,null,null,null,null,null,null,null,null,null,null,null,null,null,null,null,null,null,null,null,null,null,53,"Town of Colonie",114112,0,1,0,1,5.6465425458046718E-2,5.6465425458046715E-3]
[null,null,null,null,null,null,null,null,null,null,null,null,null,null,null,null,null,null,null,null,null,null,null,null,null,null,null,null,null,null,null,null,null,null,null,null,null,null,null,null,null,null,null,null,null,null,null,null,null,null,null,null,null,null,null,null,null,null,null,null,null,null,null,null,54,"Town of East Hampton",28385,0.45400000000000001,0.54600000000000004,0,1,0.32290000000000002,3.2289999999999999E-2]
[null,null,null,null,null,null,null,null,null,null,null,null,null,null,null,null,null,null,null,null,null,null,null,null,null,null,null,null,null,null,null,null,null,null,null,null,null,null,null,null,null,null,null,null,null,null,null,null,null,null,null,null,null,null,null,null,null,null,null,null,null,null,null,null,55,"Town of Hempstead",793409,0,8.7800000000000003E-2,0.91220000000000001,1,4.4293109507381967E-2,4.429310950738197E-3]
[null,null,null,null,null,null,null,null,null,null,null,null,null,null,null,null,null,null,null,null,null,null,null,null,null,null,null,null,null,null,null,null,null,null,null,null,null,null,null,null,null,null,null,null,null,null,null,null,null,null,null,null,null,null,null,null,null,null,null,null,null,null,null,null,56,"Town of Huntington",204127,0,0.83750000000000002,0.16250000000000001,1,4.2457100125944582E-3,4.2457100125944583E-4]
[null,null,null,null,null,null,null,null,null,null,null,null,null,null,null,null,null,null,null,null,null,null,null,null,null,null,null,null,null,null,null,null,null,null,null,null,null,null,null,null,null,null,null,null,null,null,null,null,null,null,null,null,null,null,null,null,null,null,null,null,null,null,null,null,57,"Town of North Hempstead Solid Waste Management Authority",174179,0,0.33779999999999999,0.66220000000000001,1,0.10777635738044812,1.0777635738044812E-2]
[null,null,null,null,null,null,null,null,null,null,null,null,null,null,null,null,null,null,null,null,null,null,null,null,null,null,null,null,null,null,null,null,null,null,null,null,null,null,null,null,null,null,null,null,null,null,null,null,null,null,null,null,null,null,null,null,null,null,null,null,null,null,null,null,58,"Town of Oyster Bay Solid Waste Disposal District",256326,0,0.40360000000000001,0.59640000000000004,1,1.8261702068494295E-2,1.8261702068494295E-3]
[null,null,null,null,null,null,null,null,null,null,null,null,null,null,null,null,null,null,null,null,null,null,null,null,null,null,null,null,null,null,null,null,null,null,null,null,null,null,null,null,null,null,null,null,null,null,null,null,null,null,null,null,null,null,null,null,null,null,null,null,null,null,null,null,59,"Town of Riverhead",35902,0.19989999999999999,0.80010000000000003,0,1,7.1509580373664422E-2,7.1509580373664422E-3]
[null,null,null,null,null,null,null,null,null,null,null,null,null,null,null,null,null,null,null,null,null,null,null,null,null,null,null,null,null,null,null,null,null,null,null,null,null,null,null,null,null,null,null,null,null,null,null,null,null,null,null,null,null,null,null,null,null,null,null,null,null,null,null,null,60,"Town of Shelter Island",3253,1,0,0,1,0.35994983277591974,3.5994983277591971E-2]
[null,null,null,null,null,null,null,null,null,null,null,null,null,null,null,null,null,null,null,null,null,null,null,null,null,null,null,null,null,null,null,null,null,null,null,null,null,null,null,null,null,null,null,null,null,null,null,null,null,null,null,null,null,null,null,null,null,null,null,null,null,null,null,null,61,"Town of Smithtown",116296,0,1,0,1,-1.2775782888090934E-2,-1.2775782888090933E-3]
[null,null,null,null,null,null,null,null,null,null,null,null,null,null,null,null,null,null,null,null,null,null,null,null,null,null,null,null,null,null,null,null,null,null,null,null,null,null,null,null,null,null,null,null,null,null,null,null,null,null,null,null,null,null,null,null,null,null,null,null,null,null,null,null,62,"Town of Southampton",69036,0.1608,0.83919999999999995,0,1,0.21563655573164289,2.1563655573164288E-2]
[null,null,null,null,null,null,null,null,null,null,null,null,null,null,null,null,null,null,null,null,null,null,null,null,null,null,null,null,null,null,null,null,null,null,null,null,null,null,null,null,null,null,null,null,null,null,null,null,null,null,null,null,null,null,null,null,null,null,null,null,null,null,null,null,63,"Town of Southold (Except Fishers Island)",23607,6.5600000000000006E-2,0.93440000000000001,0,1,8.6278299282164544E-2,8.6278299282164551E-3]
[null,null,null,null,null,null,null,null,null,null,null,null,null,null,null,null,null,null,null,null,null,null,null,null,null,null,null,null,null,null,null,null,null,null,null,null,null,null,null,null,null,null,null,null,null,null,null,null,null,null,null,null,null,null,null,null,null,null,null,null,null,null,null,null,64,"Ulster County Resource Recovery Agency (UCRRA)",181851,0.53239999999999998,0.46760000000000002,0,1,-3.5179431539839883E-3,-3.517943153983988E-4]
[null,null,null,null,null,null,null,null,null,null,null,null,null,null,null,null,null,null,null,null,null,null,null,null,null,null,null,null,null,null,null,null,null,null,null,null,null,null,null,null,null,null,null,null,null,null,null,null,null,null,null,null,null,null,null,null,null,null,null,null,null,null,null,null,65,"Warren County",65737,0.49049999999999999,0.50949999999999995,0,1,4.5657235910937953E-4,4.5657235910937954E-5]
[null,null,null,null,null,null,null,null,null,null,null,null,null,null,null,null,null,null,null,null,null,null,null,null,null,null,null,null,null,null,null,null,null,null,null,null,null,null,null,null,null,null,null,null,null,null,null,null,null,null,null,null,null,null,null,null,null,null,null,null,null,null,null,null,66,"Washington County",61302,0.68300000000000005,0.317,0,{"$f":"SUM(BP77:BR77)","v":1},-3.0277145026575549E-2,{"$f":"BT77/10","v":-3.0277145026575548E-3}]
[null,null,null,null,null,null,null,null,null,null,null,null,null,null,null,null,null,null,null,null,null,null,null,null,null,null,null,null,null,null,null,null,null,null,null,null,null,null,null,null,null,null,null,null,null,null,null,null,null,null,null,null,null,null,null,null,null,null,null,null,null,null,null,null,67,"Wayne County",91283,0.6,0.4,0,{"$f":"SUM(BP78:BR78)","v":1},-2.6543104551465257E-2,{"$f":"BT78/10","v":-2.6543104551465255E-3}]
[null,null,null,null,null,null,null,null,null,null,null,null,null,null,null,null,null,null,null,null,null,null,null,null,null,null,null,null,null,null,null,null,null,null,null,null,null,null,null,null,null,null,null,null,null,null,null,null,null,null,null,null,null,null,null,null,null,null,null,null,null,null,null,null,68,"Westchester County",1004457,9.4000000000000004E-3,0.41399999999999998,0.5766,{"$f":"SUM(BP79:BR79)","v":1},5.8311286432700851E-2,{"$f":"BT79/10","v":5.8311286432700853E-3}]
[null,null,null,null,null,null,null,null,null,null,null,null,null,null,null,null,null,null,null,null,null,null,null,null,null,null,null,null,null,null,null,null,null,null,null,null,null,null,null,null,null,null,null,null,null,null,null,null,null,null,null,null,null,null,null,null,null,null,null,null,null,null,null,null,69,"Yates County",24774,0.65310000000000001,0.34689999999999999,0,{"$f":"SUM(BP80:BR80)","v":1},-2.2644784598390404E-2,{"$f":"BT80/10","v":-2.2644784598390404E-3}]
[]
[null,null,null,null,null,null,null,null,null,null,null,null,null,null,null,null,null,null,null,null,null,null,null,null,null,null,null,null,null,null,null,null,null,null,null,null,null,null,null,null,null,null,null,null,null,null,null,null,null,null,null,null,null,null,null,null,null,null,null,null,null,null,null,null,null,null,"Projected Populations (based on Cornell)"]
[null,null,null,null,null,null,null,null,null,null,null,null,null,null,null,null,null,null,null,null,null,null,null,null,null,null,null,null,null,null,null,null,null,null,null,null,null,null,null,null,null,null,null,null,null,null,null,null,null,null,null,null,null,null,null,null,null,null,null,null,null,null,null,null,null,"Planning Unit","% Change 2010-2020","Annual % Change",{"$f":"BO11","v":"Population (2020)"},2018,2019,"Population (2020)",2021,2022,2023,2024,2026,2027,2028,2029,2030,2031,2032,2033,2034,2035,2036,2037,2038]
[null,null,null,null,null,null,null,null,null,null,null,null,null,null,null,null,null,null,null,null,null,null,null,null,null,null,null,null,null,null,null,null,null,null,null,null,null,null,null,null,null,null,null,null,null,null,null,null,null,null,null,null,null,null,null,null,null,null,null,null,null,null,null,null,null,"Allegany County",{"$f":"BT12","v":-5.0872389980795164E-2},{"$f":"BO84/10","v":-5.0872389980795166E-3},{"$f":"BO12","v":46456},46332,46091,46456,{"$f":"(BT84+(BT84*BP84))","v":46219.667225105215},{"$f":"(BU84+(BU84*$BP84))","v":45984.536731519402},{"$f":"(BV84+(BV84*$BP84))","v":45750.602402950193},45517.858154220274,{"$f":"(BX84+(BX84*$BP84))","v":45286.297931109075},45055.915710195288,44826.705498700197,44598.661334331788,44371.777285129632,44146.047449310623,43921.465955115418,43698.026960655734,43475.724653762358,43254.553251833968,43034.507001686732,42815.580179404627,{"$f":"(CJ84+(CJ84*$BP84))","v":42597.767090190559}]
[null,null,null,null,null,null,null,null,null,null,null,null,null,null,null,null,null,null,null,null,null,null,null,null,null,null,null,null,null,null,null,null,null,null,null,null,null,null,null,null,null,null,null,null,null,null,null,null,null,null,null,null,null,null,null,null,null,null,null,null,null,null,null,null,null,"Broome County",{"$f":"BT13","v":-9.5563310069790627E-3},{"$f":"BO85/10","v":-9.5563310069790629E-4},{"$f":"BO13","v":198683},191925,190488,198683,{"$f":"(BT85+(BT85*BP85))","v":198493.13194865405},{"$f":"(BU85+(BU85*$BP85))","v":198303.44534150272},198113.94000515193,197924.61576637332,197735.47245210406,{"$f":"(BY85+(BY85*$BP85))","v":197546.50988944669},197357.72790566899,197169.1263282038,196980.70498464888,196792.46370276675,196604.4023104845,196416.52063589366,196228.81850725008,196041.2957529737,195853.95220164844,195666.78768202203,195479.80202300585]
[null,null,null,null,null,null,null,null,null,null,null,null,null,null,null,null,null,null,null,null,null,null,null,null,null,null,null,null,null,null,null,null,null,null,null,null,null,null,null,null,null,null,null,null,null,null,null,null,null,null,null,null,null,null,null,null,null,null,null,null,null,null,null,null,"*","Capital Region Solid Waste Management Partnership (CRSWMP)",2.2363234841919884E-2,2.2363234841919883E-3,219438,{"$f":"(BS86-(BS86*$BP86))","v":218457.62873530923},{"$f":"(BT86-(BT86*$BP86))","v":218947.26564727587},219438,219928.73435272413,220420.56614620576,220913.4978346774,221407.53187786008,221902.67074097553,{"$f":"(BY86+(BY86*$BP86))","v":222398.9168947585},222896.2728154691,223394.74098490519,223894.32389041473,224395.02402490814,224896.84388687086,225399.78598037572,225903.85281509548,226409.04690631534,226915.37077494545,227422.82694753358,227931.41795627767]
[null,null,null,null,null,null,null,null,null,null,null,null,null,null,null,null,null,null,null,null,null,null,null,null,null,null,null,null,null,null,null,null,null,null,null,null,null,null,null,null,null,null,null,null,null,null,null,null,null,null,null,null,null,null,null,null,null,null,null,null,null,null,null,null,null,"Cattaraugus County",-4.0775925395619854E-2,-4.077592539561985E-3,77042,76726,76117,77042,{"$f":"(BT87+(BT87*BP87))","v":76727.854115567068},76414.989190048829,76103.400000216774,75793.081344140592,75484.028041101308,{"$f":"(BY87+(BY87*$BP87))","v":75176.23493150482},74869.696876795759,74564.408759371669,74260.365482497611,73957.561970221039,73655.993167287073,73355.654039054119,73056.539571409783,72758.644770687184,72461.964663581588,72166.494297067358,71872.228738315287]
[null,null,null,null,null,null,null,null,null,null,null,null,null,null,null,null,null,null,null,null,null,null,null,null,null,null,null,null,null,null,null,null,null,null,null,null,null,null,null,null,null,null,null,null,null,null,null,null,null,null,null,null,null,null,null,null,null,null,null,null,null,null,null,null,null,"Cayuga County",-4.7209656861520004E-2,-4.7209656861520004E-3,76248,77121,76576,76248,75888.035808362285,75529.770995321538,75173.197538169712,74818.307452073685,74465.092789896473,{"$f":"(BY88+(BY88*$BP88))","v":74113.545642019249},73763.658136164217,73415.422437218338,73068.830747057873,72723.875304373767,72380.548384497815,72038.842299229742,71698.749396664964,71360.262061023299,71023.372712478391,70688.073806988003,70354.357836125026]
[null,null,null,null,null,null,null,null,null,null,null,null,null,null,null,null,null,null,null,null,null,null,null,null,null,null,null,null,null,null,null,null,null,null,null,null,null,null,null,null,null,null,null,null,null,null,null,null,null,null,null,null,null,null,null,null,null,null,null,null,null,null,null,null,null,"Chautauqua County",-5.3726696564248916E-2,-5.3726696564248919E-3,127657,127472,126903,127657,126971.14110966977,126288.9671125882,125610.45821104116,124935.59471368107,124264.35703495548,{"$f":"(BY89+(BY89*$BP89))","v":123596.72569453862},122932.6813167661,122272.20463007256,121615.27646643239,120961.87776080347,120311.98955057382,119665.59297501134,119022.66927471641,118383.19979107744,117747.16596572944,117114.54934001534,116485.33155445036]
[null,null,null,null,null,null,null,null,null,null,null,null,null,null,null,null,null,null,null,null,null,null,null,null,null,null,null,null,null,null,null,null,null,null,null,null,null,null,null,null,null,null,null,null,null,null,null,null,null,null,null,null,null,null,null,null,null,null,null,null,null,null,null,null,null,"Chemung County",-5.2707418664865474E-2,-5.2707418664865472E-3,84148,83935,83456,84148,83704.477613418887,83263.29291884946,82824.433594920542,82387.887385203765,81953.642097871198,{"$f":"(BY90+(BY90*$BP90))","v":81521.685605354898},81092.005844008207,80664.590813768824,80239.428577823681,79816.507262275583,79395.815055811574,78977.340209373084,78561.071035827787,78146.995909643229,77735.103266562117,77325.381603279398,76917.819477120938]
[null,null,null,null,null,null,null,null,null,null,null,null,null,null,null,null,null,null,null,null,null,null,null,null,null,null,null,null,null,null,null,null,null,null,null,null,null,null,null,null,null,null,null,null,null,null,null,null,null,null,null,null,null,null,null,null,null,null,null,null,null,null,null,null,null,"Chenango County",-6.4524436872238841E-2,-6.4524436872238841E-3,47220,47445,47207,47220,46915.315609089288,46612.597177053307,46311.83201865312,46013.007530500588,45716.111190530224,{"$f":"(BY91+(BY91*$BP91))","v":45421.130557474462},45128.053270342316,44836.867047901389,44547.559688163259,44260.11906787214,43974.533141996872,43690.789943226177,43408.877581467183,43128.784243347167,42850.498191718543,42574.007765166993,42299.301377522817]
[null,null,null,null,null,null,null,null,null,null,null,null,null,null,null,null,null,null,null,null,null,null,null,null,null,null,null,null,null,null,null,null,null,null,null,null,null,null,null,null,null,null,null,null,null,null,null,null,null,null,null,null,null,null,null,null,null,null,null,null,null,null,null,null,null,"City of Glen Cove",5.1958166444147753E-2,5.1958166444147757E-3,28365,27218,27166,28365,28512.379339118826,28660.524434260889,28809.43926415408,28959.127828199027,29109.594146576517,{"$f":"(BY92+(BY92*$BP92))","v":29260.842260355457},29412.876231601407,29565.700143485672,29719.318100394972,29873.734228041663,30028.952673574546,30184.977605690248,30341.81321474518,30499.463712868077,30657.933334073121,30817.226334373656,30977.346991896491]
[null,null,null,null,null,null,null,null,null,null,null,null,null,null,null,null,null,null,null,null,null,null,null,null,null,null,null,null,null,null,null,null,null,null,null,null,null,null,null,null,null,null,null,null,null,null,null,null,null,null,null,null,null,null,null,null,null,null,null,null,null,null,null,null,null,"City of Long Beach",5.2712246431254696E-2,5.2712246431254692E-3,35029,33497,33454,35029,35213.645728024043,35399.264765159896,35585.862241938528,35773.443315935103,35962.013171911509,{"$f":"(BY93+(BY93*$BP93))","v":36151.577021959689},36342.140105645689,36533.707690154486,36726.285070435573,36919.877569349301,37114.490537814032,37310.129354954006,37506.799428248036,37704.506193678979,37903.255115883978,38103.051688305495,38303.901433343177]
[null,null,null,null,null,null,null,null,null,null,null,null,null,null,null,null,null,null,null,null,null,null,null,null,null,null,null,null,null,null,null,null,null,null,null,null,null,null,null,null,null,null,null,null,null,null,null,null,null,null,null,null,null,null,null,null,null,null,null,null,null,null,null,null,null,"Clinton County",-2.7822423533995715E-2,-2.7822423533995716E-3,79843,80679,80485,79843,79620.857423777517,79399.332902039096,79178.424715207366,78958.13114848925,78738.450491862648,{"$f":"(BY94+(BY94*$BP94))","v":78519.381040063134},78300.921092570745,78083.068953596798,77865.822932070689,77649.181341626769,77433.14250059129,77217.704731969323,77002.866363431734,76788.625727302235,76574.981160544383,76361.931004748738,76149.473606119951]
[null,null,null,null,null,null,null,null,null,null,null,null,null,null,null,null,null,null,null,null,null,null,null,null,null,null,null,null,null,null,null,null,null,null,null,null,null,null,null,null,null,null,null,null,null,null,null,null,null,null,null,null,null,null,null,null,null,null,null,null,null,null,null,null,null,"Columbia County ",-2.2578438080344054E-2,-2.2578438080344053E-3,60016,59785,59461,60016,59880.493246017009,59745.292445119441,59610.396906513022,59475.805940963175,59341.518860791519,{"$f":"(BY95+(BY95*$BP95))","v":59207.534979872325},59073.853613629042,58940.474079030777,58807.395694588828,58674.617780353168,58542.139657909014,58409.960650373316,58278.080082391338,58146.497280133175,58015.21157129034,57884.222285072297,57753.528752203063]
[null,null,null,null,null,null,null,null,null,null,null,null,null,null,null,null,null,null,null,null,null,null,null,null,null,null,null,null,null,null,null,null,null,null,null,null,null,null,null,null,null,null,null,null,null,null,null,null,null,null,null,null,null,null,null,null,null,null,null,null,null,null,null,null,null,"Cortland County",-5.1220204313280365E-2,-5.1220204313280364E-3,46809,477.22,47581,46809,46569.24334562997,46330.714729742169,46093.407862298402,45857.316485478172,45622.434373513679,{"$f":"(BY96+(BY96*$BP96))","v":45388.755332525616},45156.273200359872,44924.981846424998,44694.87517153057,44465.947107726337,44238.191618142213,44011.602696829083,43786.174368600434,43561.900688874768,43338.775743518869,43116.793648691819,42895.948550689864]
[null,null,null,null,null,null,null,null,null,null,null,null,null,null,null,null,null,null,null,null,null,null,null,null,null,null,null,null,null,null,null,null,null,null,null,null,null,null,null,null,null,null,null,null,null,null,null,null,null,null,null,null,null,null,null,null,null,null,null,null,null,null,null,null,null,"County of Franklin Solid Waste Management Authority (CFSWMA)",-7.8373611891703332E-2,-7.8373611891703332E-3,47555,50279,50022,47555,47182.294288649005,46812.509606575135,46445.623060616897,46081.611937034781,45720.453700105056,{"$f":"(BY97+(BY97*$BP97))","v":45362.125990724591},45006.60662502663,44653.873593007389,44303.905057163436,43956.679351139734,43612.174978388306,43270.370610837381,42931.245087570984,42594.777413518896,42260.946758156831,41929.732454216857,41601.113996407883]
[null,null,null,null,null,null,null,null,null,null,null,null,null,null,null,null,null,null,null,null,null,null,null,null,null,null,null,null,null,null,null,null,null,null,null,null,null,null,null,null,null,null,null,null,null,null,null,null,null,null,null,null,null,null,null,null,null,null,null,null,null,null,null,null,null,"Delaware County",-7.6531888286786157E-2,-7.6531888286786153E-3,44308,44526,44135,44308,43968.90250937891,43632.400195884875,43298.473198137297,42967.101806758474,42638.26646321029,{"$f":"(BY98+(BY98*$BP98))","v":42311.947758639828},41988.12643273377,41666.783372581624,41347.899611547611,41031.456328151187,40717.434844956166,40405.816627468295,40096.58328304132,39789.71655979137,39485.19834551969,39183.010666643597,38883.135687135647]
[null,null,null,null,null,null,null,null,null,null,null,null,null,null,null,null,null,null,null,null,null,null,null,null,null,null,null,null,null,null,null,null,null,null,null,null,null,null,null,null,null,null,null,null,null,null,null,null,null,null,null,null,null,null,null,null,null,null,null,null,null,null,null,null,null,"Development Authority of the North Country (DANC)",-1.352346626968581E-2,-1.3523466269685809E-3,251808,{"$f":"(BS99-(BS99*$BP99))","v":252489.52391578251},{"$f":"(BT99-(BT99*$BP99))","v":252148.5316994437},251808,251467.4683005563,251127.39711800771,250787.78582957576,250448.63381332421,250109.94044815787,{"$f":"(BY99+(BY99*$BP99))","v":249771.70511382149},249433.92719089863,249096.60606081047,248759.74110581481,248423.33170900479,248087.37725430782,247751.87712648447,247416.83071112735,247082.2373946599,246748.09656433537,246414.40760823566,246081.16991527021]
[null,null,null,null,null,null,null,null,null,null,null,null,null,null,null,null,null,null,null,null,null,null,null,null,null,null,null,null,null,null,null,null,null,null,null,null,null,null,null,null,null,null,null,null,null,null,null,null,null,null,null,null,null,null,null,null,null,null,null,null,null,null,null,null,null,"Dutchess County",-5.3010541601678047E-3,-5.3010541601678049E-4,295911,2939.39,294218,295911,295754.13597624109,295597.35510695074,295440.65734804829,295284.04265547654,295127.51098520157,{"$f":"(BY100+(BY100*$BP100))","v":294971.06229321274},294814.69653552287,294658.41366816807,294502.21364720765,294346.09642872436,294190.06196882407,294034.11022363609,293878.24114931287,293722.45470203011,293566.75083798682,293411.12951340515,293255.5906845305]
[null,null,null,null,null,null,null,null,null,null,null,null,null,null,null,null,null,null,null,null,null,null,null,null,null,null,null,null,null,null,null,null,null,null,null,null,null,null,null,null,null,null,null,null,null,null,null,null,null,null,null,null,null,null,null,null,null,null,null,null,null,null,null,null,null,"Eastern Rensselaer County Solid Waste Management Authority (ERCSWMA)",-5.4553998632946001E-2,-5.4553998632946004E-3,22131,22553,23069,22131,22010.266545625429,21890.191740521346,21770.771991492613,21652.003724946408,21533.883386785281,{"$f":"(BY101+(BY101*$BP101))","v":21416.40744230081},21299.572376067819,21183.374691839184,21067.810912441208,20952.877579669559,20838.571254185801,20724.888515414463,20611.825961440674,20499.38020890838,20387.547892919076,20276.325666931134,20165.71020265964]
[null,null,null,null,null,null,null,null,null,null,null,null,null,null,null,null,null,null,null,null,null,null,null,null,null,null,null,null,null,null,null,null,null,null,null,null,null,null,null,null,null,null,null,null,null,null,null,null,null,null,null,null,null,null,null,null,null,null,null,null,null,null,null,null,null,"Essex County",-5.0368300736601472E-2,-5.0368300736601474E-3,37387,37288,36885,37387,37198.688034036066,37011.324563445531,36824.904810818371,36639.424022807565,36454.877470007901,{"$f":"(BY102+(BY102*$BP102))","v":36271.260446835367},36088.568271407188,35906.796285422424,35725.939854043223,35545.994365776605,35366.955232356908,35188.817888628779,35011.577792430784,34835.230424479574,34659.771288254677,34485.195909883812,34311.499838028845]
[null,null,null,null,null,null,null,null,null,null,null,null,null,null,null,null,null,null,null,null,null,null,null,null,null,null,null,null,null,null,null,null,null,null,null,null,null,null,null,null,null,null,null,null,null,null,null,null,null,null,null,null,null,null,null,null,null,null,null,null,null,null,null,null,null,"Fishers Island Waste Management District",-0.47033898305084748,-4.7033898305084747E-2,125,183,125,125,119.1207627118644,113.51804887245044,108.17885250599196,103.09077935846437,98.242018125926435,{"$f":"(BY103+(BY103*$BP103))","v":93.62131303610532},89.217937719576639,85.021670309884684,81.022769714801129,77.211953003638868,73.580373858128738,70.119602036835389,66.821603805441853,63.678723287474035,60.683664692173352,57.829475378261812,55.109529714284243]
[null,null,null,null,null,null,null,null,null,null,null,null,null,null,null,null,null,null,null,null,null,null,null,null,null,null,null,null,null,null,null,null,null,null,null,null,null,null,null,null,null,null,null,null,null,null,null,null,null,null,null,null,null,null,null,null,null,null,null,null,null,null,null,null,null,"Fulton County",-3.9743566656462156E-2,-3.9743566656462153E-3,53324,53633,53383,53324,53112.071405161085,52900.985090145703,52690.737707433429,52481.325922808071,52272.746415304806,{"$f":"(BY104+(BY104*$BP104))","v":52064.995877157504},51858.071013746281,51651.968543545241,51446.685198070452,51242.217721828099,51038.562872262861,50835.717419706481,50633.678147326566,50432.441851075549,50232.005339639909,50032.365434389532,49833.518969327321]
[null,null,null,null,null,null,null,null,null,null,null,null,null,null,null,null,null,null,null,null,null,null,null,null,null,null,null,null,null,null,null,null,null,null,null,null,null,null,null,null,null,null,null,null,null,null,null,null,null,null,null,null,null,null,null,null,null,null,null,null,null,null,null,null,null,"GLOW Region Solid Waste Management Committee",-4.1007713554498976E-2,-4.1007713554498974E-3,160753,160723,160053,160753,160093.78870229737,159437.28067940153,158783.46484580063,158132.33016144187,157483.86563154528,{"$f":"(BY105+(BY105*$BP105))","v":156838.06030641793},156194.90328126904,155554.38369602594,154916.49073515061,154281.21362745709,153648.54164592957,153018.46410754128,152390.97037307415,151766.04984693901,151143.6919769969,150523.88625438069,149906.62221331772]
[null,null,null,null,null,null,null,null,null,null,null,null,null,null,null,null,null,null,null,null,null,null,null,null,null,null,null,null,null,null,null,null,null,null,null,null,null,null,null,null,null,null,null,null,null,null,null,null,null,null,null,null,null,null,null,null,null,null,null,null,null,null,null,null,null,"Greene County",-2.6208325714633999E-2,-2.6208325714634001E-3,47931,47381,47188,47931,47805.380874017188,47680.090974731349,47555.129439294433,47430.495407119772,47306.18801987615,{"$f":"(BY106+(BY106*$BP106))","v":47182.206421481889},47058.549758098961,46935.217178127103,46812.207832197957,46689.520873169218,46567.155456118795,46445.110738338997,46323.385879330737,46201.980040797716,46080.892386640691,45960.122082951682,45839.668298008248]
[null,null,null,null,null,null,null,null,null,null,null,null,null,null,null,null,null,null,null,null,null,null,null,null,null,null,null,null,null,null,null,null,null,null,null,null,null,null,null,null,null,null,null,null,null,null,null,null,null,null,null,null,null,null,null,null,null,null,null,null,null,null,null,null,null,"Hamilton County",5.6038047973531846E-2,5.6038047973531848E-3,5107,4432,4416,5107,5135.6186311000829,5164.3976354224178,5193.3379116672377,5222.440363570915,5251.7058999341843,{"$f":"(BY107+(BY107*$BP107))","v":5281.1354346505232},5310.7298867346899,5340.4901803514203,5370.4172448442914,5400.5120147647385,5430.7754299012404,5461.2084353086684,5491.8119813377971,5522.5870236649798,5553.5345233219941,5584.6554467260521,5615.9507657099803]
[null,null,null,null,null,null,null,null,null,null,null,null,null,null,null,null,null,null,null,null,null,null,null,null,null,null,null,null,null,null,null,null,null,null,null,null,null,null,null,null,null,null,null,null,null,null,null,null,null,null,null,null,null,null,null,null,null,null,null,null,null,null,null,null,null,"Islip Resource Recovery Agency",1.3098172216377633E-2,1.3098172216377633E-3,339938,330619,329610,339938,340383.25664668909,340829.09649820207,341275.52031843067,341722.52887226717,342170.12292560568,{"$f":"(BY108+(BY108*$BP108))","v":342618.30324534356},343067.07059938263,343516.42575663049,343966.36948700197,344416.90256142028,344868.02575181838,345319.73983114032,345772.04557334265,346224.94375339552,346678.4351472843,347132.52053201065,347587.200685594]
[null,null,null,null,null,null,null,null,null,null,null,null,null,null,null,null,null,null,null,null,null,null,null,null,null,null,null,null,null,null,null,null,null,null,null,null,null,null,null,null,null,null,null,null,null,null,null,null,null,null,null,null,null,null,null,null,null,null,null,null,null,null,null,null,null,"Madison County",-7.388143024427439E-2,-7.388143024427439E-3,68016,71117,70941,68016,67513.488064050543,67014.68875815536,66519.574652872616,66028.118521413111,65540.293338143063,{"$f":"(BY109+(BY109*$BP109))","v":65056.072277097934},64575.428710507244,64098.3362073303,63624.768531802707,63154.699641993655,62688.103688373849,62224.955012394006,61765.228145073874,61308.897805601679,60855.938899943889,60406.326519465285,59960.03593955921]
[null,null,null,null,null,null,null,null,null,null,null,null,null,null,null,null,null,null,null,null,null,null,null,null,null,null,null,null,null,null,null,null,null,null,null,null,null,null,null,null,null,null,null,null,null,null,null,null,null,null,null,null,null,null,null,null,null,null,null,null,null,null,null,null,"*","Monroe County ",2.0284975763894115E-2,2.0284975763894117E-3,759443,742864,741770,759443,760983.52828490594,762527.18152770412,764073.96606736409,765623.88825571397,767176.95445746649,{"$f":"(BY110+(BY110*$BP110))","v":768733.17105024529},770292.54442461091,771855.08098408708,773420.78714518715,774989.6693374404,776561.73400341824,778136.98759876098,779715.43659220403,781297.08746560477,782881.94671396888,784470.02084547724,786061.31638151244]
[null,null,null,null,null,null,null,null,null,null,null,null,null,null,null,null,null,null,null,null,null,null,null,null,null,null,null,null,null,null,null,null,null,null,null,null,null,null,null,null,null,null,null,null,null,null,null,null,null,null,null,null,null,null,null,null,null,null,null,null,null,null,null,null,null,"Montgomery County",-1.368008124415062E-2,-1.368008124415062E-3,49532,493.94,49221,49532,49464.239821581476,49396.57233963754,49328.997427358656,49261.514958108783,49194.124805425097,{"$f":"(BY111+(BY111*$BP111))","v":49126.826843017785},49059.620944769806,48992.506984736639,48925.484837146061,48858.5543763979,48791.715477063815,48724.968013887046,48658.311861782182,48591.746895834942,48525.272991301921,48458.890023610358,48392.597868357923]
[null,null,null,null,null,null,null,null,null,null,null,null,null,null,null,null,null,null,null,null,null,null,null,null,null,null,null,null,null,null,null,null,null,null,null,null,null,null,null,null,null,null,null,null,null,null,null,null,null,null,null,null,null,null,null,null,null,null,null,null,null,null,null,null,null,"New York City",7.6947616632047453E-2,7.6947616632047451E-3,8804190,{"$f":"(BS112-(BS112*$BP112))","v":8669219.0030541364},{"$f":"(BT112-(BT112*$BP112))","v":8736443.8563124295},8804190,8871936.1436875705,8940203.5778044183,9008996.3135561533,9078318.393013658,9148173.8893505856,{"$f":"(BY112+(BY112*$BP112))","v":9218566.9070826918},9289501.5823090002,9360982.0829548314,9433012.6090166979,9505597.3928090874,9578740.6992131341,9652446.8259272184,9726720.1037194859,9801564.896682309,9876985.6024887133,9952986.6526507679,10029572.512779973]
[null,null,null,null,null,null,null,null,null,null,null,null,null,null,null,null,null,null,null,null,null,null,null,null,null,null,null,null,null,null,null,null,null,null,null,null,null,null,null,null,null,null,null,null,null,null,null,null,null,null,null,null,null,null,null,null,null,null,null,null,null,null,null,null,null,"Niagara County",-1.7568335419852265E-2,-1.7568335419852264E-3,212666,210060,209281,212666,212292.38123796016,211919.41886189338,211547.1117186388,211175.45865706139,210804.45852804856,{"$f":"(BY113+(BY113*$BP113))","v":210434.11018450645},210064.4124813565,209695.36427553184,209326.96442597377,208959.21179362826,208592.10524144242,208225.64363436095,207859.82583932264,207494.65072525691,207130.11716308029,206766.22402569285,206402.97018797489]
[null,null,null,null,null,null,null,null,null,null,null,null,null,null,null,null,null,null,null,null,null,null,null,null,null,null,null,null,null,null,null,null,null,null,null,null,null,null,null,null,null,null,null,null,null,null,null,null,null,null,null,null,null,null,null,null,null,null,null,null,null,null,null,null,null,"Northeast-Southtowns Solid Waste Management Board (NEST)",2.470630922705018E-2,2.470630922705018E-3,434912,427813,427466,434912,435986.50703585549,437063.66878202045,438143.49179730419,439225.98265672056,440311.14795152773,{"$f":"(BY114+(BY114*$BP114))","v":441398.99428926851},442489.52829381049,443582.75660538633,444678.68588063435,445777.32279263885,446878.67403097101,447982.74630172935,449089.5463275807,450199.08084780117,451311.35661831714,452426.38041174633,453544.15901743912]
[null,null,null,null,null,null,null,null,null,null,null,null,null,null,null,null,null,null,null,null,null,null,null,null,null,null,null,null,null,null,null,null,null,null,null,null,null,null,null,null,null,null,null,null,null,null,null,null,null,null,null,null,null,null,null,null,null,null,null,null,null,null,null,null,null,"Northwest Communities Solid Waste Management Board (NWCB)",3.1593911085954274E-2,3.1593911085954275E-3,238749,234109,233922,238749,239503.30146778605,240259.98606892262,241019.06133266003,241780.53481203647,242544.41408395307,{"$f":"(BY115+(BY115*$BP115))","v":243310.7067492494},244079.42043277904,244850.56278348548,245624.14147447821,246400.16420310907,247178.63869104884,247959.57268436404,248742.97395359413,249528.8502938287,250317.20952478505,251108.05949088608,251901.40806133824]
[null,null,null,null,null,null,null,null,null,null,null,null,null,null,null,null,null,null,null,null,null,null,null,null,null,null,null,null,null,null,null,null,null,null,null,null,null,null,null,null,null,null,null,null,null,null,null,null,null,null,null,null,null,null,null,null,null,null,null,null,null,null,null,null,"*","Oneida-Herkimer Solid Waste Authority (OHSWA)",-2.3824554020247364E-2,-2.3824554020247363E-3,292264,{"$f":"(BS116-(BS116*BP116))","v":293658.27080909634},{"$f":"(BT116-(BT116*BP116))","v":292960.30594561738},292264,291567.69405438262,290873.04702662688,290180.05496443488,289488.71392492502,{"$f":"(BX116+(BX116*$BP116))","v":288799.01997460937},{"$f":"(BY116+(BY116*$BP116))","v":288110.96918937139},287424.5576544436,286739.78146438522,286056.63672305999,285375.1195436141,284695.22604845394,284016.95236922416,283340.29464678548,282665.24903119297,281991.81168167392,281319.97876660619,280649.74646349618]
[null,null,null,null,null,null,null,null,null,null,null,null,null,null,null,null,null,null,null,null,null,null,null,null,null,null,null,null,null,null,null,null,null,null,null,null,null,null,null,null,null,null,null,null,null,null,null,null,null,null,null,null,null,null,null,null,null,null,null,null,null,null,null,null,null,"Onondaga County (Except Town and Village of Skaneateles)",-1.0177962102314616E-3,-1.0177962102314616E-4,459349,461649,460528,459349,459302.24763286265,459255.50002416351,459208.75717341824,459162.01908014261,459115.28574385238,{"$f":"(BY117+(BY117*$BP117))","v":459068.55716406344},459021.83334029163,458975.11427205289,458928.39995886321,458881.69040023861,458834.98559569521,458788.28554474912,458741.59024691652,458694.89970171364,458648.21390865673,458601.53286726214,458554.85657704627]
[null,null,null,null,null,null,null,null,null,null,null,null,null,null,null,null,null,null,null,null,null,null,null,null,null,null,null,null,null,null,null,null,null,null,null,null,null,null,null,null,null,null,null,null,null,null,null,null,null,null,null,null,null,null,null,null,null,null,null,null,null,null,null,null,null,"Ontario County ",4.1943463879700923E-2,4.1943463879700925E-3,112458,109738,109777,112458,112929.68780609834,113403.35403424244,113879.00698261966,114356.65498422283,114836.30640699624,{"$f":"(BY118+(BY118*$BP118))","v":115317.96965398225},115801.65316346847,116287.36540913563,116775.114900206,117264.91018159247,117756.75983404827,118250.67247431727,118746.65675528496,119244.72136613002,119744.87503247654,120247.12651654694,120751.48461731539]
[null,null,null,null,null,null,null,null,null,null,null,null,null,null,null,null,null,null,null,null,null,null,null,null,null,null,null,null,null,null,null,null,null,null,null,null,null,null,null,null,null,null,null,null,null,null,null,null,null,null,null,null,null,null,null,null,null,null,null,null,null,null,null,null,null,"Orange County",7.6437785163071037E-2,7.6437785163071034E-3,401310,382126,384940,401310,404377.52475637919,407468.49699258944,410583.09593597334,413721.5021838476,416883.89771397482,{"$f":"(BY119+(BY119*$BP119))","v":420070.46589511528},423281.3914976595,426516.8607043419,429777.06112103647,433062.18178763508,436372.41318900848,439707.94726605172,443068.97742681345,446455.69855771068,449868.30703482899,453307.00073530927,456771.97904882143]
[null,null,null,null,null,null,null,null,null,null,null,null,null,null,null,null,null,null,null,null,null,null,null,null,null,null,null,null,null,null,null,null,null,null,null,null,null,null,null,null,null,null,null,null,null,null,null,null,null,null,null,null,null,null,null,null,null,null,null,null,null,null,null,null,null,"Orleans County",-5.9230930671827997E-2,-5.9230930671828001E-3,40343,40655,40352,40343,40104.044656390644,39866.504667520385,39630.371650111381,39395.637270540727,39162.293244546338,{"$f":"(BY120+(BY120*$BP120))","v":38930.331336934585},38699.743361289657,38470.521179684649,38242.65670239435,38016.141887609745,37790.968741154204,37567.129316201354,37344.6157129946,37123.420078568357,36903.534606470872,36684.951536488741,36467.663154373025]
[null,null,null,null,null,null,null,null,null,null,null,null,null,null,null,null,null,null,null,null,null,null,null,null,null,null,null,null,null,null,null,null,null,null,null,null,null,null,null,null,null,null,null,null,null,null,null,null,null,null,null,null,null,null,null,null,null,null,null,null,null,null,null,null,null,"Oswego County",-3.7540230449843989E-2,-3.754023044984399E-3,117525,117515,117124,117525,117083.8084416382,116644.27312655376,116206.38783717122,115770.14637925608,115335.54258182713,{"$f":"(BY121+(BY121*$BP121))","v":114902.57029706918},114471.22340024605,114041.49578961397,113613.38138633527,113186.87413439236,112761.96800050211,112338.65697403043,111916.93506690732,111496.79631354213,111078.23477073916,110661.24451761362,110245.81965550785]
[null,null,null,null,null,null,null,null,null,null,null,null,null,null,null,null,null,null,null,null,null,null,null,null,null,null,null,null,null,null,null,null,null,null,null,null,null,null,null,null,null,null,null,null,null,null,null,null,null,null,null,null,null,null,null,null,null,null,null,null,null,null,null,null,null,"Otsego County",-5.9991326555196837E-2,-5.9991326555196836E-3,58524,59810,59493,58524,58172.906760468366,57823.919775855138,57477.026410457656,57132.214104376515,56789.470373060809,{"$f":"(BY122+(BY122*$BP122))","v":56448.782806856114},56110.139070555168,55773.526902951249,55438.934116394252,55106.348596349388,54775.75830095858,54447.151260604449,54120.515577476937,53795.839425142534,53473.111048116065,53152.318761435083,52833.450950236765]
[null,null,null,null,null,null,null,null,null,null,null,null,null,null,null,null,null,null,null,null,null,null,null,null,null,null,null,null,null,null,null,null,null,null,null,null,null,null,null,null,null,null,null,null,null,null,null,null,null,null,null,null,null,null,null,null,null,null,null,null,null,null,null,null,null,"Putnam County",-2.0479390231671848E-2,-2.0479390231671847E-3,97668,98814,98320,97668,97467.981891485309,97268.373407860388,97069.173710238436,96870.38196145065,96671.997326042678,{"$f":"(BY123+(BY123*$BP123))","v":96474.018970271165},96276.446062100178,96079.277771197754,95882.513268932395,95686.151728369601,95490.19232426837,95294.634233077755,95099.476632933394,94904.718703654027,94710.359626738107,94516.398585360308,94322.834764368119]
[null,null,null,null,null,null,null,null,null,null,null,null,null,null,null,null,null,null,null,null,null,null,null,null,null,null,null,null,null,null,null,null,null,null,null,null,null,null,null,null,null,null,null,null,null,null,null,null,null,null,null,null,null,null,null,null,null,null,null,null,null,null,null,null,null,"Rockland County Solid Waste Management Authority (RCSWMA)",8.5476776381433944E-2,8.5476776381433941E-3,338329,3255.22,325789,338329,341220.9272276354,344137.57371696562,347079.15076027106,350045.87145589042,353037.95072365837,{"$f":"(BY124+(BY124*$BP124))","v":356055.60532047495},359099.0538560084,362168.51680853183,365264.21654089569,368386.37731663627,371535.22531622235,374710.98865344038,377913.89739191998,381144.18356180051,384402.08117654012,387687.82624986861,391001.65681288502]
[null,null,null,null,null,null,null,null,null,null,null,null,null,null,null,null,null,null,null,null,null,null,null,null,null,null,null,null,null,null,null,null,null,null,null,null,null,null,null,null,null,null,null,null,null,null,null,null,null,null,null,null,null,null,null,null,null,null,null,null,null,null,null,null,"*","Saratoga County",7.2411170864316712E-2,7.2411170864316709E-3,235509,{"$f":"(BS125+(BS125*$BP125/2))","v":237217.43540048526},{"$f":"(BT125+(BT125*$BP125/2))","v":236361.67412195422},235509,237214.34824390843,238932.04511412416,240662.18002849611,242404.84305235834,244160.12490321856,{"$f":"(BY125+(BY125*$BP125))","v":245928.11695548054},247708.91124520084,249502.60047487984,251309.27801828764,253129.03792532466,254961.97492691776,256808.18443995144,258667.76257223508,260540.80612750593,262427.41261046851,264327.68023187021,266241.70791361405]
[null,null,null,null,null,null,null,null,null,null,null,null,null,null,null,null,null,null,null,null,null,null,null,null,null,null,null,null,null,null,null,null,null,null,null,null,null,null,null,null,null,null,null,null,null,null,null,null,null,null,null,null,null,null,null,null,null,null,null,null,null,null,null,null,"*","Schenectady County",2.154762904987494E-2,2.154762904987494E-3,158061,{"$f":"(BS126+(BS126*$BP126/2))","v":158401.76744895653},{"$f":"(BT126+(BT126*$BP126/2))","v":158231.29198976263},158061,158401.58397952523,158742.90183677556,159084.95515308352,159427.74551318897,159771.27450524658,{"$f":"(BY126+(BY126*$BP126))","v":160115.54372083305},160460.55475495462,160806.30920605431,161152.80867601946,161500.05477018908,161848.04909736133,162196.79326980092,162546.2889032466,162896.53761691871,163247.54103352653,163599.300779276,163951.81848387708]
[null,null,null,null,null,null,null,null,null,null,null,null,null,null,null,null,null,null,null,null,null,null,null,null,null,null,null,null,null,null,null,null,null,null,null,null,null,null,null,null,null,null,null,null,null,null,null,null,null,null,null,null,null,null,null,null,null,null,null,null,null,null,null,null,null,"Schoharie County",-9.2674585483526209E-2,-9.2674585483526212E-3,29714,31146,30999,29714,29438.626736694248,29165.805483691511,28895.512590342085,28627.724625177689,28362.418373880202,{"$f":"(BY127+(BY127*$BP127))","v":28099.570837269232},27839.159229308341,27581.160975129736,27325.553709077281,27072.315272767624,26821.423713169315,26572.857280699718,26326.594427339543,26082.613804764882,25840.894262496535,25601.414846066484,25364.154795201383]
[null,null,null,null,null,null,null,null,null,null,null,null,null,null,null,null,null,null,null,null,null,null,null,null,null,null,null,null,null,null,null,null,null,null,null,null,null,null,null,null,null,null,null,null,null,null,null,null,null,null,null,null,null,null,null,null,null,null,null,null,null,null,null,null,null,"Schuyler County",-2.425993567028294E-2,-2.4259935670282941E-3,17898,17884,17807,17898,17854.579567137327,17811.264471965456,17768.054458935829,17724.949273119841,17681.948660207348,{"$f":"(BY128+(BY128*$BP128))","v":17639.052366505162},17596.260138935544,17553.57172503473,17510.986872951427,17468.505331445329,17426.126849885644,17383.851178249603,17341.678067120993,17299.60726768868,17257.63853174515,17215.771611685035,17174.006260503658]
[null,null,null,null,null,null,null,null,null,null,null,null,null,null,null,null,null,null,null,null,null,null,null,null,null,null,null,null,null,null,null,null,null,null,null,null,null,null,null,null,null,null,null,null,null,null,null,null,null,null,null,null,null,null,null,null,null,null,null,null,null,null,null,null,null,"Seneca County",-4.076480099855323E-2,-4.0764800998553232E-3,33814,34179,34016,33814,33676.157901903491,33538.877714376795,33402.15714680266,33265.993917901476,33130.385755693242,{"$f":"(BY129+(BY129*$BP129))","v":32995.330397459627},32860.825589706234,32726.869088124979,32593.458657556668,32460.592071953681,32328.267114342842,32196.481576788417,32065.233260355282,31934.519975072224,31804.339539895409,31674.689782671983,31545.568540103832]
[null,null,null,null,null,null,null,null,null,null,null,null,null,null,null,null,null,null,null,null,null,null,null,null,null,null,null,null,null,null,null,null,null,null,null,null,null,null,null,null,null,null,null,null,null,null,null,null,null,null,null,null,null,null,null,null,null,null,null,null,null,null,null,null,"*","Steuben County",-5.4611576926962321E-2,-5.4611576926962323E-3,93584,{"$f":"(BS130-(BS130*$BP130/2))","v":94095.774749510572},{"$f":"(BT130-(BT130*$BP130/2))","v":93839.538490756648},93584,93072.923018486719,92564.63710896259,92059.127028943345,91556.377619186329,91056.373803235911,{"$f":"(BY130+(BY130*$BP130))","v":90559.100586971341},90064.543058157156,89572.686385995927,89083.515820683577,88597.016692967023,88113.174413704284,87631.974473426992,87153.402441905273,86677.443967715008,86204.084777807468,85733.310677081303,85265.107547956839]
[null,null,null,null,null,null,null,null,null,null,null,null,null,null,null,null,null,null,null,null,null,null,null,null,null,null,null,null,null,null,null,null,null,null,null,null,null,null,null,null,null,null,null,null,null,null,null,null,null,null,null,null,null,null,null,null,null,null,null,null,null,null,null,null,null,"Sullivan County",1.3888351580331929E-2,1.3888351580331928E-3,78624,75399,75432,78624,78733.195775465196,78842.543205862472,78952.042501815522,79061.693874240576,79171.497534346781,{"$f":"(BY131+(BY131*$BP131))","v":79281.45369363662},79391.562563906322,79501.824357246267,79612.239286041397,79722.807562971604,79833.529401012172,79944.405013434181,80055.434613804886,80166.618415988167,80277.956634144924,80389.449482733486,80501.09717651004]
[null,null,null,null,null,null,null,null,null,null,null,null,null,null,null,null,null,null,null,null,null,null,null,null,null,null,null,null,null,null,null,null,null,null,null,null,null,null,null,null,null,null,null,null,null,null,null,null,null,null,null,null,null,null,null,null,null,null,null,null,null,null,null,null,null,"Tioga County",-5.2224938875305625E-2,-5.2224938875305629E-3,48455,48441,48203,48455,48201.944058679706,47950.209700466163,47699.79002339967,47450.678161565971,47202.86728490801,{"$f":"(BY132+(BY132*$BP132))","v":46956.350599038662},46711.121345054438,46467.172799350192,46224.498273434758,45983.091113747578,45742.94470147627,45504.052452375159,45266.40781658476,45030.004278452179,44794.835356352487,44560.894602510998,44328.175602826494]
[null,null,null,null,null,null,null,null,null,null,null,null,null,null,null,null,null,null,null,null,null,null,null,null,null,null,null,null,null,null,null,null,null,null,null,null,null,null,null,null,null,null,null,null,null,null,null,null,null,null,null,null,null,null,null,null,null,null,null,null,null,null,null,null,"*","Tompkins County",4.1116931196093102E-2,4.1116931196093099E-3,105740,{"$f":"(BS133-(BS133*$BP133/2))","v":105305.67648017939},{"$f":"(BT133-(BT133*$BP133/2))","v":105522.61478476625},105740,106174.77043046748,106611.32850352254,107049.68156940288,107489.83700856815,107931.80223182421,{"$f":"(BY133+(BY133*$BP133))","v":108375.58468044784},108821.19182631208,109268.63117201201,109717.9102509911,110169.03662766801,110622.01789756399,111076.8616874307,111533.57565537871,111992.16749100634,112452.64491552925,112915.0156819103,113379.28757499019]
[null,null,null,null,null,null,null,null,null,null,null,null,null,null,null,null,null,null,null,null,null,null,null,null,null,null,null,null,null,null,null,null,null,null,null,null,null,null,null,null,null,null,null,null,null,null,null,null,null,null,null,null,null,null,null,null,null,null,null,null,null,null,null,null,null,"Town of Babylon",2.1628909706324348E-2,2.1628909706324349E-3,218223,210570,210141,218223,218694.99255628433,219168.00598100683,219642.04248219467,220117.10427265067,220593.19356996374,{"$f":"(BY134+(BY134*$BP134))","v":221070.31259651919},221548.46357950909,222027.6487509427,222507.87034765686,222989.13061132646,223471.43178847487,223954.77613048448,224439.1658936071,224924.60333897467,225411.09073260962,225898.63034543558,226387.22445328796]
[null,null,null,null,null,null,null,null,null,null,null,null,null,null,null,null,null,null,null,null,null,null,null,null,null,null,null,null,null,null,null,null,null,null,null,null,null,null,null,null,null,null,null,null,null,null,null,null,null,null,null,null,null,null,null,null,null,null,null,null,null,null,null,null,null,"Town of Brookhaven",-5.4933750308616572E-4,-5.4933750308616572E-5,485773,482655,480763,485773,485746.31466731132,485719.63080054807,485692.94839962968,485666.26746447565,485639.58799500542,{"$f":"(BY135+(BY135*$BP135))","v":485612.9099911385},485586.23345279443,485559.55837989261,485532.88477235258,485506.21263009385,485479.54195303598,485452.8727410984,485426.20499420061,485399.53871226218,485372.87389520265,485346.21054294152,485319.54865539831]
[null,null,null,null,null,null,null,null,null,null,null,null,null,null,null,null,null,null,null,null,null,null,null,null,null,null,null,null,null,null,null,null,null,null,null,null,null,null,null,null,null,null,null,null,null,null,null,null,null,null,null,null,null,null,null,null,null,null,null,null,null,null,null,null,"*","Town of Colonie",5.6465425458046718E-2,5.6465425458046715E-3,114112,{"$f":"(BS136-(BS136*$BP136/2))","v":113468.5713078671},{"$f":"(BT136-(BT136*$BP136/2))","v":113789.83086850657},114112,114756.33826298686,115404.31480938957,116055.95018293023,116711.26504333194,117370.2801669738,{"$f":"(BY136+(BY136*$BP136))","v":118033.01644754963},118699.49489673038,119369.73664483029,120043.76294147683,120721.59515628437,121403.25477953174,122088.76342284352,122778.14281987528,123471.41482700259,124168.60142401396,124869.72471480771,125574.80692809279]
[null,null,null,null,null,null,null,null,null,null,null,null,null,null,null,null,null,null,null,null,null,null,null,null,null,null,null,null,null,null,null,null,null,null,null,null,null,null,null,null,null,null,null,null,null,null,null,null,null,null,null,null,null,null,null,null,null,null,null,null,null,null,null,null,null,"Town of East Hampton",0.32290000000000002,3.2289999999999999E-2,28385,22020,22047,28385,29301.551650000001,30247.698752778502,31224.396945505719,32232.6327228761,33273.42443349777,{"$f":"(BY137+(BY137*$BP137))","v":34347.823308455416},35456.914523085441,36601.818293035867,37783.691005717992,39003.726388292627,40263.156713370598,41563.254043645335,42905.331516714643,44290.744671389359,45720.89281682852,47197.220445883911,48721.218694081501]
[null,null,null,null,null,null,null,null,null,null,null,null,null,null,null,null,null,null,null,null,null,null,null,null,null,null,null,null,null,null,null,null,null,null,null,null,null,null,null,null,null,null,null,null,null,null,null,null,null,null,null,null,null,null,null,null,null,null,null,null,null,null,null,null,null,"Town of Hempstead",4.4293109507381967E-2,4.429310950738197E-3,793409,767547,766980,793409,796923.25517211424,800453.07607314596,803998.53164854879,807559.69114915712,811136.6241325388,{"$f":"(BY138+(BY138*$BP138))","v":814729.40046435385},818338.09031971893,821962.76418457821,825603.49285707995,829260.34744895948,832933.39938692807,836622.7204140682,840328.38259123464,844050.45829846209,847789.02023637912,851544.14142762776,855315.89521829016]
[null,null,null,null,null,null,null,null,null,null,null,null,null,null,null,null,null,null,null,null,null,null,null,null,null,null,null,null,null,null,null,null,null,null,null,null,null,null,null,null,null,null,null,null,null,null,null,null,null,null,null,null,null,null,null,null,null,null,null,null,null,null,null,null,null,"Town of Huntington",4.2457100125944582E-3,4.2457100125944583E-4,204127,201185,200503,204127,204213.66640477409,204300.36960559044,204387.10961807155,204473.88645784662,204560.70014055143,{"$f":"(BY139+(BY139*$BP139))","v":204647.55068182843},204734.43809732673,204821.36240270198,204908.32361361661,204995.32174573964,205082.35681474672,205169.42883632021,205256.53782614908,205343.68379992899,205430.86677336221,205518.08676215776,205605.3437820313]
[null,null,null,null,null,null,null,null,null,null,null,null,null,null,null,null,null,null,null,null,null,null,null,null,null,null,null,null,null,null,null,null,null,null,null,null,null,null,null,null,null,null,null,null,null,null,null,null,null,null,null,null,null,null,null,null,null,null,null,null,null,null,null,null,null,"Town of North Hempstead Solid Waste Management Authority",{"$f":"BT68","v":0.10777635738044812},1.0777635738044812E-2,174179,167079,167041,174179,176056.23781521691,177953.70781579992,179871.62805687307,181810.21894367912,183769.70325690828,{"$f":"(BY140+(BY140*$BP140))","v":185750.30617829983},187752.25531651985,189775.78073331769,191821.11496996446,193888.49307397634,195978.15262612607,198090.33376774541,200225.27922832189,202383.23435339305,204564.44713274128,206769.16822889249,208997.651005922]
[null,null,null,null,null,null,null,null,null,null,null,null,null,null,null,null,null,null,null,null,null,null,null,null,null,null,null,null,null,null,null,null,null,null,null,null,null,null,null,null,null,null,null,null,null,null,null,null,null,null,null,null,null,null,null,null,null,null,null,null,null,null,null,null,null,"Town of Oyster Bay Solid Waste Disposal District",1.8261702068494295E-2,1.8261702068494295E-3,256326,247184,247203,256326,256794.09490444089,257263.04462985025,257732.85073727666,258203.51479061946,258675.03835663389,{"$f":"(BY141+(BY141*$BP141))","v":259147.4230049364},259620.67030800981,260094.78184120858,260569.75918276398,261045.60391378947,261522.31761828586,261999.90188314658,262478.35829816305,262957.68845602992,263437.89395235031,263918.97638564126,264400.9373573389]
[null,null,null,null,null,null,null,null,null,null,null,null,null,null,null,null,null,null,null,null,null,null,null,null,null,null,null,null,null,null,null,null,null,null,null,null,null,null,null,null,null,null,null,null,null,null,null,null,null,null,null,null,null,null,null,null,null,null,null,null,null,null,null,null,null,"Town of Riverhead",7.1509580373664422E-2,7.1509580373664422E-3,35902,33510,33469,35902,36158.733695457529,36417.303282798057,36677.721890407396,36940.002740551899,37204.159150049789,{"$f":"(BY142+(BY142*$BP142))","v":37470.204530947296},37738.152391199641,38008.01633535685,38279.810065254525,38553.547380709519,38829.242180220594,39106.908461674087,39386.560323054648,39668.211963161011,39951.877682326936,40237.571883147255,40525.309071209158]
[null,null,null,null,null,null,null,null,null,null,null,null,null,null,null,null,null,null,null,null,null,null,null,null,null,null,null,null,null,null,null,null,null,null,null,null,null,null,null,null,null,null,null,null,null,null,null,null,null,null,null,null,null,null,null,null,null,null,null,null,null,null,null,null,null,"Town of Shelter Island",0.35994983277591974,3.5994983277591971E-2,3253,2420,2417,3253,3370.0916806020068,3491.3980742892277,3617.0708895886851,3747.2672957732943,3882.1501194213215,{"$f":"(BY143+(BY143*$BP143))","v":4021.8880480509938},4166.6558410849366,4316.6345484082694,4472.0117367937009,4632.9817244767855,4799.7458241747163,4972.5125948525774,5151.4981025519119,5336.9261906078145,5529.0287595924856,5728.0460573353421,5934.2269793824044]
[null,null,null,null,null,null,null,null,null,null,null,null,null,null,null,null,null,null,null,null,null,null,null,null,null,null,null,null,null,null,null,null,null,null,null,null,null,null,null,null,null,null,null,null,null,null,null,null,null,null,null,null,null,null,null,null,null,null,null,null,null,null,null,null,null,"Town of Smithtown",-1.2775782888090934E-2,-1.2775782888090933E-3,116296,116399,116022,116296,116147.42275532466,115999.03532971133,115850.83748065129,115702.82896594565,115555.00954370496,{"$f":"(BY144+(BY144*$BP144))","v":115407.3789723488},115259.93701060537,115112.68341751111,114965.61795241035,114818.74037495482,114672.05044510338,114525.5479231215,114379.23256958096,114233.10414535941,114087.16241164003,113941.40712991108,113795.83806196555]
[null,null,null,null,null,null,null,null,null,null,null,null,null,null,null,null,null,null,null,null,null,null,null,null,null,null,null,null,null,null,null,null,null,null,null,null,null,null,null,null,null,null,null,null,null,null,null,null,null,null,null,null,null,null,null,null,null,null,null,null,null,null,null,null,null,"Town of Southampton",{"$f":"BT73","v":0.21563655573164289},2.1563655573164288E-2,69036,58089,58273,69036,70524.668526148977,72045.438187658438,73599.001202354804,75186.064714811291,76807.351118223116,{"$f":"(BY145+(BY145*$BP145))","v":78463.59838322358},80155.560393790496,81884.00729039617,83649.725820556749,85453.519696940857,87296.209963200294,89178.635367689378,91101.652745243046,93066.137407187489,95072.983539760855,97123.104611125382,99217.4337871561]
[null,null,null,null,null,null,null,null,null,null,null,null,null,null,null,null,null,null,null,null,null,null,null,null,null,null,null,null,null,null,null,null,null,null,null,null,null,null,null,null,null,null,null,null,null,null,null,null,null,null,null,null,null,null,null,null,null,null,null,null,null,null,null,null,null,"Town of Southold (Except Fishers Island)",8.6278299282164544E-2,8.6278299282164551E-3,23607,22130,22170,23607,23810.677181115407,24016.111654309734,24223.318581200176,24432.313254215776,24643.111097726058,{"$f":"(BY146+(BY146*$BP146))","v":24855.727669179381},25070.178660251124,25286.479898001773,25504.647346044996,25724.697105725809,25946.645417308893,26170.508661177169,26396.303359040721,26624.046175156134,26853.753917556362,27085.443539291213,27319.132139678528]
[null,null,null,null,null,null,null,null,null,null,null,null,null,null,null,null,null,null,null,null,null,null,null,null,null,null,null,null,null,null,null,null,null,null,null,null,null,null,null,null,null,null,null,null,null,null,null,null,null,null,null,null,null,null,null,null,null,null,null,null,null,null,null,null,null,"Ulster County Resource Recovery Agency (UCRRA)",-3.5179431539839883E-3,-3.517943153983988E-4,181851,178418,177573,181851,181787.02585195049,181723.0742096426,181659.14506515893,181595.23841058486,181531.35423800861,{"$f":"(BY147+(BY147*$BP147))","v":181467.4925395211},181403.6533072161,181339.83653319013,181276.04220954247,181212.27032837525,181148.52088179329,181084.79386190424,181021.08926081852,180957.40707064935,180893.74728351267,180830.10989152722,180766.4948868145]
[null,null,null,null,null,null,null,null,null,null,null,null,null,null,null,null,null,null,null,null,null,null,null,null,null,null,null,null,null,null,null,null,null,null,null,null,null,null,null,null,null,null,null,null,null,null,null,null,null,null,null,null,null,null,null,null,null,null,null,null,null,null,null,null,null,"Warren County",4.5657235910937953E-4,4.5657235910937954E-5,{"$f":"BO76","v":65737},64215,63944,65737,65740.00136971708,65743.002876468396,65746.00452026022,65749.006301098809,{"$f":"(BX148+(BX148*$BP148))","v":65752.008218990406},{"$f":"(BY148+(BY148*$BP148))","v":65755.010273941283},65758.012465957683,65761.014795045878,65764.017261212124,65767.019864462665,65770.022604803773,65773.025482241705,65776.028496782717,65779.031648433083,65782.034937199045,65785.038363086875,{"$f":"(CJ148+(CJ148*$BP148))","v":65788.041926102829}]
[null,null,null,null,null,null,null,null,null,null,null,null,null,null,null,null,null,null,null,null,null,null,null,null,null,null,null,null,null,null,null,null,null,null,null,null,null,null,null,null,null,null,null,null,null,null,null,null,null,null,null,null,null,null,null,null,null,null,null,null,null,null,null,null,null,"Washington County",{"$f":"BT77","v":-3.0277145026575549E-2},{"$f":"BO149/10","v":-3.0277145026575548E-3},61302,61274,61204,61302,{"$f":"(BT149+(BT149*BP149))","v":61116.395045558085},{"$f":"(BU149+(BU149*$BP149))","v":60931.3520499285},60746.869311660397,60562.945134454443,60379.577827147201,60196.765703695608,60014.50708316145,59832.800289695915,59651.643652524188,59471.035505930078,59290.974189240711,59111.458046811254,58932.485428009692,58754.054687201649,58576.164183735273,58398.812281926126,58221.997351042162]
[null,null,null,null,null,null,null,null,null,null,null,null,null,null,null,null,null,null,null,null,null,null,null,null,null,null,null,null,null,null,null,null,null,null,null,null,null,null,null,null,null,null,null,null,null,null,null,null,null,null,null,null,null,null,null,null,null,null,null,null,null,null,null,null,null,"Wayne County",-2.6543104551465257E-2,{"$f":"BO150/10","v":-2.6543104551465255E-3},91283,90200,89918,91283,91040.706578722864,90799.056279407028,90558.047395007161,90317.678223008945,90077.947065417058,89838.852228743184,89600.392023994063,89362.564766659547,89125.368776700692,88888.802378537905,88652.863901039105,88417.551677507901,88182.864045671828,87948.799347670632,87715.355930044519,87482.532143722507,87250.326344010726]
[null,null,null,null,null,null,null,null,null,null,null,null,null,null,null,null,null,null,null,null,null,null,null,null,null,null,null,null,null,null,null,null,null,null,null,null,null,null,null,null,null,null,null,null,null,null,null,null,null,null,null,null,null,null,null,null,null,null,null,null,null,null,null,null,null,"Westchester County",5.8311286432700851E-2,{"$f":"BO151/10","v":5.8311286432700853E-3},1004457,968213,967506,1004457,1010314.1179836332,1016205.3895757077,1022131.0139303081,1028091.1913628117,1034086.1233566611,1040116.0125701742,1046181.062843396,1052281.4792049888,1058417.4678791636,1064589.2362926512,1070796.9930817143,1077040.9480992006,1083321.3124216367,1089638.2983563633,1095992.1194487133,1102382.9904892289,1108811.1275209244]
[null,null,null,null,null,null,null,null,null,null,null,null,null,null,null,null,null,null,null,null,null,null,null,null,null,null,null,null,null,null,null,null,null,null,null,null,null,null,null,null,null,null,null,null,null,null,null,null,null,null,null,null,null,null,null,null,null,null,null,null,null,null,null,null,null,"Yates County",-2.2644784598390404E-2,{"$f":"BO152/10","v":-2.2644784598390404E-3},24774,24951,24913,24774,24717.899810635947,24661.926658942302,24606.080257244997,24550.360318521394,24494.766556398816,24439.298685153066,24383.956419706963,24328.739475628881,24273.647569131284,24218.680417069263,24163.837736939084,24109.11924687674,24054.524665656496,24000.053712689449,23945.706108022085,23891.481572334833,23837.37982694064]
[]
[null,null,null,null,null,null,null,null,null,null,null,null,null,null,null,null,null,null,null,null,null,null,null,null,null,null,null,null,null,null,null,null,null,null,null,null,null,null,null,null,null,null,null,null,null,null,null,null,null,null,null,null,null,null,null,null,null,null,null,null,null,null,null,null,"Notes"]
[null,null,null,null,null,null,null,null,null,null,null,null,null,null,null,null,null,null,null,null,null,null,null,null,null,null,null,null,null,null,null,null,null,null,null,null,null,null,null,null,null,null,null,null,null,null,null,null,null,null,null,null,null,null,null,null,null,null,null,null,null,null,null,null," 3/22/22 :","Pop for Eastern Rensselaer, T of North Hempsted, Oyster Bay - only account for affiliated municipalities."]
[null,null,null,null,null,null,null,null,null,null,null,null,null,null,null,null,null,null,null,null,null,null,null,null,null,null,null,null,null,null,null,null,null,null,null,null,null,null,null,null,null,null,null,null,null,null,null,null,null,null,null,null,null,null,null,null,null,null,null,null,null,null,null,null,null,"We need to go back and revise some of the annual % changes - especially for R1 municilpalities impacted by the pandemic"]
[null,null,null,null,null,null,null,null,null,null,null,null,null,null,null,null,null,null,null,null,null,null,null,null,null,null,null,null,null,null,null,null,null,null,null,null,null,null,null,null,null,null,null,null,null,null,null,null,null,null,null,null,null,null,null,null,null,null,null,null,null,null,null,null,"3/30/23 :","Census Data for 2018-2019","https://data.census.gov/cedsci/table?q=United%20States&g=0400000US36,36%240500000&tid=PEPPOP2019.PEPANNRES"]
[null,null,null,null,null,null,null,null,null,null,null,null,null,null,null,null,null,null,null,null,null,null,null,null,null,null,null,null,null,null,null,null,null,null,null,null,null,null,null,null,null,null,null,null,null,null,null,null,null,null,null,null,null,null,null,null,null,null,null,null,null,null,null,null,null,"*","Population from 2018 and 2019 Census estimate does not make sense. Instead I calculated it"]
[null,null,null,null,null,null,null,null,null,null,null,null,null,null,null,null,null,null,null,null,null,null,null,null,null,null,null,null,null,null,null,null,null,null,null,null,null,null,null,null,null,null,null,null,null,null,null,null,null,null,null,null,null,null,null,null,null,null,null,null,null,null,null,null,null,"*/","2018 is from the Census - 2019 is calculated"]

{"sheet":"2.Waste Generation Rate","index":2,"n_rows":65,"n_cols":25,"rows_kept":65,"cut":false,"hidden":false,"merged":[[21,11,22,12],[21,2,21,10],[21,13,22,14],[23,2,23,10],[24,11,25,12],[24,13,25,14],[25,2,25,10],[51,21,53,21],[18,1,19,15],[1,1,1,15],[4,1,7,15],[8,1,8,15],[9,1,9,15],[3,1,3,15],[10,4,10,15],[15,1,15,15],[28,15,31,15],[51,20,52,20],[47,14,49,14],[43,11,45,11],[47,11,49,11],[52,12,54,12],[47,13,49,13]]}
[]
[null,"Step 2. Waste Generation Rate"]
[]
[]
[null,"In order to project how the amount of waste generated in the planning unit will change over time, data regarding the current amount of waste generated by the planning unit is needed. This can be the total tons of waste generated by the planning unit in the current year (Tons/yr), or this can be the estimated daily quantity of waste generated per person in the planning unit (lb/person/day). If both the total annual generation and the estimated generation rate per person are unknown, the state average for MSW generation rate can be used along with the planning unit's population to estimate the total amount of waste generated in the planning unit."]
[]
[]
[]
[]
[null,"For this step, select  one  of  the  options  that  describes  the  known  information  about  the  planning  unit.  Enter the waste generated in Tons (MSW disposed & Recycled Materials) or the waste generation rate "]
[null,"in lb/person/day) in the",null,"purple cell.","If no data on the waste generated in the planning unit is available, choose the corresponding option from the list. The calculator will estimate the total amount of waste"]
[null,"generated based on the state's average generation rate and the planning unit's population."]
[]
[]
[]
[null,{"$f":"'1.PU& Period Selection'!E12","v":0}]
[]
[]
[null,"The amount of waste generated (by all residents, institutions, etc.) in the planning unit will be based on what is known. If the MSW generation amount and the generation rate are unknown, the state average for MSW generation rate will be used."]
[]
[]
[null,null,null,null,null,null,null,null,null,null,null,{"$f":"IF($V$52=1,\"  Leave this cell blank:\",IF($V$52=2,\"  Enter average generation rate here:\",IF($V$52=3,\"  Enter tons disposed here:\")))","v":"  Enter tons disposed here:"}]
[]
[]
[null,null,null,null,null,null,null,null,null,null,null,{"$f":"IF($V$52=1,\"  Leave this cell blank:\",IF($V$52=2,\"  Leave this cell blank:\",IF($V$52=3,\"  Enter tons diverted here:\")))","v":"  Enter tons diverted here:"}]
[]
[]
[]
[]
[]
[]
[]
[]
[]
[]
[]
[]
[]
[]
[]
[]
[]
[]
[]
[]
[]
[]
[]
[]
[]
[null,null,null,null,null,null,null,null,null,null,null,null,null,null,null,null,null,null,null,null,null,null,null,"MSW Generated (Tons/yr)","Generation Rate (lb/person/day)"]
[null,null,null,null,null,null,null,null,null,null,null,null,null,null,null,null,null,null,null,null,{"$f":"CHOOSE(V52,W54,W53,W52)","v":"The amount of MSW Generated (Tons/yr) in the planning unit is"},3,"The amount of MSW Generated (Tons/yr) in the planning unit is",{"$f":"N22+N25","v":0},{"$f":"(N22*(2000/365))/X57","v":{"$error":"#N/A"}}]
[null,null,null,null,null,null,null,null,null,null,null,null,null,null,null,null,null,null,null,null,null,null,"The planning unit Average MSW Generation Rate (lb/person/day) is",{"$f":"X57*N22*(365/2000)","v":{"$error":"#N/A"}},{"$f":"N22","v":0}]
[null,null,null,null,null,null,null,null,null,null,null,null,null,null,null,null,null,null,null,null,null,null,"The amount of MSW Generated and the planning unit Average MSW Generation Rate are unknown",{"$f":"X57*X64*(365/2000)","v":{"$error":"#N/A"}},{"$f":"X64","v":5.15}]
[]
[null,null,null,null,null,null,null,null,null,null,null,null,null,null,null,null,null,null,null,null,null,null,"Period Selection",{"$f":"+'3.PU&MSW Projections'!B45","v":{"$error":"#N/A"}}]
[null,null,null,null,null,null,null,null,null,null,null,null,null,null,null,null,null,null,null,null,null,null,"Planning unit Population (Year Selected)",{"$f":"(VLOOKUP('1.PU& Period Selection'!E12,'1.PU& Period Selection'!BN84:CK152,MATCH(X56,'1.PU& Period Selection'!BN83:CE83,0),FALSE))","v":{"$error":"#N/A"}}]
[null,null,null,null,null,null,null,null,null,null,null,null,null,null,null,null,null,null,null,null,null,null,"MSW Generated (Tons/yr)",80000,"**If total tons of MSW Generated in the planning unit is unknown, use the State Average Generation Rate"]
[null,null,null,null,null,null,null,null,null,null,null,null,null,null,null,null,null,null,null,null,null,null,"Planning unit Average MSW Generation (lb/person/day)",{"$f":"X58*2000/365/X57","v":{"$error":"#N/A"}}]
[]
[null,null,null,null,null,null,null,null,null,null,null,null,null,null,null,null,null,null,null,null,null,null,"Planning unit Average MSW Generation (lb/person/day)",3.5,"**If planning unit Average Generation is unknown, use total tons of MSW Generated in the Planning Unit"]
[null,null,null,null,null,null,null,null,null,null,null,null,null,null,null,null,null,null,null,null,null,null,"MSW Generated (Tons/yr)",{"$f":"X57*X61*365/2000","v":{"$error":"#N/A"}}]
[]
[null,null,null,null,null,null,null,null,null,null,null,null,null,null,null,null,null,null,null,null,null,null,"State Average MSW Generation (lb/person/day)",5.15,"**If planning unit Average Generation and total MSW Generation are unknown, use State Average Generation of 4.1 lb/person/day"]
[null,null,null,null,null,null,null,null,null,null,null,null,null,null,null,null,null,null,null,null,null,null,"MSW Generated (Tons/yr) (estimated)",{"$f":"X57*X64*365/2000","v":{"$error":"#N/A"}}]

{"sheet":"3.PU&MSW Projections","index":3,"n_rows":78,"n_cols":52,"rows_kept":78,"cut":false,"hidden":false,"merged":[[48,2,48,5],[45,2,45,5],[68,1,68,3],[58,6,60,16],[61,6,61,16],[55,1,55,3],[46,6,46,7],[45,6,45,7],[53,6,53,18],[42,1,42,7],[32,1,33,18],[30,1,30,15],[47,6,47,7],[44,2,44,5],[44,6,44,7],[43,6,43,7],[43,2,43,5],[5,1,6,18],[7,1,7,15],[10,1,10,6],[27,1,27,15],[36,1,37,18],[21,1,21,18],[35,1,35,15],[14,1,14,15],[12,1,13,18],[9,1,9,18],[23,1,23,15],[24,1,24,15],[15,1,15,15],[72,8,73,9],[57,3,57,5],[57,6,57,16],[64,13,64,15],[72,10,73,11],[62,6,63,16],[66,6,66,18],[69,19,69,20],[1,3,1,16],[2,3,2,16],[40,1,40,14],[40,15,40,18],[68,19,68,20],[22,1,22,18],[48,6,48,7],[47,2,47,5],[46,2,46,5],[8,1,8,2],[8,4,8,18],[19,1,19,15],[11,1,11,15],[16,1,18,18],[26,1,26,18]]}
[]
[null,null,null,"Step 3. Planning Unit Population - Projections &"]
[null,null,null,"Municipal Solid Waste (MSW) - Projections"]
[]
[]
[null,"This   tab  will  provide  you  with  population  projections  and  MSW  generation  projections  for  the  planning  period  you had previously selected. It is recognized that Municipal Solid Waste (MSW) generation is reliant on population changes, hence, it is necessary to project both and identify their correlation."]
[]
[]
[null,"In the first",null,"purple cell","enter the total tons of MSW that was disposed in the year immediately before your plan period starts. For example: If the plan period is 2016-2026, the  MSW disposed data should "]
[null,"be from 2015."]
[]
[null,"Population Projection:"]
[null,"Calculations are determined by a linear regression based on the latest census population data and an annual growth rate percentage specific to the planning unit. If it is anticipated that the population is going to decrease overtime, the minus sign (-) will be used."]
[]
[]
[null,"MSW Generation Projection:"]
[null,"The MSW generation rate (Lb/person/day) calculated on the previous tab from the Waste Generation Rate will serve as a start point for the planning period. On the calculator, three options are considered to anticipate the MSW generation over time, and one must be selected according to the goals of the planning unit:"]
[]
[]
[null,"First Option: "]
[]
[null,"MSW generation rate does not change. Consequently, MSW generation fluctuates with the population of the planning unit. If the population increases, waste generation will rise as well, and vice versa."]
[null,"By selecting this option, the planning unit is in “status quo”, meaning that is not making any improvements, and consequently is getting far from reaching the State’s goal by 2030."]
[]
[null,"Second Option: "]
[]
[null,"MSW generation amount remains the same, regardless of whether or not the planning unit's population changes."]
[]
[null,"Third Option:"]
[]
[null,"As a result of successfully implementing the Local Solid Waste Management Plan, MSW generation will be reduced by an annual factor of …"]
[]
[null,"An Annual Factor of Reduction (%) should be calculated, defined, and selected by the planning unit. This factor will be the numerical representation of one of the planning unit’s goals for the planning period. Once calculated, the Annual Factor of Reduction can be chosen from the drop down list provided."]
[]
[]
[null,"Note:"]
[null,"• The graphic will display the Population and MSW Generation projections over the selected planning period. It has been designed to visualize the contrast of the final outcomes, based on the selections of each planning unit"]
[]
[]
[]
[null,{"$f":"+'1.PU& Period Selection'!E12","v":0},null,null,null,null,null,null,null,null,null,null,null,null,null,{"$f":"+'1.PU& Period Selection'!E15","v":0}]
[]
[null,"Current Data"]
[null,2020,"Population Census",null,null,null,{"$f":"(VLOOKUP('1.PU& Period Selection'!E12,'1.PU& Period Selection'!BN12:BR80,2,FALSE))","v":{"$error":"#N/A"}}]
[null,{"$f":"(VLOOKUP('1.PU& Period Selection'!E15,'1.PU& Period Selection'!BW15:CK26,2,FALSE)-1)","v":{"$error":"#N/A"}},"Population",null,null,null,{"$f":"VLOOKUP('1.PU& Period Selection'!E12,'1.PU& Period Selection'!BN83:CK152,MATCH(B45,'1.PU& Period Selection'!BN83:CK83,0),FALSE)","v":{"$error":"#N/A"}}]
[null,{"$f":"(VLOOKUP('1.PU& Period Selection'!E15,'1.PU& Period Selection'!BW15:CK26,2,FALSE)-1)","v":{"$error":"#N/A"}},"MSW Generated (Tons/yr)",null,null,null,{"$f":"VLOOKUP('2.Waste Generation Rate'!U52,'2.Waste Generation Rate'!W52:Y54,2,FALSE)","v":0}]
[null,{"$f":"(VLOOKUP('1.PU& Period Selection'!E15,'1.PU& Period Selection'!BW15:CK26,2,FALSE)-1)","v":{"$error":"#N/A"}},"MSW generation rate (Lb/person/day)",null,null,null,{"$f":"VLOOKUP('2.Waste Generation Rate'!U52,'2.Waste Generation Rate'!W52:Y54,3,FALSE)","v":{"$error":"#N/A"}}]
[null,{"$f":"(VLOOKUP('1.PU& Period Selection'!E15,'1.PU& Period Selection'!BW15:CK26,2,FALSE)-1)","v":{"$error":"#N/A"}},"MSW Disposed (Tons/yr)"]
[null,{"$f":"(VLOOKUP('1.PU& Period Selection'!E15,'1.PU& Period Selection'!BW15:CK26,2,FALSE)-1)","v":{"$error":"#N/A"}},"MSW Diverted (Tons/yr)",null,null,null,{"$f":"+G46-G48","v":0}]
[]
[]
[]
[]
[null,null,null,null,null,null,"Population Projection"]
[null,null,null,null,null,null,{"$f":"(VLOOKUP('1.PU& Period Selection'!E15,'1.PU& Period Selection'!$BW$12:$CK$26,2,FALSE)-1)","v":{"$error":"#N/A"}},{"$f":"VLOOKUP('1.PU& Period Selection'!E15,'1.PU& Period Selection'!$BW$12:$CK$26,2,FALSE)","v":{"$error":"#N/A"}},{"$f":"VLOOKUP('1.PU& Period Selection'!E15,'1.PU& Period Selection'!$BW$12:$CK$26,3,FALSE)","v":{"$error":"#N/A"}},{"$f":"VLOOKUP('1.PU& Period Selection'!E15,'1.PU& Period Selection'!$BW$12:$CK$26,4,FALSE)","v":{"$error":"#N/A"}},{"$f":"VLOOKUP('1.PU& Period Selection'!E15,'1.PU& Period Selection'!$BW$12:$CK$26,5,FALSE)","v":{"$error":"#N/A"}},{"$f":"VLOOKUP('1.PU& Period Selection'!E15,'1.PU& Period Selection'!$BW$12:$CK$26,6,FALSE)","v":{"$error":"#N/A"}},{"$f":"VLOOKUP('1.PU& Period Selection'!E15,'1.PU& Period Selection'!$BW$12:$CK$26,7,FALSE)","v":{"$error":"#N/A"}},{"$f":"VLOOKUP('1.PU& Period Selection'!E15,'1.PU& Period Selection'!$BW$12:$CK$26,8,FALSE)","v":{"$error":"#N/A"}},{"$f":"VLOOKUP('1.PU& Period Selection'!E15,'1.PU& Period Selection'!$BW$12:$CK$26,9,FALSE)","v":{"$error":"#N/A"}},{"$f":"VLOOKUP('1.PU& Period Selection'!E15,'1.PU& Period Selection'!$BW$12:$CK$26,10,FALSE)","v":{"$error":"#N/A"}},{"$f":"VLOOKUP('1.PU& Period Selection'!E15,'1.PU& Period Selection'!$BW$12:$CK$26,11,FALSE)","v":{"$error":"#N/A"}},{"$f":"VLOOKUP('1.PU& Period Selection'!E15,'1.PU& Period Selection'!$BW$12:$CK$26,12,FALSE)","v":{"$error":"#N/A"}},{"$f":"VLOOKUP('1.PU& Period Selection'!E15,'1.PU& Period Selection'!$BW$12:$CK$26,13,FALSE)","v":{"$error":"#N/A"}}]
[null,"Annual rate of population        growth (%)",null,null,{"$f":"VLOOKUP('1.PU& Period Selection'!E12,'1.PU& Period Selection'!BN12:BU80,8)","v":{"$error":"#N/A"}},null,{"$f":"(G45)","v":{"$error":"#N/A"}},{"$f":"(G56+(G56*$E$56))","v":{"$error":"#N/A"}},{"$error":"#N/A"},{"$error":"#N/A"},{"$error":"#N/A"},{"$error":"#N/A"},{"$error":"#N/A"},{"$error":"#N/A"},{"$error":"#N/A"},{"$error":"#N/A"},{"$error":"#N/A"},{"$f":"(Q56+(Q56*$E$56))","v":{"$error":"#N/A"}},{"$f":"(R56+(R56*$E$56))","v":{"$error":"#N/A"}}]
[]
[null,null,null,null,null,null,"Forecasting future conditions... What do you expect to happen to the MSW generation rate over the next 10 year period plan? "]
[]
[]
[]
[]
[]
[]
[null,null,null,null,null,null,null,null,null,null,null,null,null,"Reduction Factor (per year)",null,null,0.02]
[]
[null,null,null,null,null,null,"MSW Generation Projection"]
[null,null,null,null,null,null,{"$f":"(VLOOKUP('1.PU& Period Selection'!E15,'1.PU& Period Selection'!BW15:CK26,2,FALSE)-1)","v":{"$error":"#N/A"}},{"$f":"(VLOOKUP('1.PU& Period Selection'!E15,'1.PU& Period Selection'!BW15:CK26,2,FALSE))","v":{"$error":"#N/A"}},{"$f":"(VLOOKUP('1.PU& Period Selection'!E15,'1.PU& Period Selection'!BW15:CK26,3,FALSE))","v":{"$error":"#N/A"}},{"$f":"(VLOOKUP('1.PU& Period Selection'!E15,'1.PU& Period Selection'!BW15:CK26,4,FALSE))","v":{"$error":"#N/A"}},{"$f":"(VLOOKUP('1.PU& Period Selection'!E15,'1.PU& Period Selection'!BW15:CK26,5,FALSE))","v":{"$error":"#N/A"}},{"$f":"(VLOOKUP('1.PU& Period Selection'!E15,'1.PU& Period Selection'!BW15:CK26,6,FALSE))","v":{"$error":"#N/A"}},{"$f":"(VLOOKUP('1.PU& Period Selection'!E15,'1.PU& Period Selection'!BW15:CK26,7,FALSE))","v":{"$error":"#N/A"}},{"$f":"(VLOOKUP('1.PU& Period Selection'!E15,'1.PU& Period Selection'!BW15:CK26,8,FALSE))","v":{"$error":"#N/A"}},{"$f":"(VLOOKUP('1.PU& Period Selection'!E15,'1.PU& Period Selection'!BW15:CK26,9,FALSE))","v":{"$error":"#N/A"}},{"$f":"(VLOOKUP('1.PU& Period Selection'!E15,'1.PU& Period Selection'!BW15:CK26,10,FALSE))","v":{"$error":"#N/A"}},{"$f":"(VLOOKUP('1.PU& Period Selection'!E15,'1.PU& Period Selection'!BW15:CK26,11,FALSE))","v":{"$error":"#N/A"}},{"$f":"(VLOOKUP('1.PU& Period Selection'!E15,'1.PU& Period Selection'!BW15:CK26,12,FALSE))","v":{"$error":"#N/A"}},{"$f":"(VLOOKUP('1.PU& Period Selection'!E15,'1.PU& Period Selection'!BW15:CK26,13,FALSE))","v":{"$error":"#N/A"}}]
[null,"MSW generation rate (Lb/person/day)",null,null,{"$f":"+($G$46/$G$45)*5.47","v":{"$error":"#N/A"}},null,{"$f":"+VLOOKUP('1.PU& Period Selection'!CS21,'1.PU& Period Selection'!$CP$13:$DR$15,2,FALSE)","v":{"$error":"#N/A"}},{"$f":"+VLOOKUP('1.PU& Period Selection'!CS21,'1.PU& Period Selection'!$CP$13:$DR$15,3,FALSE)","v":{"$error":"#N/A"}},{"$f":"+VLOOKUP('1.PU& Period Selection'!CS21,'1.PU& Period Selection'!$CP$13:$DR$15,4,FALSE)","v":{"$error":"#N/A"}},{"$f":"+VLOOKUP('1.PU& Period Selection'!CS21,'1.PU& Period Selection'!$CP$13:$DR$15,5,FALSE)","v":{"$error":"#N/A"}},{"$f":"+VLOOKUP('1.PU& Period Selection'!CS21,'1.PU& Period Selection'!$CP$13:$DR$15,6,FALSE)","v":{"$error":"#N/A"}},{"$f":"+VLOOKUP('1.PU& Period Selection'!CS21,'1.PU& Period Selection'!$CP$13:$DR$15,7,FALSE)","v":{"$error":"#N/A"}},{"$f":"+VLOOKUP('1.PU& Period Selection'!CS21,'1.PU& Period Selection'!$CP$13:$DR$15,8,FALSE)","v":{"$error":"#N/A"}},{"$f":"+VLOOKUP('1.PU& Period Selection'!CS21,'1.PU& Period Selection'!$CP$13:$DP$15,9,FALSE)","v":{"$error":"#N/A"}},{"$f":"+VLOOKUP('1.PU& Period Selection'!CS21,'1.PU& Period Selection'!$CP$13:$DR$15,10,FALSE)","v":{"$error":"#N/A"}},{"$f":"+VLOOKUP('1.PU& Period Selection'!CS21,'1.PU& Period Selection'!$CP$13:$DR$15,11,FALSE)","v":{"$error":"#N/A"}},{"$f":"+VLOOKUP('1.PU& Period Selection'!CS21,'1.PU& Period Selection'!$CP$13:$DR$15,12,FALSE)","v":{"$error":"#N/A"}},{"$f":"VLOOKUP('1.PU& Period Selection'!CS21,'1.PU& Period Selection'!$CP$13:$DR$15,13,FALSE)","v":{"$error":"#N/A"}},{"$f":"+VLOOKUP('1.PU& Period Selection'!CS21,'1.PU& Period Selection'!$CP$13:$DR$15,14,FALSE)","v":{"$error":"#N/A"}},"(Lb/person/day)"]
[null,null,null,null,null,null,{"$f":"VLOOKUP('1.PU& Period Selection'!CS21,'1.PU& Period Selection'!CP13:DR15,17,FALSE)","v":{"$error":"#N/A"}},{"$f":"VLOOKUP('1.PU& Period Selection'!CS21,'1.PU& Period Selection'!$CP$13:$DR$15,18,FALSE)","v":{"$error":"#N/A"}},{"$f":"VLOOKUP('1.PU& Period Selection'!CS21,'1.PU& Period Selection'!$CP$13:$DR$15,19,FALSE)","v":{"$error":"#N/A"}},{"$f":"VLOOKUP('1.PU& Period Selection'!CS21,'1.PU& Period Selection'!$CP$13:$DR$15,20,FALSE)","v":{"$error":"#N/A"}},{"$f":"VLOOKUP('1.PU& Period Selection'!CS21,'1.PU& Period Selection'!$CP$13:$DR$15,21,FALSE)","v":{"$error":"#N/A"}},{"$f":"VLOOKUP('1.PU& Period Selection'!CS21,'1.PU& Period Selection'!$CP$13:$DR$15,22,FALSE)","v":{"$error":"#N/A"}},{"$f":"VLOOKUP('1.PU& Period Selection'!CS21,'1.PU& Period Selection'!$CP$13:$DR$15,23,FALSE)","v":{"$error":"#N/A"}},{"$f":"VLOOKUP('1.PU& Period Selection'!CS21,'1.PU& Period Selection'!$CP$13:$DR$15,24,FALSE)","v":{"$error":"#N/A"}},{"$f":"VLOOKUP('1.PU& Period Selection'!CS21,'1.PU& Period Selection'!$CP$13:$DR$15,25,FALSE)","v":{"$error":"#N/A"}},{"$f":"VLOOKUP('1.PU& Period Selection'!CS21,'1.PU& Period Selection'!$CP$13:$DR$15,26,FALSE)","v":{"$error":"#N/A"}},{"$f":"VLOOKUP('1.PU& Period Selection'!CS21,'1.PU& Period Selection'!$CP$13:$DR$15,27,FALSE)","v":{"$error":"#N/A"}},{"$f":"VLOOKUP('1.PU& Period Selection'!CS21,'1.PU& Period Selection'!$CP$13:$DR$15,28,FALSE)","v":{"$error":"#N/A"}},{"$f":"VLOOKUP('1.PU& Period Selection'!CS21,'1.PU& Period Selection'!$CP$13:$DR$15,29,FALSE)","v":{"$error":"#N/A"}},"Tons/yr"]
[]
[]
[]
[]
[null,null,null,null,null,null,null,null,null,null,null,null,null,null,null,null,null,null,null,null,null,null,null,null,null,null,null,null,null,null,null,null,null,null,null,null,null,null,null,null,null,null,null,null,null,null,null,null,null,null,null,5.0000000000000001E-3]
[null,null,null,null,null,null,null,null,null,null,null,null,null,null,null,null,null,null,null,null,null,null,null,null,null,null,null,null,null,null,null,null,null,null,null,null,null,null,null,null,null,null,null,null,null,null,null,null,null,null,null,0.01]
[null,null,null,null,null,null,null,null,null,null,null,null,null,null,null,null,null,null,null,null,null,null,null,null,null,null,null,null,null,null,null,null,null,null,null,null,null,null,null,null,null,null,null,null,null,null,null,null,null,null,null,1.4999999999999999E-2]
[null,null,null,null,null,null,null,null,null,null,null,null,null,null,null,null,null,null,null,null,null,null,null,null,null,null,null,null,null,null,null,null,null,null,null,null,null,null,null,null,null,null,null,null,null,null,null,null,null,null,null,0.02]

{"sheet":"4.MSW Comp. Analysis","index":4,"n_rows":83,"n_cols":15,"rows_kept":83,"cut":false,"hidden":false,"merged":[[1,2,1,12],[4,1,4,14],[13,1,13,14],[5,1,5,14],[6,1,6,14],[8,1,8,14],[10,1,10,14],[11,1,11,14],[49,2,51,2],[64,2,64,3],[62,2,62,3],[57,2,57,3],[31,2,31,3],[32,2,32,3],[33,2,41,2],[42,2,42,3],[52,2,52,3],[53,2,53,3],[63,2,63,3],[18,1,18,14],[19,3,19,14],[27,2,30,3],[27,4,27,6],[12,1,12,14],[14,1,16,14],[27,7,27,9],[27,10,27,12],[25,1,25,10],[25,11,25,14],[27,14,29,14],[22,1,22,14],[28,4,28,6],[21,1,21,14],[28,7,28,9],[28,10,28,12],[17,1,17,14],[20,1,20,14],[31,1,80,1],[78,2,78,3],[44,2,44,3],[45,2,46,2],[47,2,47,3],[48,2,48,3],[70,2,70,3],[69,2,69,3],[61,2,61,3],[54,2,54,3],[55,2,55,3],[43,2,43,3],[58,2,60,2],[79,2,79,3],[72,2,72,3],[65,2,65,3],[56,2,56,3],[82,2,82,3],[73,2,73,3],[74,2,74,3],[75,2,75,3],[76,2,76,3],[77,2,77,3],[81,2,81,3],[80,2,80,3],[71,2,71,3],[67,2,67,3],[68,2,68,3],[66,2,66,3]]}
[]
[null,null,"Step 4. Municipal Solid Waste (MSW) Detailed Composition Analysis"]
[]
[]
[]
[null,"The next step is to Identify the Materials Composition of the Waste Stream based on population density, and demographic characteristics of the Planning Unit. "]
[null,"This tab will provide the PU with a more detailed estimate of the materials present in the waste stream, which could be crucial when prioritizing the initiatives and programs of the LSWMP."]
[]
[null,"The population density distribution has been calculated based on the 2010 Census data and will be auto populated when a planning unit is selected. The following parameters were used:  "]
[]
[null,"·         Rural: <325 persons/mi2"]
[null,"·         Suburban: >325 and <5,000 persons/mi2 "]
[null,"·         Urban: >5,000 persons/mi2 "]
[]
[null,"Under Density Population Distribution, the user has the option to modify the percentage values for the Sector  (Residential and Commercial/Institutional) based on land use and specific characteristics of each planning unit. For example: A rural population in Westchester County could be 64% Residential and 36% Commercial / Institutional, while in Wyoming County might be 50% Residential and 50% Commercial / Institutional."]
[]
[]
[]
[null,"The results are presented on the last right column under MSW Materials Composition. Be aware of color changes on the cells, whenever a category represents over 15% of the total waste generation, the cell  "]
[null,"will turn","red","to easily identify key categories of the waste stream. It will also facilitate the selection of initiatives, programs, and infrastructure for the solid waste management system."]
[]
[null,"Note: If no data exists, use the pre-populated information in the worksheet."]
[]
[]
[]
[null,{"$f":"+'1.PU& Period Selection'!E12","v":0},null,null,null,null,null,null,null,null,null,{"$f":"+'1.PU& Period Selection'!E15","v":0}]
[]
[null,null,"Density Population Distribution",null,"Rural",null,null,"Suburban",null,null,"Urban",null,null,null,"MSW Materials Composition (%)"]
[null,null,null,null,{"$f":"+VLOOKUP($B$26,'1.PU& Period Selection'!BN12:BR80,3,FALSE)","v":{"$error":"#N/A"}},null,null,{"$f":"+VLOOKUP($B$26,'1.PU& Period Selection'!BN12:BR80,4,FALSE)","v":{"$error":"#N/A"}},null,null,{"$f":"+VLOOKUP($B$26,'1.PU& Period Selection'!BN12:BR80,5,FALSE)","v":{"$error":"#N/A"}}]
[null,null,null,null,"Residential","Comm/Inst.","Combined","Residential","Comm/Inst.","Combined","Residential","Comm/Inst.","Combined"]
[null,null,null,null,0.57999999999999996,0.42,{"$f":"SUM(E31:F31)","v":1},0.55000000000000004,0.45,{"$f":"SUM(H31:I31)","v":1},0.57999999999999996,0.42,{"$f":"SUM(K31:L31)","v":1},null,{"$f":"+E29+H29+K29","v":{"$error":"#N/A"}}]
[null,"Material","Newspaper",null,5.1999999999999998E-2,1.9E-2,{"$f":"+$E$31*E32+$F$31*F32","v":3.8139999999999993E-2},0.05,1.9E-2,{"$f":"+$H$31*H32+$I$31*I32","v":3.6050000000000006E-2},6.6000000000000003E-2,0.02,{"$f":"+$K$31*K32+$L$31*L32","v":4.6679999999999999E-2},null,{"$f":"+$E$29*G32+$H$29*J32+$K$29*M32","v":{"$error":"#N/A"}}]
[null,null,"Corrugated Cardboard",null,6.6000000000000003E-2,0.13900000000000001,9.6659999999999996E-2,6.6000000000000003E-2,0.13900000000000001,9.8850000000000021E-2,6.9000000000000006E-2,0.13700000000000001,9.7560000000000008E-2,null,{"$error":"#N/A"}]
[null,null,"Other Recyclable Paper","Paperboard",3.2000000000000001E-2,1.0999999999999999E-2,2.3179999999999999E-2,3.3000000000000002E-2,0.01,2.2650000000000003E-2,3.5999999999999997E-2,8.9999999999999993E-3,2.4659999999999994E-2,null,{"$error":"#N/A"}]
[null,null,null,"Office Paper",8.0000000000000002E-3,3.7999999999999999E-2,2.06E-2,8.9999999999999993E-3,4.2000000000000003E-2,2.385E-2,1.0999999999999999E-2,5.8000000000000003E-2,3.074E-2,null,{"$error":"#N/A"}]
[null,null,null,"Junk Mail",0.03,7.0000000000000001E-3,2.0339999999999997E-2,3.2000000000000001E-2,7.0000000000000001E-3,2.0750000000000001E-2,3.5000000000000003E-2,7.0000000000000001E-3,2.3240000000000004E-2,null,{"$error":"#N/A"}]
[null,null,null,"Other Commercial Printing",1.7000000000000001E-2,2.3E-2,1.9520000000000003E-2,1.7000000000000001E-2,2.4E-2,2.0150000000000001E-2,2.3E-2,2.5999999999999999E-2,2.4259999999999997E-2,null,{"$error":"#N/A"}]
[null,null,null,"Magazines",1.0999999999999999E-2,8.9999999999999993E-3,1.0159999999999999E-2,0.01,8.0000000000000002E-3,9.1000000000000004E-3,1.0999999999999999E-2,0.01,1.0579999999999999E-2,null,{"$error":"#N/A"}]
[null,null,null,"Books",5.0000000000000001E-3,3.0000000000000001E-3,4.1599999999999996E-3,5.0000000000000001E-3,3.0000000000000001E-3,4.1000000000000003E-3,6.0000000000000001E-3,4.0000000000000001E-3,5.1599999999999997E-3,null,{"$error":"#N/A"}]
[null,null,null,"Paper Bags",5.0000000000000001E-3,2E-3,3.7399999999999998E-3,5.0000000000000001E-3,2E-3,3.6500000000000005E-3,6.0000000000000001E-3,2E-3,4.3200000000000001E-3,null,{"$error":"#N/A"}]
[null,null,null,"Phone Books",3.0000000000000001E-3,3.0000000000000001E-3,3.0000000000000001E-3,3.0000000000000001E-3,3.0000000000000001E-3,3.0000000000000001E-3,3.0000000000000001E-3,2E-3,2.5799999999999998E-3,null,{"$error":"#N/A"}]
[null,null,null,"Poly-Coated",2E-3,3.0000000000000001E-3,2.4200000000000003E-3,2E-3,2E-3,2E-3,3.0000000000000001E-3,2E-3,2.5799999999999998E-3,null,{"$error":"#N/A"}]
[null,null,"Other Recyclable Paper (Total)",null,{"$f":"SUM(E34:E42)","v":0.11300000000000002},{"$f":"SUM(F34:F42)","v":9.9000000000000005E-2},0.10711999999999999,{"$f":"SUM(H34:H42)","v":0.11600000000000002},{"$f":"SUM(I34:I42)","v":0.10100000000000001},0.10925000000000001,{"$f":"SUM(K34:K42)","v":0.13400000000000001},{"$f":"SUM(L34:L42)","v":0.12000000000000001},0.12812000000000001,null,{"$error":"#N/A"}]
[null,null,"Other Compostable Paper",null,6.8000000000000005E-2,6.8000000000000005E-2,6.8000000000000005E-2,6.4000000000000001E-2,6.4000000000000001E-2,6.4000000000000001E-2,6.8000000000000005E-2,6.8000000000000005E-2,6.8000000000000005E-2,null,{"$error":"#N/A"}]
[null,null,"Total Paper",null,{"$f":"+E32+E33+E43+E44","v":0.29900000000000004},0.32500000000000001,0.30991999999999997,0.29600000000000004,0.32300000000000001,0.30815000000000003,0.33700000000000002,0.34500000000000003,0.34036000000000005,null,{"$f":"+O32+O33+O43+O44","v":{"$error":"#N/A"}}]
[null,null,"Ferrous/Aluminum Containers","Ferrous Containers",1.9E-2,0.01,{"$f":"+$E$31*E46+$F$31*F46","v":1.5219999999999997E-2},1.2E-2,7.0000000000000001E-3,{"$f":"+$H$31*H46+$I$31*I46","v":9.7500000000000017E-3},1.4E-2,7.0000000000000001E-3,{"$f":"+$K$31*K46+$L$31*L46","v":1.1059999999999999E-2},null,{"$f":"+$E$29*G46+$H$29*J46+$K$29*M46","v":{"$error":"#N/A"}}]
[null,null,null,"Aluminum Containers",7.0000000000000001E-3,4.0000000000000001E-3,5.7399999999999994E-3,6.0000000000000001E-3,3.0000000000000001E-3,4.6500000000000005E-3,5.0000000000000001E-3,4.0000000000000001E-3,4.5799999999999999E-3,null,{"$error":"#N/A"}]
[null,null,"Ferrous/Aluminum Containers (Total)",null,{"$f":"SUM(E46:E47)","v":2.5999999999999999E-2},{"$f":"SUM(F46:F47)","v":1.4E-2},2.0959999999999999E-2,{"$f":"SUM(H46:H47)","v":1.8000000000000002E-2},{"$f":"SUM(I46:I47)","v":0.01},1.4400000000000003E-2,{"$f":"SUM(K46:K47)","v":1.9E-2},{"$f":"SUM(L46:L47)","v":1.0999999999999999E-2},1.5639999999999998E-2,null,{"$error":"#N/A"}]
[null,null,"Other Ferrous Metals",null,5.1999999999999998E-2,5.3999999999999999E-2,5.2839999999999998E-2,0.05,5.8000000000000003E-2,5.3600000000000009E-2,3.3000000000000002E-2,3.6999999999999998E-2,3.4680000000000002E-2,null,{"$error":"#N/A"}]
[null,null,"Other Non-Ferrous Metals","Other aluminum",2E-3,3.0000000000000001E-3,2.4200000000000003E-3,2E-3,3.0000000000000001E-3,2.4499999999999999E-3,2E-3,3.0000000000000001E-3,2.4200000000000003E-3,null,{"$error":"#N/A"}]
[null,null,null,"Automotive batteries",8.0000000000000002E-3,5.0000000000000001E-3,6.7399999999999995E-3,7.0000000000000001E-3,4.0000000000000001E-3,5.6500000000000005E-3,2E-3,2E-3,2E-3,null,{"$error":"#N/A"}]
[null,null,null,"Other non-aluminum",5.0000000000000001E-3,3.0000000000000001E-3,4.1599999999999996E-3,3.0000000000000001E-3,4.0000000000000001E-3,3.4500000000000004E-3,4.0000000000000001E-3,2E-3,3.16E-3,null,{"$error":"#N/A"}]
[null,null,"Other Non-Ferrous Metals (Total)",null,{"$f":"SUM(E50:E52)","v":1.4999999999999999E-2},{"$f":"SUM(F50:F52)","v":1.0999999999999999E-2},1.3319999999999999E-2,{"$f":"SUM(H50:H52)","v":1.2E-2},{"$f":"SUM(I50:I52)","v":1.0999999999999999E-2},1.1550000000000001E-2,{"$f":"SUM(K50:K52)","v":8.0000000000000002E-3},{"$f":"SUM(L50:L52)","v":7.0000000000000001E-3},7.5799999999999999E-3,null,{"$error":"#N/A"}]
[null,null,"Total Metals",null,{"$f":"+E48+E49+E53","v":9.2999999999999999E-2},7.9000000000000001E-2,8.7120000000000003E-2,0.08,7.9000000000000001E-2,7.955000000000001E-2,6.0000000000000005E-2,5.5E-2,5.7900000000000007E-2,null,{"$f":"+O48+O49+O53","v":{"$error":"#N/A"}}]
[null,null,"PET Containers",null,1.0999999999999999E-2,8.0000000000000002E-3,{"$f":"+$E$31*E55+$F$31*F55","v":9.7399999999999987E-3},8.9999999999999993E-3,8.0000000000000002E-3,{"$f":"+$H$31*H55+$I$31*I55","v":8.5500000000000003E-3},1.2E-2,0.01,{"$f":"+$K$31*K55+$L$31*L55","v":1.116E-2},null,{"$f":"+$E$29*G55+$H$29*J55+$K$29*M55","v":{"$error":"#N/A"}}]
[null,null,"HDPE Containers",null,1.0999999999999999E-2,6.0000000000000001E-3,8.8999999999999999E-3,8.9999999999999993E-3,7.0000000000000001E-3,8.0999999999999996E-3,0.01,7.0000000000000001E-3,8.7399999999999995E-3,null,{"$error":"#N/A"}]
[null,null,"Other Plastic (3-7) Containers",null,2E-3,1E-3,1.58E-3,2E-3,2E-3,2E-3,2E-3,2E-3,2E-3,null,{"$error":"#N/A"}]
[null,null,"Film Plastic",null,5.7000000000000002E-2,5.8999999999999997E-2,5.7839999999999996E-2,5.5E-2,5.8000000000000003E-2,5.6350000000000004E-2,5.8000000000000003E-2,5.8000000000000003E-2,5.7999999999999996E-2,null,{"$error":"#N/A"}]
[null,null,"Other Plastic ","Durables",3.1E-2,3.2000000000000001E-2,3.1420000000000003E-2,0.03,3.2000000000000001E-2,3.0900000000000004E-2,3.2000000000000001E-2,3.3000000000000002E-2,3.2420000000000004E-2,null,{"$error":"#N/A"}]
[null,null,null,"Non-Durables",1.6E-2,1.7999999999999999E-2,1.6840000000000001E-2,1.6E-2,1.7999999999999999E-2,1.6899999999999998E-2,1.7999999999999999E-2,1.9E-2,1.8419999999999999E-2,null,{"$error":"#N/A"}]
[null,null,null,"Packaging",1.4E-2,1.0999999999999999E-2,1.2739999999999998E-2,1.4E-2,1.0999999999999999E-2,1.2650000000000002E-2,1.4999999999999999E-2,1.0999999999999999E-2,1.3319999999999999E-2,null,{"$error":"#N/A"}]
[null,null,"Other Plastic (Total)",null,{"$f":"SUM(E59:E61)","v":6.0999999999999999E-2},{"$f":"SUM(F59:F61)","v":6.0999999999999999E-2},6.0999999999999992E-2,{"$f":"SUM(H59:H61)","v":0.06},{"$f":"SUM(I59:I61)","v":6.0999999999999999E-2},6.0450000000000004E-2,{"$f":"SUM(K59:K61)","v":6.5000000000000002E-2},{"$f":"SUM(L59:L61)","v":6.3E-2},6.4159999999999995E-2,null,{"$error":"#N/A"}]
[null,null,"Total Plastics",null,{"$f":"+E55+E56+E57+E58+E62","v":0.14200000000000002},0.13500000000000001,0.13905999999999999,0.13500000000000001,0.13600000000000001,0.13545000000000001,0.14700000000000002,0.14000000000000001,0.14405999999999999,null,{"$f":"+O55+O56+O57+O58+O62","v":{"$error":"#N/A"}}]
[null,null,"Glass Bottles, Jars and Containers",null,4.1000000000000002E-2,3.7999999999999999E-2,{"$f":"+$E$31*E64+$F$31*F64","v":3.9739999999999998E-2},3.9E-2,3.7999999999999999E-2,{"$f":"+$H$31*H64+$I$31*I64","v":3.8550000000000001E-2},4.2999999999999997E-2,3.7999999999999999E-2,{"$f":"+$K$31*K64+$L$31*L64","v":4.0899999999999992E-2},null,{"$f":"+$E$29*G64+$H$29*J64+$K$29*M64","v":{"$error":"#N/A"}}]
[null,null,"Other Glass (Flat glass, dishware, light bulbs, etc.)",null,5.0000000000000001E-3,4.0000000000000001E-3,{"$f":"+$E$31*E65+$F$31*F65","v":4.5799999999999999E-3},3.0000000000000001E-3,4.0000000000000001E-3,{"$f":"+$H$31*H65+$I$31*I65","v":3.4500000000000004E-3},4.0000000000000001E-3,4.0000000000000001E-3,{"$f":"+$K$31*K65+$L$31*L65","v":4.0000000000000001E-3},null,{"$f":"+$E$29*G65+$H$29*J65+$K$29*M65","v":{"$error":"#N/A"}}]
[null,null,"Total Glass",null,{"$f":"+E64+E65","v":4.5999999999999999E-2},4.1999999999999996E-2,4.4319999999999998E-2,4.2000000000000003E-2,4.1999999999999996E-2,4.2000000000000003E-2,4.7E-2,4.1999999999999996E-2,4.4899999999999995E-2,null,{"$error":"#N/A"}]
[null,null,"Food Scraps",null,0.127,0.13300000000000001,{"$f":"+$E$31*E67+$F$31*F67","v":0.12952},0.129,0.155,{"$f":"+$H$31*H67+$I$31*I67","v":0.14070000000000002},0.17199999999999999,0.252,{"$f":"+$K$31*K67+$L$31*L67","v":0.2056},null,{"$f":"+$E$29*G67+$H$29*J67+$K$29*M67","v":{"$error":"#N/A"}}]
[null,null,"Leaves and Grass / Pruning and Trimmings",null,3.1E-2,1.0999999999999999E-2,{"$f":"+$E$31*E68+$F$31*F68","v":2.2599999999999999E-2},0.113,9.0999999999999998E-2,{"$f":"+$H$31*H68+$I$31*I68","v":0.1031},4.2000000000000003E-2,1.4999999999999999E-2,{"$f":"+$K$31*K68+$L$31*L68","v":3.066E-2},null,{"$f":"+$E$29*G68+$H$29*J68+$K$29*M68","v":{"$error":"#N/A"}}]
[null,null,"Total Organics",null,{"$f":"+E67+E68","v":0.158},{"$f":"+F67+F68","v":0.14400000000000002},0.15212000000000001,0.24199999999999999,0.246,0.24380000000000002,0.214,0.26700000000000002,0.23626,null,{"$error":"#N/A"}]
[null,null,"Clothing Footwear, Towels, Sheets",null,4.5999999999999999E-2,0.03,{"$f":"+$E$31*E70+$F$31*F70","v":3.9279999999999995E-2},4.3999999999999997E-2,3.2000000000000001E-2,{"$f":"+$H$31*H70+$I$31*I70","v":3.8600000000000002E-2},4.8000000000000001E-2,2.5000000000000001E-2,{"$f":"+$K$31*K70+$L$31*L70","v":3.8339999999999999E-2},null,{"$f":"+$E$29*G70+$H$29*J70+$K$29*M70","v":{"$error":"#N/A"}}]
[null,null,"Carpet",null,1.4E-2,1.2999999999999999E-2,{"$f":"+$E$31*E71+$F$31*F71","v":1.3579999999999998E-2},1.7000000000000001E-2,1.4E-2,{"$f":"+$H$31*H71+$I$31*I71","v":1.5650000000000001E-2},1.7000000000000001E-2,8.9999999999999993E-3,{"$f":"+$K$31*K71+$L$31*L71","v":1.3639999999999999E-2},null,{"$f":"+$E$29*G71+$H$29*J71+$K$29*M71","v":{"$error":"#N/A"}}]
[null,null,"Total Textiles",null,{"$f":"+E70+E71","v":0.06},{"$f":"+F70+F71","v":4.2999999999999997E-2},5.285999999999999E-2,6.0999999999999999E-2,4.5999999999999999E-2,5.4250000000000007E-2,6.5000000000000002E-2,3.4000000000000002E-2,5.1979999999999998E-2,null,{"$error":"#N/A"}]
[null,null,"Total Wood                                                     (Pallets, crates, adulterated and non-adulterated wood)",null,4.1000000000000002E-2,0.09,{"$f":"+$E$31*E73+$F$31*F73","v":6.1579999999999996E-2},2.9000000000000001E-2,4.1000000000000002E-2,{"$f":"+$H$31*H73+$I$31*I73","v":3.44E-2},0.02,3.5000000000000003E-2,{"$f":"+$K$31*K73+$L$31*L73","v":2.63E-2},null,{"$f":"+$E$29*G73+$H$29*J73+$K$29*M73","v":{"$error":"#N/A"}}]
[null,null,"DIY - Construction & Renovation Materials",null,0.08,7.5999999999999998E-2,7.8320000000000001E-2,3.7999999999999999E-2,2.7E-2,3.3050000000000003E-2,4.3999999999999997E-2,3.7999999999999999E-2,4.1479999999999996E-2,null,{"$error":"#N/A"}]
[null,null,"Diapers",null,1.9E-2,1.0999999999999999E-2,1.5639999999999998E-2,2.1000000000000001E-2,1.2E-2,1.695E-2,2.3E-2,1.0999999999999999E-2,1.796E-2,null,{"$error":"#N/A"}]
[null,null,"Electronics",null,1.2999999999999999E-2,1.4E-2,1.3419999999999998E-2,1.6E-2,1.7000000000000001E-2,1.6449999999999999E-2,1.2999999999999999E-2,1.2999999999999999E-2,1.2999999999999998E-2,null,{"$error":"#N/A"}]
[null,null,"Tires",null,1.7999999999999999E-2,1.7999999999999999E-2,1.7999999999999995E-2,1.7000000000000001E-2,1.4E-2,1.5650000000000001E-2,5.0000000000000001E-3,4.0000000000000001E-3,4.5799999999999999E-3,null,{"$error":"#N/A"}]
[null,null,"HHW",null,6.0000000000000001E-3,0,3.48E-3,6.0000000000000001E-3,0,3.3000000000000004E-3,5.0000000000000001E-3,0,2.8999999999999998E-3,null,{"$error":"#N/A"}]
[null,null,"Soils and Fines",null,6.0000000000000001E-3,6.0000000000000001E-3,{"$f":"+$E$31*E79+$F$31*F79","v":6.0000000000000001E-3},1E-3,2E-3,{"$f":"+$H$31*H79+$I$31*I79","v":1.4500000000000001E-3},1E-3,1E-3,{"$f":"+$K$31*K79+$L$31*L79","v":1E-3},null,{"$f":"+$E$29*G79+$H$29*J79+$K$29*M79","v":{"$error":"#N/A"}}]
[null,null,"Other Composite Materials -  Durable and/or Inert ",null,1.9E-2,1.7000000000000001E-2,{"$f":"+$E$31*E80+$F$31*F80","v":1.8159999999999999E-2},1.6E-2,1.4999999999999999E-2,{"$f":"+$H$31*H80+$I$31*I80","v":1.5550000000000001E-2},1.9E-2,1.4999999999999999E-2,{"$f":"+$K$31*K80+$L$31*L80","v":1.7319999999999999E-2},null,{"$f":"+$E$29*G80+$H$29*J80+$K$29*M80","v":{"$error":"#N/A"}}]
[null,null,"Total Miscellaneous",null,{"$f":"SUM(E74:E80)","v":0.161},0.14200000000000002,0.15302000000000002,0.115,8.7000000000000008E-2,0.10240000000000002,0.11000000000000001,8.2000000000000003E-2,9.8239999999999994E-2,null,{"$f":"SUM(O74:O80)","v":{"$error":"#N/A"}}]
[]
[null,null,"Total",null,{"$f":"+E45+E54+E63+E66+E69+E72+E73+E81","v":1},1,1,1.0000000000000002,1.0000000000000002,1,1.0000000000000002,1.0000000000000002,1,null,{"$f":"+O45+O54+O63+O66+O69+O72+O73+O81","v":{"$error":"#N/A"}}]

{"sheet":"5.MSW Detailed Analysis","index":5,"n_rows":95,"n_cols":30,"rows_kept":95,"cut":false,"hidden":false,"merged":[[16,4,16,6],[51,1,53,1],[54,1,56,1],[57,1,59,1],[37,2,39,2],[46,2,48,2],[61,1,68,1],[18,2,18,3],[19,1,32,1],[33,1,41,1],[42,1,50,1],[21,2,29,2],[33,2,34,2],[1,2,1,14],[14,1,14,10],[14,11,14,14],[4,1,5,14],[7,1,7,12],[8,1,8,5],[8,7,8,14],[11,1,11,8],[11,10,11,14]]}
[]
[null,null,"Step 5. Municipal Solid Waste (MSW) Detailed Composition Analysis"]
[]
[]
[null,"On this tab, the composition of the municipal waste stream will be estimated based on the amount of material generated in the planning unit and the state average of the different waste materials. A pie chart will be generated to clearly show the composition of the waste stream and to identify key categories of the waste stream for the planning unit."]
[]
[]
[null,"The total tons of MSW diverted per year will be auto populated based on previous data inputs, while the amount tons diverted for each material by category should be populated by the user. ",null,null,null,null,null,null,null,null,null,null,null,"Purple cells ","should be used for amounts "]
[null,"of diverted waste by type of material, and a totaled number by category (e.g. paper, metal) should be put in  ",null,null,null,null,"the green cells.","  After inputting the data, a graphic will be generated to show the MSW generation and diversion"]
[null,"streams in Tons.  "]
[]
[null,"Make sure that the total amounts at the bottom of the page are consistent with the data you already put into the calculator. If the cell is highlighted in",null,null,null,null,null,null,null,"red, "," you should revise the amounts of diverted waste by category."]
[]
[]
[null,{"$f":"+'1.PU& Period Selection'!E12","v":0},null,null,null,null,null,null,null,null,null,{"$f":"+'1.PU& Period Selection'!E15","v":0}]
[]
[null,null,null,null,{"$f":"(VLOOKUP('1.PU& Period Selection'!E15,'1.PU& Period Selection'!BW15:CK26,2,FALSE)-1)","v":{"$error":"#N/A"}}]
[null,null,null,null,"MSW Materials Composition (%)","MSW Generated (Tons)","MSW Diverted (Tons)"]
[null,null,"Material",null,{"$f":"E33+E42+E51+E54+E57+E60+E61+E69","v":{"$error":"#N/A"}},{"$f":"'3.PU&MSW Projections'!G46","v":0},{"$f":"+'3.PU&MSW Projections'!G49:H49","v":0}]
[null,"Paper","Newspaper",null,{"$f":"+'4.MSW Comp. Analysis'!O32","v":{"$error":"#N/A"}},{"$f":"E20*$F$19","v":{"$error":"#N/A"}}]
[null,null,"Corrugated Cardboard",null,{"$f":"+'4.MSW Comp. Analysis'!O33","v":{"$error":"#N/A"}},{"$error":"#N/A"}]
[null,null,"Other Recyclable Paper","Paperboard",{"$f":"+'4.MSW Comp. Analysis'!O34","v":{"$error":"#N/A"}},{"$error":"#N/A"}]
[null,null,null,"Office Paper",{"$f":"+'4.MSW Comp. Analysis'!O35","v":{"$error":"#N/A"}},{"$error":"#N/A"}]
[null,null,null,"Junk Mail",{"$f":"+'4.MSW Comp. Analysis'!O36","v":{"$error":"#N/A"}},{"$error":"#N/A"}]
[null,null,null,"Other Commercial Printing",{"$f":"+'4.MSW Comp. Analysis'!O37","v":{"$error":"#N/A"}},{"$error":"#N/A"}]
[null,null,null,"Magazines",{"$f":"+'4.MSW Comp. Analysis'!O38","v":{"$error":"#N/A"}},{"$error":"#N/A"}]
[null,null,null,"Books",{"$f":"+'4.MSW Comp. Analysis'!O39","v":{"$error":"#N/A"}},{"$error":"#N/A"}]
[null,null,null,"Paper Bags",{"$f":"+'4.MSW Comp. Analysis'!O40","v":{"$error":"#N/A"}},{"$error":"#N/A"}]
[null,null,null,"Phone Books",{"$f":"+'4.MSW Comp. Analysis'!O41","v":{"$error":"#N/A"}},{"$error":"#N/A"}]
[null,null,null,"Poly-Coated",{"$f":"+'4.MSW Comp. Analysis'!O42","v":{"$error":"#N/A"}},{"$error":"#N/A"}]
[null,null,"Other Recyclable Paper (Total)",null,{"$f":"+'4.MSW Comp. Analysis'!O43","v":{"$error":"#N/A"}},{"$error":"#N/A"}]
[null,null,"Other Compostable Paper",null,{"$f":"+'4.MSW Comp. Analysis'!O44","v":{"$error":"#N/A"}},{"$error":"#N/A"}]
[null,null,"Total Paper",null,{"$f":"+'4.MSW Comp. Analysis'!O45","v":{"$error":"#N/A"}},{"$error":"#N/A"},{"$f":"SUM(G20:G32)","v":0}]
[null,"Metal","Ferrous/Aluminum Containers","Ferrous Containers",{"$f":"+'4.MSW Comp. Analysis'!O46","v":{"$error":"#N/A"}},{"$error":"#N/A"},{"$f":"$G$36*(E34/$E$36)","v":{"$error":"#N/A"}}]
[null,null,null,"Aluminum Containers",{"$f":"+'4.MSW Comp. Analysis'!O47","v":{"$error":"#N/A"}},{"$error":"#N/A"},{"$f":"$G$36*(E35/$E$36)","v":{"$error":"#N/A"}}]
[null,null,"Ferrous/Aluminum Containers (Total)",null,{"$f":"+'4.MSW Comp. Analysis'!O48","v":{"$error":"#N/A"}},{"$error":"#N/A"}]
[null,null,"Other Ferrous Metals",null,{"$f":"+'4.MSW Comp. Analysis'!O49","v":{"$error":"#N/A"}},{"$error":"#N/A"}]
[null,null,"Other Non-Ferrous Metals","Other aluminum",{"$f":"+'4.MSW Comp. Analysis'!O50","v":{"$error":"#N/A"}},{"$error":"#N/A"}]
[null,null,null,"Automotive batteries",{"$f":"+'4.MSW Comp. Analysis'!O51","v":{"$error":"#N/A"}},{"$error":"#N/A"}]
[null,null,null,"Other non-aluminum",{"$f":"+'4.MSW Comp. Analysis'!O52","v":{"$error":"#N/A"}},{"$error":"#N/A"}]
[null,null,"Other Non-Ferrous Metals (Total)",null,{"$f":"+'4.MSW Comp. Analysis'!O53","v":{"$error":"#N/A"}},{"$error":"#N/A"}]
[null,null,"Total Metals",null,{"$f":"+'4.MSW Comp. Analysis'!O54","v":{"$error":"#N/A"}},{"$error":"#N/A"},{"$f":"SUM(G36:G41)","v":0}]
[null,"Plastic","PET Containers",null,{"$f":"+'4.MSW Comp. Analysis'!O55","v":{"$error":"#N/A"}},{"$error":"#N/A"}]
[null,null,"HDPE Containers",null,{"$f":"+'4.MSW Comp. Analysis'!O56","v":{"$error":"#N/A"}},{"$error":"#N/A"}]
[null,null,"Other Plastic (3-7) Containers",null,{"$f":"+'4.MSW Comp. Analysis'!O57","v":{"$error":"#N/A"}},{"$error":"#N/A"}]
[null,null,"Film Plastic",null,{"$f":"+'4.MSW Comp. Analysis'!O58","v":{"$error":"#N/A"}},{"$error":"#N/A"}]
[null,null,"Other Plastic ","Durables",{"$f":"+'4.MSW Comp. Analysis'!O59","v":{"$error":"#N/A"}},{"$error":"#N/A"}]
[null,null,null,"Non-Durables",{"$f":"+'4.MSW Comp. Analysis'!O60","v":{"$error":"#N/A"}},{"$error":"#N/A"}]
[null,null,null,"Packaging",{"$f":"+'4.MSW Comp. Analysis'!O61","v":{"$error":"#N/A"}},{"$error":"#N/A"}]
[null,null,"Other Plastic (Total)",null,{"$f":"+'4.MSW Comp. Analysis'!O62","v":{"$error":"#N/A"}},{"$error":"#N/A"}]
[null,null,"Total Plastics",null,{"$f":"+'4.MSW Comp. Analysis'!O63","v":{"$error":"#N/A"}},{"$error":"#N/A"},{"$f":"SUM(G43:G50)","v":0}]
[null,"Glass","Glass Bottles, Jars and Containers",null,{"$f":"+'4.MSW Comp. Analysis'!O64","v":{"$error":"#N/A"}},{"$f":"E52*$F$19","v":{"$error":"#N/A"}}]
[null,null,"Other Glass (Flat glass, dishware, light bulbs, etc.)",null,{"$f":"+'4.MSW Comp. Analysis'!O65","v":{"$error":"#N/A"}},{"$error":"#N/A"}]
[null,null,"Total Glass",null,{"$f":"+'4.MSW Comp. Analysis'!O66","v":{"$error":"#N/A"}},{"$error":"#N/A"},{"$f":"SUM(G52:G53)","v":0}]
[null,"Organics","Food Scraps",null,{"$f":"+'4.MSW Comp. Analysis'!O67","v":{"$error":"#N/A"}},{"$error":"#N/A"}]
[null,null,"Leaves and Grass / Pruning and Trimmings",null,{"$f":"+'4.MSW Comp. Analysis'!O68","v":{"$error":"#N/A"}},{"$error":"#N/A"}]
[null,null,"Total Organics",null,{"$f":"+'4.MSW Comp. Analysis'!O69","v":{"$error":"#N/A"}},{"$error":"#N/A"},{"$f":"SUM(G55:G56)","v":0}]
[null,"Textiles","Clothing Footwear, Towels, Sheets",null,{"$f":"+'4.MSW Comp. Analysis'!O70","v":{"$error":"#N/A"}},{"$error":"#N/A"}]
[null,null,"Carpet",null,{"$f":"+'4.MSW Comp. Analysis'!O71","v":{"$error":"#N/A"}},{"$error":"#N/A"}]
[null,null,"Total Textiles",null,{"$f":"+'4.MSW Comp. Analysis'!O72","v":{"$error":"#N/A"}},{"$error":"#N/A"},{"$f":"SUM(G58:G59)","v":0}]
[null,"Wood","Total Wood (Pallets, crates, adulterated and non-adulterated wood)",null,{"$f":"+'4.MSW Comp. Analysis'!O73","v":{"$error":"#N/A"}},{"$error":"#N/A"}]
[null,"Miscellaneous","DIY Construction & Renovation Materials",null,{"$f":"+'4.MSW Comp. Analysis'!O74","v":{"$error":"#N/A"}},{"$error":"#N/A"}]
[null,null,"Diapers",null,{"$f":"+'4.MSW Comp. Analysis'!O75","v":{"$error":"#N/A"}},{"$error":"#N/A"}]
[null,null,"Electronics",null,{"$f":"+'4.MSW Comp. Analysis'!O76","v":{"$error":"#N/A"}},{"$error":"#N/A"}]
[null,null,"Tires",null,{"$f":"+'4.MSW Comp. Analysis'!O77","v":{"$error":"#N/A"}},{"$error":"#N/A"}]
[null,null,"HHW",null,{"$f":"+'4.MSW Comp. Analysis'!O78","v":{"$error":"#N/A"}},{"$error":"#N/A"}]
[null,null,"Soils and Fines",null,{"$f":"+'4.MSW Comp. Analysis'!O79","v":{"$error":"#N/A"}},{"$error":"#N/A"}]
[null,null,"Other Composite Materials - Durable and/or inert",null,{"$f":"+'4.MSW Comp. Analysis'!O80","v":{"$error":"#N/A"}},{"$error":"#N/A"}]
[null,null,"Total Miscellaneous",null,{"$f":"+'4.MSW Comp. Analysis'!O81","v":{"$error":"#N/A"}},{"$error":"#N/A"},{"$f":"SUM(G62:G68)","v":0}]
[]
[null,null,"Total",null,{"$f":"E33+E42+E51+E54+E57+E60+E61+E69","v":{"$error":"#N/A"}},{"$f":"F33+F42+F51+F54+F57+F60+F61+F69","v":{"$error":"#N/A"}},{"$f":"G33+G42+G51+G54+G57+G60+G61+G69","v":0}]
[]
[]
[]
[]
[]
[]
[null,null,null,null,null,null,null,null,null,null,null,null,null,null,null,null,null,null,null,null,null,null,null,null,null,null,null,"Glass",{"$f":"$E$54","v":{"$error":"#N/A"}}]
[null,null,null,null,null,null,null,null,null,null,null,null,null,null,null,null,null,null,null,null,null,null,null,null,null,null,null,"Wood",{"$f":"$E$61","v":{"$error":"#N/A"}}]
[null,null,null,null,null,null,null,null,null,null,null,null,null,null,null,null,null,null,null,null,null,null,null,null,null,null,null,"Textiles",{"$f":"$E$60","v":{"$error":"#N/A"}}]
[null,null,null,null,null,null,null,null,null,null,null,null,null,null,null,null,null,null,null,null,null,null,null,null,null,null,null,"Metal",{"$f":"$E$42","v":{"$error":"#N/A"}}]
[null,null,null,null,null,null,null,null,null,null,null,null,null,null,null,null,null,null,null,null,null,null,null,null,null,null,null,"Miscellaneous",{"$f":"$E$69","v":{"$error":"#N/A"}}]
[null,null,null,null,null,null,null,null,null,null,null,null,null,null,null,null,null,null,null,null,null,null,null,null,null,null,null,"Plastics",{"$f":"$E$51","v":{"$error":"#N/A"}}]
[null,null,null,null,null,null,null,null,null,null,null,null,null,null,null,null,null,null,null,null,null,null,null,null,null,null,null,"Organics",{"$f":"$E$57","v":{"$error":"#N/A"}}]
[null,null,null,null,null,null,null,null,null,null,null,null,null,null,null,null,null,null,null,null,null,null,null,null,null,null,null,"Paper",{"$f":"$E$33","v":{"$error":"#N/A"}}]
[]
[null,null,null,null,null,null,null,null,null,null,null,null,null,null,null,null,null,null,null,null,null,null,null,null,null,null,null,null,"Generated ","Diverted "]
[null,null,null,null,null,null,null,null,null,null,null,null,null,null,null,null,null,null,null,null,null,null,null,null,null,null,null,"Paper",{"$f":"+F33","v":{"$error":"#N/A"}},{"$f":"+G33","v":0}]
[null,null,null,null,null,null,null,null,null,null,null,null,null,null,null,null,null,null,null,null,null,null,null,null,null,null,null,"Metal ",{"$f":"+F42","v":{"$error":"#N/A"}},{"$f":"+G42","v":0}]
[null,null,null,null,null,null,null,null,null,null,null,null,null,null,null,null,null,null,null,null,null,null,null,null,null,null,null,"Plastic ",{"$f":"+F51","v":{"$error":"#N/A"}},{"$f":"+G51","v":0}]
[null,null,null,null,null,null,null,null,null,null,null,null,null,null,null,null,null,null,null,null,null,null,null,null,null,null,null,"Glass ",{"$f":"+F54","v":{"$error":"#N/A"}},{"$f":"+G54","v":0}]
[null,null,null,null,null,null,null,null,null,null,null,null,null,null,null,null,null,null,null,null,null,null,null,null,null,null,null,"Organics",{"$f":"+F57","v":{"$error":"#N/A"}},{"$f":"+G57","v":0}]
[null,null,null,null,null,null,null,null,null,null,null,null,null,null,null,null,null,null,null,null,null,null,null,null,null,null,null,"Textiles",{"$f":"+F60","v":{"$error":"#N/A"}},{"$f":"+G60","v":0}]
[null,null,null,null,null,null,null,null,null,null,null,null,null,null,null,null,null,null,null,null,null,null,null,null,null,null,null,"Wood",{"$f":"+F61","v":{"$error":"#N/A"}},{"$f":"+G61:G61","v":0}]
[null,null,null,null,null,null,null,null,null,null,null,null,null,null,null,null,null,null,null,null,null,null,null,null,null,null,null,"Miscellaneous",{"$f":"+F69","v":{"$error":"#N/A"}},{"$f":"+G69","v":0}]

{"sheet":"6.MSW Diversions","index":6,"n_rows":68,"n_cols":44,"rows_kept":68,"cut":false,"hidden":false,"merged":[[45,2,47,2],[17,2,17,3],[56,1,58,1],[60,1,67,1],[18,1,31,1],[32,1,40,1],[41,1,49,1],[50,1,52,1],[53,1,55,1],[32,2,33,2],[36,2,38,2],[20,2,28,2],[1,2,1,37],[9,2,9,28],[15,17,15,19],[15,5,15,7],[6,2,6,3],[12,4,12,7],[11,4,11,7],[15,35,15,37],[15,29,15,31],[15,32,15,34],[15,26,15,28],[15,23,15,25],[15,20,15,22],[15,38,15,40],[15,41,15,43],[9,31,9,43],[3,2,4,43],[6,5,6,43],[5,2,5,43],[13,4,13,7],[15,8,15,10],[15,11,15,13],[15,14,15,16]]}
[]
[null,null,"Step 6. Municipal Solid Waste (MSW) Diversion Projections"]
[]
[null,null,"This tab will be used to create goals for the amount of material the planning unit will divert for each year of the planning period. These goals will be entered as percentages, based on how much of the material generated will be diverted for recycling or beneficial use."]
[]
[]
[null,null,"The diversion goal percentages will  be  entered  in the",null,"purple cells"," for each material and each year of the planning period."]
[]
[]
[null,null,{"$f":"+'1.PU& Period Selection'!E12","v":0},null,null,null,null,null,null,null,null,null,null,null,null,null,null,null,null,null,null,null,null,null,null,null,null,null,null,null,null,{"$f":"+'1.PU& Period Selection'!E15","v":0}]
[]
[null,null,null,null,"Year",null,null,null,null,null,{"$f":"'3.PU&MSW Projections'!H68","v":{"$error":"#N/A"}},null,null,{"$f":"'3.PU&MSW Projections'!I68","v":{"$error":"#N/A"}},null,null,{"$f":"'3.PU&MSW Projections'!J68","v":{"$error":"#N/A"}},null,null,{"$f":"'3.PU&MSW Projections'!K68","v":{"$error":"#N/A"}},null,null,{"$f":"'3.PU&MSW Projections'!L68","v":{"$error":"#N/A"}},null,null,{"$f":"'3.PU&MSW Projections'!M68","v":{"$error":"#N/A"}},null,null,{"$f":"'3.PU&MSW Projections'!N68","v":{"$error":"#N/A"}},null,null,{"$f":"'3.PU&MSW Projections'!O68","v":{"$error":"#N/A"}},null,null,{"$f":"'3.PU&MSW Projections'!P68","v":{"$error":"#N/A"}},null,null,{"$f":"'3.PU&MSW Projections'!Q68","v":{"$error":"#N/A"}},null,null,{"$f":"'3.PU&MSW Projections'!R68","v":{"$error":"#N/A"}},null,null,{"$f":"'3.PU&MSW Projections'!S68","v":{"$error":"#N/A"}}]
[null,null,null,null,"Projected MSW Generation (Tons/yr)",null,null,null,null,null,{"$f":"'3.PU&MSW Projections'!G70","v":{"$error":"#N/A"}},null,null,{"$f":"'3.PU&MSW Projections'!H70","v":{"$error":"#N/A"}},null,null,{"$f":"'3.PU&MSW Projections'!I70","v":{"$error":"#N/A"}},null,null,{"$f":"'3.PU&MSW Projections'!J70","v":{"$error":"#N/A"}},null,null,{"$f":"'3.PU&MSW Projections'!K70","v":{"$error":"#N/A"}},null,null,{"$f":"'3.PU&MSW Projections'!L70","v":{"$error":"#N/A"}},null,null,{"$f":"'3.PU&MSW Projections'!M70","v":{"$error":"#N/A"}},null,null,{"$f":"'3.PU&MSW Projections'!N70","v":{"$error":"#N/A"}},null,null,{"$f":"'3.PU&MSW Projections'!O70","v":{"$error":"#N/A"}},null,null,{"$f":"'3.PU&MSW Projections'!P70","v":{"$error":"#N/A"}},null,null,{"$f":"'3.PU&MSW Projections'!U70","v":0},null,null,{"$f":"'3.PU&MSW Projections'!V70","v":0}]
[null,null,null,null,"MSW Diverted (Tons/yr)",null,null,null,null,null,{"$f":"+J18","v":{"$error":"#N/A"}},null,null,{"$f":"+M18","v":{"$error":"#N/A"}},null,null,{"$f":"+P18","v":{"$error":"#N/A"}},null,null,{"$f":"+S18","v":{"$error":"#N/A"}},null,null,{"$f":"+V18","v":{"$error":"#N/A"}},null,null,{"$f":"+Y18","v":{"$error":"#N/A"}},null,null,{"$f":"+AB18","v":{"$error":"#N/A"}},null,null,{"$f":"+AE18","v":{"$error":"#N/A"}},null,null,{"$f":"+AH18","v":{"$error":"#N/A"}},null,null,{"$f":"+AK18","v":{"$error":"#N/A"}},null,null,{"$f":"+AN18","v":{"$error":"#N/A"}},null,null,{"$f":"+AQ18","v":{"$error":"#N/A"}}]
[]
[null,null,null,null,null,{"$f":"(VLOOKUP('1.PU& Period Selection'!E15,'1.PU& Period Selection'!BW15:CK26,2,FALSE)-1)","v":{"$error":"#N/A"}},null,null,{"$f":"+'3.PU&MSW Projections'!H55","v":{"$error":"#N/A"}},null,null,{"$f":"+'3.PU&MSW Projections'!I55","v":{"$error":"#N/A"}},null,null,{"$f":"+'3.PU&MSW Projections'!J55","v":{"$error":"#N/A"}},null,null,{"$f":"+'3.PU&MSW Projections'!K55","v":{"$error":"#N/A"}},null,null,{"$f":"+'3.PU&MSW Projections'!L55","v":{"$error":"#N/A"}},null,null,{"$f":"+'3.PU&MSW Projections'!M55","v":{"$error":"#N/A"}},null,null,{"$f":"+'3.PU&MSW Projections'!N55","v":{"$error":"#N/A"}},null,null,{"$f":"+'3.PU&MSW Projections'!O55","v":{"$error":"#N/A"}},null,null,{"$f":"+'3.PU&MSW Projections'!P55","v":{"$error":"#N/A"}},null,null,{"$f":"+'3.PU&MSW Projections'!Q55","v":{"$error":"#N/A"}},null,null,{"$f":"+'3.PU&MSW Projections'!R55","v":{"$error":"#N/A"}},null,null,{"$f":"+'3.PU&MSW Projections'!S55","v":{"$error":"#N/A"}}]
[null,null,null,null,"MSW Materials Composition (%)","MSW Generated (Tons)","MSW Diverted (Tons)","% MSW Diverted","MSW generated (Tons)","MSW Diverted","% MSW Diverted","MSW generated (Tons)","MSW Diverted","% MSW Diverted","MSW generated (Tons)","MSW Diverted","% MSW Diverted","MSW generated (Tons)","MSW Diverted","% MSW Diverted","MSW generated (Tons)","MSW Diverted","% MSW Diverted","MSW generated (Tons)","MSW Diverted","% MSW Diverted","MSW generated (Tons)","MSW Diverted","% MSW Diverted","MSW generated (Tons)","MSW Diverted","% MSW Diverted","MSW generated (Tons)","MSW Diverted","% MSW Diverted","MSW generated (Tons)","MSW Diverted","% MSW Diverted","MSW generated (Tons)","MSW Diverted","% MSW Diverted","MSW generated (Tons)","MSW Diverted","% MSW Diverted"]
[null,null,"Material",null,{"$f":"E32+E41+E50+E53+E56+E59+E60+E68","v":{"$error":"#N/A"}},{"$f":"'3.PU&MSW Projections'!G46","v":0},{"$f":"G32+G41+G50+G53+G56+G59+G60+G68","v":0},{"$f":"G18/F18","v":{"$error":"#DIV/0!"}},{"$f":"+'3.PU&MSW Projections'!G70","v":{"$error":"#N/A"}},{"$f":"J32+J41+J50+J53+J56+J59+J60+J68","v":{"$error":"#N/A"}},{"$f":"J18/I18","v":{"$error":"#N/A"}},{"$f":"+'3.PU&MSW Projections'!H70","v":{"$error":"#N/A"}},{"$f":"M32+M41+M50+M53+M56+M59+M60+M68","v":{"$error":"#N/A"}},{"$f":"M18/L18","v":{"$error":"#N/A"}},{"$f":"+'3.PU&MSW Projections'!I70","v":{"$error":"#N/A"}},{"$f":"P32+P41+P50+P53+P56+P59+P60+P68","v":{"$error":"#N/A"}},{"$f":"P18/O18","v":{"$error":"#N/A"}},{"$f":"+'3.PU&MSW Projections'!J70","v":{"$error":"#N/A"}},{"$f":"S32+S41+S50+S53+S56+S59+S60+S68","v":{"$error":"#N/A"}},{"$f":"S18/R18","v":{"$error":"#N/A"}},{"$f":"+'3.PU&MSW Projections'!K70","v":{"$error":"#N/A"}},{"$f":"V32+V41+V50+V53+V56+V59+V60+V68","v":{"$error":"#N/A"}},{"$f":"V18/U18","v":{"$error":"#N/A"}},{"$f":"+'3.PU&MSW Projections'!L70","v":{"$error":"#N/A"}},{"$f":"Y32+Y41+Y50+Y53+Y56+Y59+Y60+Y68","v":{"$error":"#N/A"}},{"$f":"Y18/X18","v":{"$error":"#N/A"}},{"$f":"+'3.PU&MSW Projections'!M70","v":{"$error":"#N/A"}},{"$f":"AB32+AB41+AB50+AB53+AB56+AB59+AB60+AB68","v":{"$error":"#N/A"}},{"$f":"AB18/AA18","v":{"$error":"#N/A"}},{"$f":"+'3.PU&MSW Projections'!N70","v":{"$error":"#N/A"}},{"$f":"AE32+AE41+AE50+AE53+AE56+AE59+AE60+AE68","v":{"$error":"#N/A"}},{"$f":"AE18/AD18","v":{"$error":"#N/A"}},{"$f":"+'3.PU&MSW Projections'!O70","v":{"$error":"#N/A"}},{"$f":"AH32+AH41+AH50+AH53+AH56+AH59+AH60+AH68","v":{"$error":"#N/A"}},{"$f":"AH18/AG18","v":{"$error":"#N/A"}},{"$f":"+'3.PU&MSW Projections'!P70","v":{"$error":"#N/A"}},{"$f":"AK32+AK41+AK50+AK53+AK56+AK59+AK60+AK68","v":{"$error":"#N/A"}},{"$f":"AK18/AJ18","v":{"$error":"#N/A"}},{"$f":"+'3.PU&MSW Projections'!Q70","v":{"$error":"#N/A"}},{"$f":"AN32+AN41+AN50+AN53+AN56+AN59+AN60+AN68","v":{"$error":"#N/A"}},{"$f":"AN18/AM18","v":{"$error":"#N/A"}},{"$f":"+'3.PU&MSW Projections'!R70","v":{"$error":"#N/A"}},{"$f":"AQ32+AQ41+AQ50+AQ53+AQ56+AQ59+AQ60+AQ68","v":{"$error":"#N/A"}},{"$f":"AQ18/AP18","v":{"$error":"#N/A"}}]
[null,"Paper","Newspaper",null,{"$f":"+'4.MSW Comp. Analysis'!O32","v":{"$error":"#N/A"}},{"$f":"E19*'5.MSW Detailed Analysis'!$F$19","v":{"$error":"#N/A"}},{"$f":"'5.MSW Detailed Analysis'!G20","v":0},{"$f":"G19/F19","v":{"$error":"#N/A"}},{"$f":"+$I$18*E19","v":{"$error":"#N/A"}},{"$f":"I19*K19","v":{"$error":"#N/A"}},null,{"$f":"$L$18*E19","v":{"$error":"#N/A"}},{"$f":"L19*N19","v":{"$error":"#N/A"}},null,{"$f":"+$O$18*E19","v":{"$error":"#N/A"}},{"$f":"O19*Q19","v":{"$error":"#N/A"}},null,{"$f":"+$R$18*E19","v":{"$error":"#N/A"}},{"$f":"R19*T19","v":{"$error":"#N/A"}},null,{"$f":"+$U$18*E19","v":{"$error":"#N/A"}},{"$f":"W19*U19","v":{"$error":"#N/A"}},null,{"$f":"+$X$18*E19","v":{"$error":"#N/A"}},{"$f":"X19*Z19","v":{"$error":"#N/A"}},null,{"$f":"+$AA$18*E19","v":{"$error":"#N/A"}},{"$f":"AA19*AC19","v":{"$error":"#N/A"}},null,{"$f":"+$AD$18*E19","v":{"$error":"#N/A"}},{"$f":"AD19*AF19","v":{"$error":"#N/A"}},null,{"$f":"+$AG$18*E19","v":{"$error":"#N/A"}},{"$f":"AG19*AI19","v":{"$error":"#N/A"}},null,{"$f":"+$AJ$18*E19","v":{"$error":"#N/A"}},{"$f":"AJ19*AL19","v":{"$error":"#N/A"}},null,{"$f":"+$AM$18*E19","v":{"$error":"#N/A"}},{"$f":"AM19*AO19","v":{"$error":"#N/A"}},null,{"$f":"+$AP$18*E19","v":{"$error":"#N/A"}},{"$f":"AP19*AR19","v":{"$error":"#N/A"}}]
[null,null,"Corrugated Cardboard",null,{"$f":"+'4.MSW Comp. Analysis'!O33","v":{"$error":"#N/A"}},{"$f":"E20*'5.MSW Detailed Analysis'!$F$19","v":{"$error":"#N/A"}},{"$f":"'5.MSW Detailed Analysis'!G21","v":0},{"$error":"#N/A"},{"$error":"#N/A"},{"$error":"#N/A"},null,{"$error":"#N/A"},{"$error":"#N/A"},null,{"$error":"#N/A"},{"$error":"#N/A"},null,{"$error":"#N/A"},{"$error":"#N/A"},null,{"$error":"#N/A"},{"$error":"#N/A"},null,{"$error":"#N/A"},{"$error":"#N/A"},null,{"$error":"#N/A"},{"$error":"#N/A"},null,{"$error":"#N/A"},{"$error":"#N/A"},null,{"$error":"#N/A"},{"$error":"#N/A"},null,{"$error":"#N/A"},{"$error":"#N/A"},null,{"$f":"+$AM$18*E20","v":{"$error":"#N/A"}},{"$error":"#N/A"},null,{"$f":"+$AJ$18*E20","v":{"$error":"#N/A"}},{"$error":"#N/A"}]
[null,null,"Other Recyclable Paper","Paperboard",{"$f":"+'4.MSW Comp. Analysis'!O34","v":{"$error":"#N/A"}},{"$f":"E21*'5.MSW Detailed Analysis'!$F$19","v":{"$error":"#N/A"}},{"$f":"'5.MSW Detailed Analysis'!G22","v":0},{"$error":"#N/A"},{"$error":"#N/A"},{"$error":"#N/A"},null,{"$error":"#N/A"},{"$error":"#N/A"},null,{"$error":"#N/A"},{"$error":"#N/A"},null,{"$error":"#N/A"},{"$error":"#N/A"},null,{"$error":"#N/A"},{"$error":"#N/A"},null,{"$error":"#N/A"},{"$error":"#N/A"},null,{"$error":"#N/A"},{"$error":"#N/A"},null,{"$error":"#N/A"},{"$error":"#N/A"},null,{"$error":"#N/A"},{"$error":"#N/A"},null,{"$error":"#N/A"},{"$error":"#N/A"},null,{"$error":"#N/A"},{"$error":"#N/A"},null,{"$f":"+$AJ$18*K21","v":{"$error":"#N/A"}},{"$error":"#N/A"}]
[null,null,null,"Office Paper",{"$f":"+'4.MSW Comp. Analysis'!O35","v":{"$error":"#N/A"}},{"$f":"E22*'5.MSW Detailed Analysis'!$F$19","v":{"$error":"#N/A"}},{"$f":"'5.MSW Detailed Analysis'!G23","v":0},{"$error":"#N/A"},{"$error":"#N/A"},{"$error":"#N/A"},null,{"$error":"#N/A"},{"$error":"#N/A"},null,{"$error":"#N/A"},{"$error":"#N/A"},null,{"$error":"#N/A"},{"$error":"#N/A"},null,{"$error":"#N/A"},{"$error":"#N/A"},null,{"$error":"#N/A"},{"$error":"#N/A"},null,{"$error":"#N/A"},{"$error":"#N/A"},null,{"$error":"#N/A"},{"$error":"#N/A"},null,{"$error":"#N/A"},{"$error":"#N/A"},null,{"$error":"#N/A"},{"$error":"#N/A"},null,{"$error":"#N/A"},{"$error":"#N/A"},null,{"$error":"#N/A"},{"$error":"#N/A"}]
[null,null,null,"Junk Mail",{"$f":"+'4.MSW Comp. Analysis'!O36","v":{"$error":"#N/A"}},{"$f":"E23*'5.MSW Detailed Analysis'!$F$19","v":{"$error":"#N/A"}},{"$f":"'5.MSW Detailed Analysis'!G24","v":0},{"$error":"#N/A"},{"$error":"#N/A"},{"$error":"#N/A"},null,{"$error":"#N/A"},{"$error":"#N/A"},null,{"$error":"#N/A"},{"$error":"#N/A"},null,{"$error":"#N/A"},{"$error":"#N/A"},null,{"$error":"#N/A"},{"$error":"#N/A"},null,{"$error":"#N/A"},{"$error":"#N/A"},null,{"$error":"#N/A"},{"$error":"#N/A"},null,{"$error":"#N/A"},{"$error":"#N/A"},null,{"$error":"#N/A"},{"$error":"#N/A"},null,{"$error":"#N/A"},{"$error":"#N/A"},null,{"$error":"#N/A"},{"$error":"#N/A"},null,{"$error":"#N/A"},{"$error":"#N/A"}]
[null,null,null,"Other Commercial Printing",{"$f":"+'4.MSW Comp. Analysis'!O37","v":{"$error":"#N/A"}},{"$f":"E24*'5.MSW Detailed Analysis'!$F$19","v":{"$error":"#N/A"}},{"$f":"'5.MSW Detailed Analysis'!G25","v":0},{"$error":"#N/A"},{"$error":"#N/A"},{"$error":"#N/A"},null,{"$error":"#N/A"},{"$error":"#N/A"},null,{"$error":"#N/A"},{"$error":"#N/A"},null,{"$error":"#N/A"},{"$error":"#N/A"},null,{"$error":"#N/A"},{"$error":"#N/A"},null,{"$error":"#N/A"},{"$error":"#N/A"},null,{"$error":"#N/A"},{"$error":"#N/A"},null,{"$error":"#N/A"},{"$error":"#N/A"},null,{"$error":"#N/A"},{"$error":"#N/A"},null,{"$error":"#N/A"},{"$error":"#N/A"},null,{"$error":"#N/A"},{"$error":"#N/A"},null,{"$error":"#N/A"},{"$error":"#N/A"}]
[null,null,null,"Magazines",{"$f":"+'4.MSW Comp. Analysis'!O38","v":{"$error":"#N/A"}},{"$f":"E25*'5.MSW Detailed Analysis'!$F$19","v":{"$error":"#N/A"}},{"$f":"'5.MSW Detailed Analysis'!G26","v":0},{"$error":"#N/A"},{"$error":"#N/A"},{"$error":"#N/A"},null,{"$error":"#N/A"},{"$error":"#N/A"},null,{"$error":"#N/A"},{"$error":"#N/A"},null,{"$error":"#N/A"},{"$error":"#N/A"},null,{"$error":"#N/A"},{"$error":"#N/A"},null,{"$error":"#N/A"},{"$error":"#N/A"},null,{"$error":"#N/A"},{"$error":"#N/A"},null,{"$error":"#N/A"},{"$error":"#N/A"},null,{"$error":"#N/A"},{"$error":"#N/A"},null,{"$error":"#N/A"},{"$error":"#N/A"},null,{"$error":"#N/A"},{"$error":"#N/A"},null,{"$error":"#N/A"},{"$error":"#N/A"}]
[null,null,null,"Books",{"$f":"+'4.MSW Comp. Analysis'!O39","v":{"$error":"#N/A"}},{"$f":"E26*'5.MSW Detailed Analysis'!$F$19","v":{"$error":"#N/A"}},{"$f":"'5.MSW Detailed Analysis'!G27","v":0},{"$error":"#N/A"},{"$error":"#N/A"},{"$error":"#N/A"},null,{"$error":"#N/A"},{"$error":"#N/A"},null,{"$error":"#N/A"},{"$error":"#N/A"},null,{"$error":"#N/A"},{"$error":"#N/A"},null,{"$error":"#N/A"},{"$error":"#N/A"},null,{"$error":"#N/A"},{"$error":"#N/A"},null,{"$error":"#N/A"},{"$error":"#N/A"},null,{"$error":"#N/A"},{"$error":"#N/A"},null,{"$error":"#N/A"},{"$error":"#N/A"},null,{"$error":"#N/A"},{"$error":"#N/A"},null,{"$error":"#N/A"},{"$error":"#N/A"},null,{"$error":"#N/A"},{"$error":"#N/A"}]
[null,null,null,"Paper Bags",{"$f":"+'4.MSW Comp. Analysis'!O40","v":{"$error":"#N/A"}},{"$f":"E27*'5.MSW Detailed Analysis'!$F$19","v":{"$error":"#N/A"}},{"$f":"'5.MSW Detailed Analysis'!G28","v":0},{"$error":"#N/A"},{"$error":"#N/A"},{"$error":"#N/A"},null,{"$error":"#N/A"},{"$error":"#N/A"},null,{"$error":"#N/A"},{"$error":"#N/A"},null,{"$error":"#N/A"},{"$error":"#N/A"},null,{"$error":"#N/A"},{"$error":"#N/A"},null,{"$error":"#N/A"},{"$error":"#N/A"},null,{"$error":"#N/A"},{"$error":"#N/A"},null,{"$error":"#N/A"},{"$error":"#N/A"},null,{"$error":"#N/A"},{"$error":"#N/A"},null,{"$error":"#N/A"},{"$error":"#N/A"},null,{"$error":"#N/A"},{"$error":"#N/A"},null,{"$error":"#N/A"},{"$error":"#N/A"}]
[null,null,null,"Phone Books",{"$f":"+'4.MSW Comp. Analysis'!O41","v":{"$error":"#N/A"}},{"$f":"E28*'5.MSW Detailed Analysis'!$F$19","v":{"$error":"#N/A"}},{"$f":"'5.MSW Detailed Analysis'!G29","v":0},{"$error":"#N/A"},{"$error":"#N/A"},{"$error":"#N/A"},null,{"$error":"#N/A"},{"$error":"#N/A"},null,{"$error":"#N/A"},{"$error":"#N/A"},null,{"$error":"#N/A"},{"$error":"#N/A"},null,{"$error":"#N/A"},{"$error":"#N/A"},null,{"$error":"#N/A"},{"$error":"#N/A"},null,{"$error":"#N/A"},{"$error":"#N/A"},null,{"$error":"#N/A"},{"$error":"#N/A"},null,{"$error":"#N/A"},{"$error":"#N/A"},null,{"$error":"#N/A"},{"$error":"#N/A"},null,{"$error":"#N/A"},{"$error":"#N/A"},null,{"$error":"#N/A"},{"$error":"#N/A"}]
[null,null,null,"Poly-Coated",{"$f":"+'4.MSW Comp. Analysis'!O42","v":{"$error":"#N/A"}},{"$f":"E29*'5.MSW Detailed Analysis'!$F$19","v":{"$error":"#N/A"}},{"$f":"'5.MSW Detailed Analysis'!G30","v":0},{"$error":"#N/A"},{"$error":"#N/A"},{"$error":"#N/A"},null,{"$error":"#N/A"},{"$error":"#N/A"},null,{"$error":"#N/A"},{"$error":"#N/A"},null,{"$error":"#N/A"},{"$error":"#N/A"},null,{"$error":"#N/A"},{"$error":"#N/A"},null,{"$error":"#N/A"},{"$error":"#N/A"},null,{"$error":"#N/A"},{"$error":"#N/A"},null,{"$error":"#N/A"},{"$error":"#N/A"},null,{"$error":"#N/A"},{"$error":"#N/A"},null,{"$error":"#N/A"},{"$error":"#N/A"},null,{"$error":"#N/A"},{"$error":"#N/A"},null,{"$error":"#N/A"},{"$error":"#N/A"}]
[null,null,"Other Recyclable Paper (Total)",null,{"$f":"+'4.MSW Comp. Analysis'!O43","v":{"$error":"#N/A"}},{"$f":"E30*'5.MSW Detailed Analysis'!$F$19","v":{"$error":"#N/A"}},{"$f":"'5.MSW Detailed Analysis'!G31","v":0},{"$error":"#N/A"},{"$error":"#N/A"},{"$error":"#N/A"},null,{"$error":"#N/A"},{"$error":"#N/A"},null,{"$error":"#N/A"},{"$error":"#N/A"},null,{"$error":"#N/A"},{"$error":"#N/A"},null,{"$error":"#N/A"},{"$error":"#N/A"},null,{"$error":"#N/A"},{"$error":"#N/A"},null,{"$error":"#N/A"},{"$error":"#N/A"},null,{"$error":"#N/A"},{"$error":"#N/A"},null,{"$error":"#N/A"},{"$error":"#N/A"},null,{"$error":"#N/A"},{"$error":"#N/A"},null,{"$error":"#N/A"},{"$error":"#N/A"},null,{"$f":"+$AJ$18*E30","v":{"$error":"#N/A"}},{"$error":"#N/A"}]
[null,null,"Other Compostable Paper",null,{"$f":"+'4.MSW Comp. Analysis'!O44","v":{"$error":"#N/A"}},{"$f":"E31*'5.MSW Detailed Analysis'!$F$19","v":{"$error":"#N/A"}},{"$f":"'5.MSW Detailed Analysis'!G32","v":0},{"$error":"#N/A"},{"$error":"#N/A"},{"$error":"#N/A"},null,{"$error":"#N/A"},{"$error":"#N/A"},null,{"$error":"#N/A"},{"$error":"#N/A"},null,{"$error":"#N/A"},{"$error":"#N/A"},null,{"$error":"#N/A"},{"$error":"#N/A"},null,{"$error":"#N/A"},{"$error":"#N/A"},null,{"$error":"#N/A"},{"$error":"#N/A"},null,{"$error":"#N/A"},{"$error":"#N/A"},null,{"$error":"#N/A"},{"$error":"#N/A"},null,{"$error":"#N/A"},{"$error":"#N/A"},null,{"$error":"#N/A"},{"$error":"#N/A"},null,{"$f":"+$AJ$18*E31","v":{"$error":"#N/A"}},{"$error":"#N/A"}]
[null,null,"Total Paper",null,{"$f":"+'4.MSW Comp. Analysis'!O45","v":{"$error":"#N/A"}},{"$f":"E32*'5.MSW Detailed Analysis'!$F$19","v":{"$error":"#N/A"}},{"$f":"'5.MSW Detailed Analysis'!G33","v":0},{"$error":"#N/A"},{"$f":"+I19+I20+I30+I31","v":{"$error":"#N/A"}},{"$f":"+J19+J20+J30+J31","v":{"$error":"#N/A"}},{"$f":"J32/I32","v":{"$error":"#N/A"}},{"$f":"+L19+L20+L30+L31","v":{"$error":"#N/A"}},{"$f":"+M19+M20+M30+M31","v":{"$error":"#N/A"}},{"$f":"M32/L32","v":{"$error":"#N/A"}},{"$f":"+O19+O20+O30+O31","v":{"$error":"#N/A"}},{"$f":"+P19+P20+P30+P31","v":{"$error":"#N/A"}},{"$f":"P32/O32","v":{"$error":"#N/A"}},{"$f":"+R19+R20+R30+R31","v":{"$error":"#N/A"}},{"$f":"+S19+S20+S30+S31","v":{"$error":"#N/A"}},{"$f":"S32/R32","v":{"$error":"#N/A"}},{"$f":"+U19+U20+U30+U31","v":{"$error":"#N/A"}},{"$f":"+V19+V20+V30+V31","v":{"$error":"#N/A"}},{"$f":"V32/U32","v":{"$error":"#N/A"}},{"$f":"+X19+X20+X30+X31","v":{"$error":"#N/A"}},{"$f":"+Y19+Y20+Y30+Y31","v":{"$error":"#N/A"}},{"$f":"Y32/X32","v":{"$error":"#N/A"}},{"$f":"+AA19+AA20+AA30+AA31","v":{"$error":"#N/A"}},{"$f":"+AB19+AB20+AB30+AB31","v":{"$error":"#N/A"}},{"$f":"AB32/AA32","v":{"$error":"#N/A"}},{"$f":"+AD19+AD20+AD30+AD31","v":{"$error":"#N/A"}},{"$f":"+AE19+AE20+AE30+AE31","v":{"$error":"#N/A"}},{"$f":"AE32/AD32","v":{"$error":"#N/A"}},{"$f":"+AG19+AG20+AG30+AG31","v":{"$error":"#N/A"}},{"$f":"+AH19+AH20+AH30+AH31","v":{"$error":"#N/A"}},{"$f":"AH32/AG32","v":{"$error":"#N/A"}},{"$f":"+AJ19+AJ20+AJ30+AJ31","v":{"$error":"#N/A"}},{"$f":"+AK19+AK20+AK30+AK31","v":{"$error":"#N/A"}},{"$f":"AK32/AJ32","v":{"$error":"#N/A"}},{"$f":"+AM19+AM20+AM30+AM31","v":{"$error":"#N/A"}},{"$f":"+AN19+AN20+AN30+AN31","v":{"$error":"#N/A"}},{"$f":"AN32/AM32","v":{"$error":"#N/A"}},{"$f":"+AP19+AP20+AP30+AP31","v":{"$error":"#N/A"}},{"$f":"+AQ19+AQ20+AQ30+AQ31","v":{"$error":"#N/A"}},{"$f":"AQ32/AP32","v":{"$error":"#N/A"}}]
[null,"Metal","Ferrous/Aluminum Containers","Ferrous Containers",{"$f":"+'4.MSW Comp. Analysis'!O46","v":{"$error":"#N/A"}},{"$f":"E33*'5.MSW Detailed Analysis'!$F$19","v":{"$error":"#N/A"}},{"$f":"'5.MSW Detailed Analysis'!G34","v":{"$error":"#N/A"}},{"$error":"#N/A"},{"$f":"+$I$18*E33","v":{"$error":"#N/A"}},{"$f":"I33*K33","v":{"$error":"#N/A"}},{"$f":"$K$35*(E33/$E$35)","v":{"$error":"#N/A"}},{"$f":"+$L$18*E33","v":{"$error":"#N/A"}},{"$f":"L33*N33","v":{"$error":"#N/A"}},{"$f":"$N$35*(E33/$E$35)","v":{"$error":"#N/A"}},{"$f":"+$O$18*E33","v":{"$error":"#N/A"}},{"$f":"O33*Q33","v":{"$error":"#N/A"}},{"$f":"$Q$35*(E33/$E$35)","v":{"$error":"#N/A"}},{"$f":"+$R$18*E33","v":{"$error":"#N/A"}},{"$f":"R33*T33","v":{"$error":"#N/A"}},{"$f":"$T$35*(E33/$E$35)","v":{"$error":"#N/A"}},{"$f":"+$U$18*E33","v":{"$error":"#N/A"}},{"$f":"U33*W33","v":{"$error":"#N/A"}},{"$f":"$W$35*(E33/$E$35)","v":{"$error":"#N/A"}},{"$f":"+$X$18*E33","v":{"$error":"#N/A"}},{"$f":"X33*Z33","v":{"$error":"#N/A"}},{"$f":"$Z$35*(E33/$E$35)","v":{"$error":"#N/A"}},{"$f":"+$AA$18*E33","v":{"$error":"#N/A"}},{"$f":"AA33*AC33","v":{"$error":"#N/A"}},{"$f":"$AC$35*(E33/$E$35)","v":{"$error":"#N/A"}},{"$f":"+$AD$18*E33","v":{"$error":"#N/A"}},{"$f":"AF33*AD33","v":{"$error":"#N/A"}},{"$f":"$AF$35*(E33/$E$35)","v":{"$error":"#N/A"}},{"$f":"+$AG$18*E33","v":{"$error":"#N/A"}},{"$f":"AG33*AI33","v":{"$error":"#N/A"}},{"$f":"$AI$35*(E33/$E$35)","v":{"$error":"#N/A"}},{"$f":"+$AJ$18*E33","v":{"$error":"#N/A"}},{"$f":"AJ33*AL33","v":{"$error":"#N/A"}},{"$f":"$AL$35*(E33/$E$35)","v":{"$error":"#N/A"}},{"$f":"+$AG$18*K33","v":{"$error":"#N/A"}},{"$f":"AM33*AO33","v":{"$error":"#N/A"}},{"$f":"$AO$35*(E33/$E$35)","v":{"$error":"#N/A"}},{"$f":"+$AJ$18*K33","v":{"$error":"#N/A"}},{"$f":"AP33*AR33","v":{"$error":"#N/A"}},{"$f":"$AR$35*(E33/$E$35)","v":{"$error":"#N/A"}}]
[null,null,null,"Aluminum Containers",{"$f":"+'4.MSW Comp. Analysis'!O47","v":{"$error":"#N/A"}},{"$f":"E34*'5.MSW Detailed Analysis'!$F$19","v":{"$error":"#N/A"}},{"$f":"'5.MSW Detailed Analysis'!G35","v":{"$error":"#N/A"}},{"$error":"#N/A"},{"$error":"#N/A"},{"$error":"#N/A"},{"$f":"$K$35*(E34/$E$35)","v":{"$error":"#N/A"}},{"$error":"#N/A"},{"$error":"#N/A"},{"$f":"$N$35*(E34/$E$35)","v":{"$error":"#N/A"}},{"$error":"#N/A"},{"$error":"#N/A"},{"$f":"$Q$35*(E34/$E$35)","v":{"$error":"#N/A"}},{"$error":"#N/A"},{"$error":"#N/A"},{"$f":"$T$35*(E34/$E$35)","v":{"$error":"#N/A"}},{"$error":"#N/A"},{"$error":"#N/A"},{"$f":"$W$35*(E34/$E$35)","v":{"$error":"#N/A"}},{"$error":"#N/A"},{"$error":"#N/A"},{"$f":"$Z$35*(E34/$E$35)","v":{"$error":"#N/A"}},{"$error":"#N/A"},{"$error":"#N/A"},{"$f":"$AC$35*(E34/$E$35)","v":{"$error":"#N/A"}},{"$error":"#N/A"},{"$error":"#N/A"},{"$f":"$AF$35*(E34/$E$35)","v":{"$error":"#N/A"}},{"$error":"#N/A"},{"$error":"#N/A"},{"$f":"$AI$35*(E34/$E$35)","v":{"$error":"#N/A"}},{"$error":"#N/A"},{"$error":"#N/A"},{"$f":"$AL$35*(E34/$E$35)","v":{"$error":"#N/A"}},{"$error":"#N/A"},{"$error":"#N/A"},{"$f":"$AO$35*(E34/$E$35)","v":{"$error":"#N/A"}},{"$error":"#N/A"},{"$error":"#N/A"},{"$f":"$AR$35*(E34/$E$35)","v":{"$error":"#N/A"}}]
[null,null,"Ferrous/Aluminum Containers (Total)",null,{"$f":"+'4.MSW Comp. Analysis'!O48","v":{"$error":"#N/A"}},{"$f":"E35*'5.MSW Detailed Analysis'!$F$19","v":{"$error":"#N/A"}},{"$f":"'5.MSW Detailed Analysis'!G36","v":0},{"$error":"#N/A"},{"$error":"#N/A"},{"$error":"#N/A"},null,{"$error":"#N/A"},{"$error":"#N/A"},null,{"$error":"#N/A"},{"$error":"#N/A"},null,{"$error":"#N/A"},{"$error":"#N/A"},null,{"$error":"#N/A"},{"$error":"#N/A"},null,{"$error":"#N/A"},{"$error":"#N/A"},null,{"$error":"#N/A"},{"$error":"#N/A"},null,{"$error":"#N/A"},{"$error":"#N/A"},null,{"$error":"#N/A"},{"$error":"#N/A"},null,{"$error":"#N/A"},{"$error":"#N/A"},null,{"$f":"+$AM$18*E35","v":{"$error":"#N/A"}},{"$error":"#N/A"},null,{"$f":"+$AJ$18*E35","v":{"$error":"#N/A"}},{"$error":"#N/A"}]
[null,null,"Other Ferrous Metals",null,{"$f":"+'4.MSW Comp. Analysis'!O49","v":{"$error":"#N/A"}},{"$f":"E36*'5.MSW Detailed Analysis'!$F$19","v":{"$error":"#N/A"}},{"$f":"'5.MSW Detailed Analysis'!G37","v":0},{"$error":"#N/A"},{"$error":"#N/A"},{"$error":"#N/A"},null,{"$error":"#N/A"},{"$error":"#N/A"},null,{"$error":"#N/A"},{"$error":"#N/A"},null,{"$error":"#N/A"},{"$error":"#N/A"},null,{"$error":"#N/A"},{"$error":"#N/A"},null,{"$error":"#N/A"},{"$error":"#N/A"},null,{"$error":"#N/A"},{"$error":"#N/A"},null,{"$error":"#N/A"},{"$error":"#N/A"},null,{"$error":"#N/A"},{"$error":"#N/A"},null,{"$error":"#N/A"},{"$error":"#N/A"},null,{"$f":"+$AM$18*E36","v":{"$error":"#N/A"}},{"$error":"#N/A"},null,{"$f":"+$AJ$18*E36","v":{"$error":"#N/A"}},{"$error":"#N/A"}]
[null,null,"Other Non-Ferrous Metals","Other aluminum",{"$f":"+'4.MSW Comp. Analysis'!O50","v":{"$error":"#N/A"}},{"$f":"E37*'5.MSW Detailed Analysis'!$F$19","v":{"$error":"#N/A"}},{"$f":"'5.MSW Detailed Analysis'!G38","v":0},{"$error":"#N/A"},{"$error":"#N/A"},{"$error":"#N/A"},null,{"$error":"#N/A"},{"$error":"#N/A"},null,{"$error":"#N/A"},{"$error":"#N/A"},null,{"$error":"#N/A"},{"$error":"#N/A"},null,{"$error":"#N/A"},{"$error":"#N/A"},null,{"$error":"#N/A"},{"$error":"#N/A"},null,{"$error":"#N/A"},{"$error":"#N/A"},null,{"$error":"#N/A"},{"$error":"#N/A"},null,{"$error":"#N/A"},{"$error":"#N/A"},null,{"$error":"#N/A"},{"$error":"#N/A"},null,{"$error":"#N/A"},{"$error":"#N/A"},null,{"$error":"#N/A"},{"$error":"#N/A"}]
[null,null,null,"Automotive batteries",{"$f":"+'4.MSW Comp. Analysis'!O51","v":{"$error":"#N/A"}},{"$f":"E38*'5.MSW Detailed Analysis'!$F$19","v":{"$error":"#N/A"}},{"$f":"'5.MSW Detailed Analysis'!G39","v":0},{"$error":"#N/A"},{"$error":"#N/A"},{"$error":"#N/A"},null,{"$error":"#N/A"},{"$error":"#N/A"},null,{"$error":"#N/A"},{"$error":"#N/A"},null,{"$error":"#N/A"},{"$error":"#N/A"},null,{"$error":"#N/A"},{"$error":"#N/A"},null,{"$error":"#N/A"},{"$error":"#N/A"},null,{"$error":"#N/A"},{"$error":"#N/A"},null,{"$error":"#N/A"},{"$error":"#N/A"},null,{"$error":"#N/A"},{"$error":"#N/A"},null,{"$error":"#N/A"},{"$error":"#N/A"},null,{"$error":"#N/A"},{"$error":"#N/A"},null,{"$error":"#N/A"},{"$error":"#N/A"}]
[null,null,null,"Other non-aluminum",{"$f":"+'4.MSW Comp. Analysis'!O52","v":{"$error":"#N/A"}},{"$f":"E39*'5.MSW Detailed Analysis'!$F$19","v":{"$error":"#N/A"}},{"$f":"'5.MSW Detailed Analysis'!G40","v":0},{"$error":"#N/A"},{"$error":"#N/A"},{"$error":"#N/A"},null,{"$error":"#N/A"},{"$error":"#N/A"},null,{"$error":"#N/A"},{"$error":"#N/A"},null,{"$error":"#N/A"},{"$error":"#N/A"},null,{"$error":"#N/A"},{"$error":"#N/A"},null,{"$error":"#N/A"},{"$error":"#N/A"},null,{"$error":"#N/A"},{"$error":"#N/A"},null,{"$error":"#N/A"},{"$error":"#N/A"},null,{"$error":"#N/A"},{"$error":"#N/A"},null,{"$error":"#N/A"},{"$error":"#N/A"},null,{"$error":"#N/A"},{"$error":"#N/A"},null,{"$error":"#N/A"},{"$error":"#N/A"}]
[null,null,"Other Non-Ferrous Metals (Total)",null,{"$f":"+'4.MSW Comp. Analysis'!O53","v":{"$error":"#N/A"}},{"$f":"E40*'5.MSW Detailed Analysis'!$F$19","v":{"$error":"#N/A"}},{"$f":"'5.MSW Detailed Analysis'!G41","v":0},{"$error":"#N/A"},{"$error":"#N/A"},{"$error":"#N/A"},null,{"$error":"#N/A"},{"$error":"#N/A"},null,{"$error":"#N/A"},{"$error":"#N/A"},null,{"$error":"#N/A"},{"$error":"#N/A"},null,{"$error":"#N/A"},{"$error":"#N/A"},null,{"$error":"#N/A"},{"$error":"#N/A"},null,{"$error":"#N/A"},{"$error":"#N/A"},null,{"$error":"#N/A"},{"$error":"#N/A"},null,{"$error":"#N/A"},{"$error":"#N/A"},null,{"$error":"#N/A"},{"$error":"#N/A"},null,{"$error":"#N/A"},{"$error":"#N/A"},null,{"$f":"+$AJ$18*E40","v":{"$error":"#N/A"}},{"$error":"#N/A"}]
[null,null,"Total Metals",null,{"$f":"+'4.MSW Comp. Analysis'!O54","v":{"$error":"#N/A"}},{"$f":"E41*'5.MSW Detailed Analysis'!$F$19","v":{"$error":"#N/A"}},{"$f":"'5.MSW Detailed Analysis'!G42","v":0},{"$error":"#N/A"},{"$f":"+I35+I36+I40","v":{"$error":"#N/A"}},{"$f":"+J35+J36+J40","v":{"$error":"#N/A"}},{"$f":"J41/I41","v":{"$error":"#N/A"}},{"$f":"+L35+L36+L40","v":{"$error":"#N/A"}},{"$f":"+M35+M36+M40","v":{"$error":"#N/A"}},{"$f":"M41/L41","v":{"$error":"#N/A"}},{"$f":"+O35+O36+O40","v":{"$error":"#N/A"}},{"$f":"+P35+P36+P40","v":{"$error":"#N/A"}},{"$f":"P41/O41","v":{"$error":"#N/A"}},{"$f":"+R35+R36+R40","v":{"$error":"#N/A"}},{"$f":"+S35+S36+S40","v":{"$error":"#N/A"}},{"$f":"S41/R41","v":{"$error":"#N/A"}},{"$f":"+U35+U36+U40","v":{"$error":"#N/A"}},{"$f":"+V35+V36+V40","v":{"$error":"#N/A"}},{"$f":"V41/U41","v":{"$error":"#N/A"}},{"$f":"+X35+X36+X40","v":{"$error":"#N/A"}},{"$f":"+Y35+Y36+Y40","v":{"$error":"#N/A"}},{"$f":"Y41/X41","v":{"$error":"#N/A"}},{"$f":"+AA35+AA36+AA40","v":{"$error":"#N/A"}},{"$f":"+AB35+AB36+AB40","v":{"$error":"#N/A"}},{"$f":"AB41/AA41","v":{"$error":"#N/A"}},{"$f":"+AD35+AD36+AD40","v":{"$error":"#N/A"}},{"$f":"+AE35+AE36+AE40","v":{"$error":"#N/A"}},{"$f":"AE41/AD41","v":{"$error":"#N/A"}},{"$f":"+AG35+AG36+AG40","v":{"$error":"#N/A"}},{"$f":"+AH35+AH36+AH40","v":{"$error":"#N/A"}},{"$f":"AH41/AG41","v":{"$error":"#N/A"}},{"$f":"+AJ35+AJ36+AJ40","v":{"$error":"#N/A"}},{"$f":"+AK35+AK36+AK40","v":{"$error":"#N/A"}},{"$f":"AK41/AJ41","v":{"$error":"#N/A"}},{"$f":"+AM35+AM36+AM40","v":{"$error":"#N/A"}},{"$f":"+AN35+AN36+AN40","v":{"$error":"#N/A"}},{"$f":"AN41/AM41","v":{"$error":"#N/A"}},{"$f":"+AP35+AP36+AP40","v":{"$error":"#N/A"}},{"$f":"+AQ35+AQ36+AQ40","v":{"$error":"#N/A"}},{"$f":"AQ41/AP41","v":{"$error":"#N/A"}}]
[null,"Plastic","PET Containers",null,{"$f":"+'4.MSW Comp. Analysis'!O55","v":{"$error":"#N/A"}},{"$f":"E42*'5.MSW Detailed Analysis'!$F$19","v":{"$error":"#N/A"}},{"$f":"'5.MSW Detailed Analysis'!G43","v":0},{"$error":"#N/A"},{"$f":"+$I$18*E42","v":{"$error":"#N/A"}},{"$f":"I42*K42","v":{"$error":"#N/A"}},null,{"$f":"+$L$18*E42","v":{"$error":"#N/A"}},{"$f":"L42*N42","v":{"$error":"#N/A"}},null,{"$f":"+$O$18*E42","v":{"$error":"#N/A"}},{"$f":"O42*Q42","v":{"$error":"#N/A"}},null,{"$f":"+$R$18*E42","v":{"$error":"#N/A"}},{"$f":"R42*T42","v":{"$error":"#N/A"}},null,{"$f":"+$U$18*E42","v":{"$error":"#N/A"}},{"$f":"U42*W42","v":{"$error":"#N/A"}},null,{"$f":"+$X$18*E42","v":{"$error":"#N/A"}},{"$f":"X42*Z42","v":{"$error":"#N/A"}},null,{"$f":"+$AA$18*E42","v":{"$error":"#N/A"}},{"$f":"AA42*AC42","v":{"$error":"#N/A"}},null,{"$f":"+$AD$18*E42","v":{"$error":"#N/A"}},{"$f":"AD42*AF42","v":{"$error":"#N/A"}},null,{"$f":"+$AG$18*E42","v":{"$error":"#N/A"}},{"$f":"AG42*AI42","v":{"$error":"#N/A"}},null,{"$f":"+$AJ$18*E42","v":{"$error":"#N/A"}},{"$f":"AJ42*AL42","v":{"$error":"#N/A"}},null,{"$f":"+$AM$18*E42","v":{"$error":"#N/A"}},{"$f":"AM42*AO42","v":{"$error":"#N/A"}},null,{"$f":"+$AJ$18*E42","v":{"$error":"#N/A"}},{"$f":"AP42*AR42","v":{"$error":"#N/A"}}]
[null,null,"HDPE Containers",null,{"$f":"+'4.MSW Comp. Analysis'!O56","v":{"$error":"#N/A"}},{"$f":"E43*'5.MSW Detailed Analysis'!$F$19","v":{"$error":"#N/A"}},{"$f":"'5.MSW Detailed Analysis'!G44","v":0},{"$error":"#N/A"},{"$error":"#N/A"},{"$error":"#N/A"},null,{"$error":"#N/A"},{"$error":"#N/A"},null,{"$error":"#N/A"},{"$error":"#N/A"},null,{"$error":"#N/A"},{"$error":"#N/A"},null,{"$error":"#N/A"},{"$error":"#N/A"},null,{"$error":"#N/A"},{"$error":"#N/A"},null,{"$error":"#N/A"},{"$error":"#N/A"},null,{"$error":"#N/A"},{"$error":"#N/A"},null,{"$error":"#N/A"},{"$error":"#N/A"},null,{"$error":"#N/A"},{"$error":"#N/A"},null,{"$f":"+$AM$18*E43","v":{"$error":"#N/A"}},{"$error":"#N/A"},null,{"$f":"+$AJ$18*E43","v":{"$error":"#N/A"}},{"$error":"#N/A"}]
[null,null,"Other Plastic (3-7) Containers",null,{"$f":"+'4.MSW Comp. Analysis'!O57","v":{"$error":"#N/A"}},{"$f":"E44*'5.MSW Detailed Analysis'!$F$19","v":{"$error":"#N/A"}},{"$f":"'5.MSW Detailed Analysis'!G45","v":0},{"$error":"#N/A"},{"$error":"#N/A"},{"$error":"#N/A"},null,{"$error":"#N/A"},{"$error":"#N/A"},null,{"$error":"#N/A"},{"$error":"#N/A"},null,{"$error":"#N/A"},{"$error":"#N/A"},null,{"$error":"#N/A"},{"$error":"#N/A"},null,{"$error":"#N/A"},{"$error":"#N/A"},null,{"$error":"#N/A"},{"$error":"#N/A"},null,{"$error":"#N/A"},{"$error":"#N/A"},null,{"$error":"#N/A"},{"$error":"#N/A"},null,{"$error":"#N/A"},{"$error":"#N/A"},null,{"$error":"#N/A"},{"$error":"#N/A"},null,{"$f":"+$AJ$18*E44","v":{"$error":"#N/A"}},{"$error":"#N/A"}]
[null,null,"Film Plastic",null,{"$f":"+'4.MSW Comp. Analysis'!O58","v":{"$error":"#N/A"}},{"$f":"E45*'5.MSW Detailed Analysis'!$F$19","v":{"$error":"#N/A"}},{"$f":"'5.MSW Detailed Analysis'!G46","v":0},{"$error":"#N/A"},{"$error":"#N/A"},{"$error":"#N/A"},null,{"$error":"#N/A"},{"$error":"#N/A"},null,{"$error":"#N/A"},{"$error":"#N/A"},null,{"$error":"#N/A"},{"$error":"#N/A"},null,{"$error":"#N/A"},{"$error":"#N/A"},null,{"$error":"#N/A"},{"$error":"#N/A"},null,{"$error":"#N/A"},{"$error":"#N/A"},null,{"$error":"#N/A"},{"$error":"#N/A"},null,{"$error":"#N/A"},{"$error":"#N/A"},null,{"$error":"#N/A"},{"$error":"#N/A"},null,{"$error":"#N/A"},{"$error":"#N/A"},null,{"$f":"+$AJ$18*E45","v":{"$error":"#N/A"}},{"$error":"#N/A"}]
[null,null,"Other Plastic ","Durables",{"$f":"+'4.MSW Comp. Analysis'!O59","v":{"$error":"#N/A"}},{"$f":"E46*'5.MSW Detailed Analysis'!$F$19","v":{"$error":"#N/A"}},{"$f":"'5.MSW Detailed Analysis'!G47","v":0},{"$error":"#N/A"},{"$error":"#N/A"},{"$error":"#N/A"},null,{"$error":"#N/A"},{"$error":"#N/A"},null,{"$error":"#N/A"},{"$error":"#N/A"},null,{"$error":"#N/A"},{"$error":"#N/A"},null,{"$error":"#N/A"},{"$error":"#N/A"},null,{"$error":"#N/A"},{"$error":"#N/A"},null,{"$error":"#N/A"},{"$error":"#N/A"},null,{"$error":"#N/A"},{"$error":"#N/A"},null,{"$error":"#N/A"},{"$error":"#N/A"},null,{"$error":"#N/A"},{"$error":"#N/A"},null,{"$error":"#N/A"},{"$error":"#N/A"},null,{"$f":"+$AJ$18*K46","v":{"$error":"#N/A"}},{"$error":"#N/A"}]
[null,null,null,"Non-Durables",{"$f":"+'4.MSW Comp. Analysis'!O60","v":{"$error":"#N/A"}},{"$f":"E47*'5.MSW Detailed Analysis'!$F$19","v":{"$error":"#N/A"}},{"$f":"'5.MSW Detailed Analysis'!G48","v":0},{"$error":"#N/A"},{"$error":"#N/A"},{"$error":"#N/A"},null,{"$error":"#N/A"},{"$error":"#N/A"},null,{"$error":"#N/A"},{"$error":"#N/A"},null,{"$error":"#N/A"},{"$error":"#N/A"},null,{"$error":"#N/A"},{"$error":"#N/A"},null,{"$error":"#N/A"},{"$error":"#N/A"},null,{"$error":"#N/A"},{"$error":"#N/A"},null,{"$error":"#N/A"},{"$error":"#N/A"},null,{"$error":"#N/A"},{"$error":"#N/A"},null,{"$error":"#N/A"},{"$error":"#N/A"},null,{"$error":"#N/A"},{"$error":"#N/A"},null,{"$error":"#N/A"},{"$error":"#N/A"}]
[null,null,null,"Packaging",{"$f":"+'4.MSW Comp. Analysis'!O61","v":{"$error":"#N/A"}},{"$f":"E48*'5.MSW Detailed Analysis'!$F$19","v":{"$error":"#N/A"}},{"$f":"'5.MSW Detailed Analysis'!G49","v":0},{"$error":"#N/A"},{"$error":"#N/A"},{"$error":"#N/A"},null,{"$error":"#N/A"},{"$error":"#N/A"},null,{"$error":"#N/A"},{"$error":"#N/A"},null,{"$error":"#N/A"},{"$error":"#N/A"},null,{"$error":"#N/A"},{"$error":"#N/A"},null,{"$error":"#N/A"},{"$error":"#N/A"},null,{"$error":"#N/A"},{"$error":"#N/A"},null,{"$error":"#N/A"},{"$error":"#N/A"},null,{"$error":"#N/A"},{"$error":"#N/A"},null,{"$error":"#N/A"},{"$error":"#N/A"},null,{"$error":"#N/A"},{"$error":"#N/A"},null,{"$error":"#N/A"},{"$error":"#N/A"}]
[null,null,"Other Plastic (Total)",null,{"$f":"+'4.MSW Comp. Analysis'!O62","v":{"$error":"#N/A"}},{"$f":"E49*'5.MSW Detailed Analysis'!$F$19","v":{"$error":"#N/A"}},{"$f":"'5.MSW Detailed Analysis'!G50","v":0},{"$error":"#N/A"},{"$error":"#N/A"},{"$error":"#N/A"},null,{"$error":"#N/A"},{"$error":"#N/A"},null,{"$error":"#N/A"},{"$error":"#N/A"},null,{"$error":"#N/A"},{"$error":"#N/A"},null,{"$error":"#N/A"},{"$error":"#N/A"},null,{"$error":"#N/A"},{"$error":"#N/A"},null,{"$error":"#N/A"},{"$error":"#N/A"},null,{"$error":"#N/A"},{"$error":"#N/A"},null,{"$error":"#N/A"},{"$error":"#N/A"},null,{"$error":"#N/A"},{"$error":"#N/A"},null,{"$error":"#N/A"},{"$error":"#N/A"},null,{"$f":"+$AJ$18*E49","v":{"$error":"#N/A"}},{"$error":"#N/A"}]
[null,null,"Total Plastics",null,{"$f":"+'4.MSW Comp. Analysis'!O63","v":{"$error":"#N/A"}},{"$f":"E50*'5.MSW Detailed Analysis'!$F$19","v":{"$error":"#N/A"}},{"$f":"'5.MSW Detailed Analysis'!G51","v":0},{"$f":"G50/F50","v":{"$error":"#N/A"}},{"$f":"+I42+I43+I44+I45+I49","v":{"$error":"#N/A"}},{"$f":"+J42+J43+J44+J45+J49","v":{"$error":"#N/A"}},{"$f":"J50/I50","v":{"$error":"#N/A"}},{"$f":"+L42+L43+L44+L45+L49","v":{"$error":"#N/A"}},{"$f":"+M42+M43+M44+M45+M49","v":{"$error":"#N/A"}},{"$f":"M50/L50","v":{"$error":"#N/A"}},{"$f":"+O42+O43+O44+O45+O49","v":{"$error":"#N/A"}},{"$f":"+P42+P43+P44+P45+P49","v":{"$error":"#N/A"}},{"$f":"P50/O50","v":{"$error":"#N/A"}},{"$f":"+R42+R43+R44+R45+R49","v":{"$error":"#N/A"}},{"$f":"+S42+S43+S44+S45+S49","v":{"$error":"#N/A"}},{"$f":"S50/R50","v":{"$error":"#N/A"}},{"$f":"+U42+U43+U44+U45+U49","v":{"$error":"#N/A"}},{"$f":"+V42+V43+V44+V45+V49","v":{"$error":"#N/A"}},{"$f":"V50/U50","v":{"$error":"#N/A"}},{"$f":"+X42+X43+X44+X45+X49","v":{"$error":"#N/A"}},{"$f":"+Y42+Y43+Y44+Y45+Y49","v":{"$error":"#N/A"}},{"$f":"Y50/X50","v":{"$error":"#N/A"}},{"$f":"+AA42+AA43+AA44+AA45+AA49","v":{"$error":"#N/A"}},{"$f":"+AB42+AB43+AB44+AB45+AB49","v":{"$error":"#N/A"}},{"$f":"AB50/AA50","v":{"$error":"#N/A"}},{"$f":"+AD42+AD43+AD44+AD45+AD49","v":{"$error":"#N/A"}},{"$f":"+AE42+AE43+AE44+AE45+AE49","v":{"$error":"#N/A"}},{"$f":"AE50/AD50","v":{"$error":"#N/A"}},{"$f":"+AG42+AG43+AG44+AG45+AG49","v":{"$error":"#N/A"}},{"$f":"+AH42+AH43+AH44+AH45+AH49","v":{"$error":"#N/A"}},{"$f":"AH50/AG50","v":{"$error":"#N/A"}},{"$f":"+AJ42+AJ43+AJ44+AJ45+AJ49","v":{"$error":"#N/A"}},{"$f":"+AK42+AK43+AK44+AK45+AK49","v":{"$error":"#N/A"}},{"$f":"AK50/AJ50","v":{"$error":"#N/A"}},{"$f":"+AM42+AM43+AM44+AM45+AM49","v":{"$error":"#N/A"}},{"$f":"+AN42+AN43+AN44+AN45+AN49","v":{"$error":"#N/A"}},{"$f":"AN50/AM50","v":{"$error":"#N/A"}},{"$f":"+AP42+AP43+AP44+AP45+AP49","v":{"$error":"#N/A"}},{"$f":"+AQ42+AQ43+AQ44+AQ45+AQ49","v":{"$error":"#N/A"}},{"$f":"AQ50/AP50","v":{"$error":"#N/A"}}]
[null,"Glass","Glass Bottles, Jars and Containers",null,{"$f":"+'4.MSW Comp. Analysis'!O64","v":{"$error":"#N/A"}},{"$f":"E51*'5.MSW Detailed Analysis'!$F$19","v":{"$error":"#N/A"}},{"$f":"'5.MSW Detailed Analysis'!G52","v":0},{"$error":"#N/A"},{"$f":"+$I$18*E51","v":{"$error":"#N/A"}},{"$f":"I51*K51","v":{"$error":"#N/A"}},null,{"$f":"+$L$18*E51","v":{"$error":"#N/A"}},{"$f":"L51*N51","v":{"$error":"#N/A"}},null,{"$f":"+$O$18*E51","v":{"$error":"#N/A"}},{"$f":"O51*Q51","v":{"$error":"#N/A"}},null,{"$f":"+$R$18*E51","v":{"$error":"#N/A"}},{"$f":"R51*T51","v":{"$error":"#N/A"}},null,{"$f":"+$U$18*E51","v":{"$error":"#N/A"}},{"$f":"U51*W51","v":{"$error":"#N/A"}},null,{"$f":"+$X$18*E51","v":{"$error":"#N/A"}},{"$f":"X51*Z51","v":{"$error":"#N/A"}},null,{"$f":"+$AA$18*E51","v":{"$error":"#N/A"}},{"$f":"AA51*AC51","v":{"$error":"#N/A"}},null,{"$f":"+$AD$18*E51","v":{"$error":"#N/A"}},{"$f":"AD51*AF51","v":{"$error":"#N/A"}},null,{"$f":"$AG$18*E51","v":{"$error":"#N/A"}},{"$f":"AG51*AI51","v":{"$error":"#N/A"}},null,{"$f":"+$AJ$18*E51","v":{"$error":"#N/A"}},{"$f":"AJ51*AL51","v":{"$error":"#N/A"}},null,{"$f":"$AM$18*E51","v":{"$error":"#N/A"}},{"$f":"AM51*AO51","v":{"$error":"#N/A"}},null,{"$f":"+$AJ$18*E51","v":{"$error":"#N/A"}},{"$f":"AP51*AR51","v":{"$error":"#N/A"}}]
[null,null,"Other Glass (Flat glass, dishware, light bulbs, etc.)",null,{"$f":"+'4.MSW Comp. Analysis'!O65","v":{"$error":"#N/A"}},{"$f":"E52*'5.MSW Detailed Analysis'!$F$19","v":{"$error":"#N/A"}},{"$f":"'5.MSW Detailed Analysis'!G53","v":0},{"$error":"#N/A"},{"$f":"+$I$18*E52","v":{"$error":"#N/A"}},{"$f":"I52*K52","v":{"$error":"#N/A"}},null,{"$f":"+$L$18*E52","v":{"$error":"#N/A"}},{"$f":"L52*N52","v":{"$error":"#N/A"}},null,{"$f":"+$O$18*E52","v":{"$error":"#N/A"}},{"$f":"O52*Q52","v":{"$error":"#N/A"}},null,{"$f":"+$R$18*E52","v":{"$error":"#N/A"}},{"$f":"R52*T52","v":{"$error":"#N/A"}},null,{"$f":"+$U$18*E52","v":{"$error":"#N/A"}},{"$f":"U52*W52","v":{"$error":"#N/A"}},null,{"$f":"+$X$18*E52","v":{"$error":"#N/A"}},{"$f":"X52*Z52","v":{"$error":"#N/A"}},null,{"$f":"+$AA$18*E52","v":{"$error":"#N/A"}},{"$f":"AA52*AC52","v":{"$error":"#N/A"}},null,{"$f":"+$AD$18*E52","v":{"$error":"#N/A"}},{"$f":"AD52*AF52","v":{"$error":"#N/A"}},null,{"$f":"$AG$18*E52","v":{"$error":"#N/A"}},{"$f":"AG52*AI52","v":{"$error":"#N/A"}},null,{"$f":"+$AJ$18*E52","v":{"$error":"#N/A"}},{"$f":"AJ52*AL52","v":{"$error":"#N/A"}},null,{"$f":"$AM$18*E52","v":{"$error":"#N/A"}},{"$f":"AM52*AO52","v":{"$error":"#N/A"}},null,{"$f":"+$AJ$18*E52","v":{"$error":"#N/A"}},{"$f":"AP52*AR52","v":{"$error":"#N/A"}}]
[null,null,"Total Glass",null,{"$f":"+'4.MSW Comp. Analysis'!O66","v":{"$error":"#N/A"}},{"$f":"E53*'5.MSW Detailed Analysis'!$F$19","v":{"$error":"#N/A"}},{"$f":"'5.MSW Detailed Analysis'!G54","v":0},{"$error":"#N/A"},{"$f":"+I51+I52","v":{"$error":"#N/A"}},{"$f":"+J51+J52","v":{"$error":"#N/A"}},{"$f":"J53/I53","v":{"$error":"#N/A"}},{"$f":"+L51+L52","v":{"$error":"#N/A"}},{"$f":"+M51+M52","v":{"$error":"#N/A"}},{"$f":"M53/L53","v":{"$error":"#N/A"}},{"$f":"+O51+O52","v":{"$error":"#N/A"}},{"$f":"+P51+P52","v":{"$error":"#N/A"}},{"$f":"P53/O53","v":{"$error":"#N/A"}},{"$f":"+R51+R52","v":{"$error":"#N/A"}},{"$f":"+S51+S52","v":{"$error":"#N/A"}},{"$f":"S53/R53","v":{"$error":"#N/A"}},{"$f":"+U51+U52","v":{"$error":"#N/A"}},{"$f":"+V51+V52","v":{"$error":"#N/A"}},{"$f":"V53/U53","v":{"$error":"#N/A"}},{"$f":"+X51+X52","v":{"$error":"#N/A"}},{"$f":"+Y51+Y52","v":{"$error":"#N/A"}},{"$f":"Y53/X53","v":{"$error":"#N/A"}},{"$f":"+AA51+AA52","v":{"$error":"#N/A"}},{"$f":"+AB51+AB52","v":{"$error":"#N/A"}},{"$f":"AB53/AA53","v":{"$error":"#N/A"}},{"$f":"+AD51+AD52","v":{"$error":"#N/A"}},{"$f":"+AE51+AE52","v":{"$error":"#N/A"}},{"$f":"AE53/AD53","v":{"$error":"#N/A"}},{"$f":"+AG51+AG52","v":{"$error":"#N/A"}},{"$f":"+AH51+AH52","v":{"$error":"#N/A"}},{"$f":"AH53/AG53","v":{"$error":"#N/A"}},{"$f":"+AJ51+AJ52","v":{"$error":"#N/A"}},{"$f":"+AK51+AK52","v":{"$error":"#N/A"}},{"$f":"AK53/AJ53","v":{"$error":"#N/A"}},{"$f":"+AM51+AM52","v":{"$error":"#N/A"}},{"$f":"+AN51+AN52","v":{"$error":"#N/A"}},{"$f":"AN53/AM53","v":{"$error":"#N/A"}},{"$f":"+AP51+AP52","v":{"$error":"#N/A"}},{"$f":"+AQ51+AQ52","v":{"$error":"#N/A"}},{"$f":"AQ53/AP53","v":{"$error":"#N/A"}}]
[null,"Organics","Food Scraps",null,{"$f":"+'4.MSW Comp. Analysis'!O67","v":{"$error":"#N/A"}},{"$f":"E54*'5.MSW Detailed Analysis'!$F$19","v":{"$error":"#N/A"}},{"$f":"'5.MSW Detailed Analysis'!G55","v":0},{"$error":"#N/A"},{"$f":"+$I$18*E54","v":{"$error":"#N/A"}},{"$f":"I54*K54","v":{"$error":"#N/A"}},null,{"$f":"+$L$18*E54","v":{"$error":"#N/A"}},{"$f":"L54*N54","v":{"$error":"#N/A"}},null,{"$f":"+$O$18*E54","v":{"$error":"#N/A"}},{"$f":"O54*Q54","v":{"$error":"#N/A"}},null,{"$f":"+$R$18*E54","v":{"$error":"#N/A"}},{"$f":"R54*T54","v":{"$error":"#N/A"}},null,{"$f":"+$U$18*E54","v":{"$error":"#N/A"}},{"$f":"U54*W54","v":{"$error":"#N/A"}},null,{"$f":"+$X$18*E54","v":{"$error":"#N/A"}},{"$f":"X54*Z54","v":{"$error":"#N/A"}},null,{"$f":"+$AA$18*E54","v":{"$error":"#N/A"}},{"$f":"AA54*AC54","v":{"$error":"#N/A"}},null,{"$f":"+$AD$18*E54","v":{"$error":"#N/A"}},{"$f":"AD54*AF54","v":{"$error":"#N/A"}},null,{"$f":"+$AG$18*E54","v":{"$error":"#N/A"}},{"$f":"AG54*AI54","v":{"$error":"#N/A"}},null,{"$f":"+$AJ$18*E54","v":{"$error":"#N/A"}},{"$f":"AJ54*AL54","v":{"$error":"#N/A"}},null,{"$f":"+$AM$18*E54","v":{"$error":"#N/A"}},{"$f":"AM54*AO54","v":{"$error":"#N/A"}},null,{"$f":"+$AJ$18*E54","v":{"$error":"#N/A"}},{"$f":"AP54*AR54","v":{"$error":"#N/A"}}]
[null,null,"Leaves and Grass / Pruning and Trimmings",null,{"$f":"+'4.MSW Comp. Analysis'!O68","v":{"$error":"#N/A"}},{"$f":"E55*'5.MSW Detailed Analysis'!$F$19","v":{"$error":"#N/A"}},{"$f":"'5.MSW Detailed Analysis'!G56","v":0},{"$error":"#N/A"},{"$f":"+$I$18*E55","v":{"$error":"#N/A"}},{"$f":"I55*K55","v":{"$error":"#N/A"}},null,{"$f":"+$L$18*E55","v":{"$error":"#N/A"}},{"$f":"L55*N55","v":{"$error":"#N/A"}},null,{"$f":"+$O$18*E55","v":{"$error":"#N/A"}},{"$f":"O55*Q55","v":{"$error":"#N/A"}},null,{"$f":"+$R$18*E55","v":{"$error":"#N/A"}},{"$f":"R55*T55","v":{"$error":"#N/A"}},null,{"$f":"+$U$18*E55","v":{"$error":"#N/A"}},{"$f":"U55*W55","v":{"$error":"#N/A"}},null,{"$f":"+$X$18*E55","v":{"$error":"#N/A"}},{"$f":"X55*Z55","v":{"$error":"#N/A"}},null,{"$f":"+$AA$18*E55","v":{"$error":"#N/A"}},{"$f":"AA55*AC55","v":{"$error":"#N/A"}},null,{"$f":"+$AD$18*E55","v":{"$error":"#N/A"}},{"$f":"AD55*AF55","v":{"$error":"#N/A"}},null,{"$f":"+$AG$18*E55","v":{"$error":"#N/A"}},{"$f":"AG55*AI55","v":{"$error":"#N/A"}},null,{"$f":"+$AJ$18*E55","v":{"$error":"#N/A"}},{"$f":"AJ55*AL55","v":{"$error":"#N/A"}},null,{"$f":"+$AM$18*E55","v":{"$error":"#N/A"}},{"$f":"AM55*AO55","v":{"$error":"#N/A"}},null,{"$f":"+$AJ$18*E55","v":{"$error":"#N/A"}},{"$f":"AP55*AR55","v":{"$error":"#N/A"}}]
[null,null,"Total Organics",null,{"$f":"+'4.MSW Comp. Analysis'!O69","v":{"$error":"#N/A"}},{"$f":"E56*'5.MSW Detailed Analysis'!$F$19","v":{"$error":"#N/A"}},{"$f":"'5.MSW Detailed Analysis'!G57","v":0},{"$error":"#N/A"},{"$f":"+I54+I55","v":{"$error":"#N/A"}},{"$f":"+J54+J55","v":{"$error":"#N/A"}},{"$f":"J56/I56","v":{"$error":"#N/A"}},{"$f":"+L54+L55","v":{"$error":"#N/A"}},{"$f":"+M54+M55","v":{"$error":"#N/A"}},{"$f":"M56/L56","v":{"$error":"#N/A"}},{"$f":"+O54+O55","v":{"$error":"#N/A"}},{"$f":"+P54+P55","v":{"$error":"#N/A"}},{"$f":"P56/O56","v":{"$error":"#N/A"}},{"$f":"+R54+R55","v":{"$error":"#N/A"}},{"$f":"+S54+S55","v":{"$error":"#N/A"}},{"$f":"S56/R56","v":{"$error":"#N/A"}},{"$f":"+U54+U55","v":{"$error":"#N/A"}},{"$f":"+V54+V55","v":{"$error":"#N/A"}},{"$f":"V56/U56","v":{"$error":"#N/A"}},{"$f":"+X54+X55","v":{"$error":"#N/A"}},{"$f":"+Y54+Y55","v":{"$error":"#N/A"}},{"$f":"Y56/X56","v":{"$error":"#N/A"}},{"$f":"+AA54+AA55","v":{"$error":"#N/A"}},{"$f":"+AB54+AB55","v":{"$error":"#N/A"}},{"$f":"AB56/AA56","v":{"$error":"#N/A"}},{"$f":"+AD54+AD55","v":{"$error":"#N/A"}},{"$f":"+AE54+AE55","v":{"$error":"#N/A"}},{"$f":"AE56/AD56","v":{"$error":"#N/A"}},{"$f":"+AG54+AG55","v":{"$error":"#N/A"}},{"$f":"+AH54+AH55","v":{"$error":"#N/A"}},{"$f":"AH56/AG56","v":{"$error":"#N/A"}},{"$f":"+AJ54+AJ55","v":{"$error":"#N/A"}},{"$f":"+AK54+AK55","v":{"$error":"#N/A"}},{"$f":"AK56/AJ56","v":{"$error":"#N/A"}},{"$f":"+AM54+AM55","v":{"$error":"#N/A"}},{"$f":"+AN54+AN55","v":{"$error":"#N/A"}},{"$f":"AN56/AM56","v":{"$error":"#N/A"}},{"$f":"+AP54+AP55","v":{"$error":"#N/A"}},{"$f":"+AQ54+AQ55","v":{"$error":"#N/A"}},{"$f":"AQ56/AP56","v":{"$error":"#N/A"}}]
[null,"Textiles","Clothing Footwear, Towels, Sheets",null,{"$f":"+'4.MSW Comp. Analysis'!O70","v":{"$error":"#N/A"}},{"$f":"E57*'5.MSW Detailed Analysis'!$F$19","v":{"$error":"#N/A"}},{"$f":"'5.MSW Detailed Analysis'!G58","v":0},{"$error":"#N/A"},{"$f":"+$I$18*E57","v":{"$error":"#N/A"}},{"$f":"I57*K57","v":{"$error":"#N/A"}},null,{"$f":"+$L$18*E57","v":{"$error":"#N/A"}},{"$f":"L57*N57","v":{"$error":"#N/A"}},null,{"$f":"+$O$18*E57","v":{"$error":"#N/A"}},{"$f":"O57*Q57","v":{"$error":"#N/A"}},null,{"$f":"+$R$18*E57","v":{"$error":"#N/A"}},{"$f":"R57*T57","v":{"$error":"#N/A"}},null,{"$f":"+$U$18*E57","v":{"$error":"#N/A"}},{"$f":"U57*W57","v":{"$error":"#N/A"}},null,{"$f":"+$X$18*E57","v":{"$error":"#N/A"}},{"$f":"X57*Z57","v":{"$error":"#N/A"}},null,{"$f":"+$AA$18*E57","v":{"$error":"#N/A"}},{"$f":"AA57*AC57","v":{"$error":"#N/A"}},null,{"$f":"+$AD$18*E57","v":{"$error":"#N/A"}},{"$f":"AD57*AF57","v":{"$error":"#N/A"}},null,{"$f":"+$AG$18*E57","v":{"$error":"#N/A"}},{"$f":"AG57*AI57","v":{"$error":"#N/A"}},null,{"$f":"+$AJ$18*E57","v":{"$error":"#N/A"}},{"$f":"AJ57*AL57","v":{"$error":"#N/A"}},null,{"$f":"+$AM$18*E57","v":{"$error":"#N/A"}},{"$f":"AM57*AO57","v":{"$error":"#N/A"}},null,{"$f":"+$AJ$18*E57","v":{"$error":"#N/A"}},{"$f":"AP57*AR57","v":{"$error":"#N/A"}}]
[null,null,"Carpet",null,{"$f":"+'4.MSW Comp. Analysis'!O71","v":{"$error":"#N/A"}},{"$f":"E58*'5.MSW Detailed Analysis'!$F$19","v":{"$error":"#N/A"}},{"$f":"'5.MSW Detailed Analysis'!G59","v":0},{"$error":"#N/A"},{"$f":"+$I$18*E58","v":{"$error":"#N/A"}},{"$f":"I58*K58","v":{"$error":"#N/A"}},null,{"$f":"+$L$18*E58","v":{"$error":"#N/A"}},{"$f":"L58*N58","v":{"$error":"#N/A"}},null,{"$f":"+$O$18*E58","v":{"$error":"#N/A"}},{"$f":"O58*Q58","v":{"$error":"#N/A"}},null,{"$f":"+$R$18*E58","v":{"$error":"#N/A"}},{"$f":"R58*T58","v":{"$error":"#N/A"}},null,{"$f":"+$U$18*E58","v":{"$error":"#N/A"}},{"$f":"U58*W58","v":{"$error":"#N/A"}},null,{"$f":"+$X$18*E58","v":{"$error":"#N/A"}},{"$f":"X58*Z58","v":{"$error":"#N/A"}},null,{"$f":"+$AA$18*E58","v":{"$error":"#N/A"}},{"$f":"AA58*AC58","v":{"$error":"#N/A"}},null,{"$f":"+$AD$18*E58","v":{"$error":"#N/A"}},{"$f":"AD58*AF58","v":{"$error":"#N/A"}},null,{"$f":"+$AG$18*E58","v":{"$error":"#N/A"}},{"$f":"AG58*AI58","v":{"$error":"#N/A"}},null,{"$f":"+$AJ$18*E58","v":{"$error":"#N/A"}},{"$f":"AJ58*AL58","v":{"$error":"#N/A"}},null,{"$f":"+$AM$18*E58","v":{"$error":"#N/A"}},{"$f":"AM58*AO58","v":{"$error":"#N/A"}},null,{"$f":"+$AJ$18*E58","v":{"$error":"#N/A"}},{"$f":"AP58*AR58","v":{"$error":"#N/A"}}]
[null,null,"Total Textiles",null,{"$f":"+'4.MSW Comp. Analysis'!O72","v":{"$error":"#N/A"}},{"$f":"E59*'5.MSW Detailed Analysis'!$F$19","v":{"$error":"#N/A"}},{"$f":"'5.MSW Detailed Analysis'!G60","v":0},{"$error":"#N/A"},{"$f":"+I57+I58","v":{"$error":"#N/A"}},{"$f":"+J57+J58","v":{"$error":"#N/A"}},{"$f":"J59/I59","v":{"$error":"#N/A"}},{"$f":"+L57+L58","v":{"$error":"#N/A"}},{"$f":"+M57+M58","v":{"$error":"#N/A"}},{"$f":"M59/L59","v":{"$error":"#N/A"}},{"$f":"+O57+O58","v":{"$error":"#N/A"}},{"$f":"+P57+P58","v":{"$error":"#N/A"}},{"$f":"P59/O59","v":{"$error":"#N/A"}},{"$f":"+R57+R58","v":{"$error":"#N/A"}},{"$f":"+S57+S58","v":{"$error":"#N/A"}},{"$f":"S59/R59","v":{"$error":"#N/A"}},{"$f":"+U57+U58","v":{"$error":"#N/A"}},{"$f":"+V57+V58","v":{"$error":"#N/A"}},{"$f":"V59/U59","v":{"$error":"#N/A"}},{"$f":"+X57+X58","v":{"$error":"#N/A"}},{"$f":"+Y57+Y58","v":{"$error":"#N/A"}},{"$f":"Y59/X59","v":{"$error":"#N/A"}},{"$f":"+AA57+AA58","v":{"$error":"#N/A"}},{"$f":"+AB57+AB58","v":{"$error":"#N/A"}},{"$f":"AB59/AA59","v":{"$error":"#N/A"}},{"$f":"+AD57+AD58","v":{"$error":"#N/A"}},{"$f":"+AE57+AE58","v":{"$error":"#N/A"}},{"$f":"AE59/AD59","v":{"$error":"#N/A"}},{"$f":"+AG57+AG58","v":{"$error":"#N/A"}},{"$f":"+AH57+AH58","v":{"$error":"#N/A"}},{"$f":"AH59/AG59","v":{"$error":"#N/A"}},{"$f":"+AJ57+AJ58","v":{"$error":"#N/A"}},{"$f":"+AK57+AK58","v":{"$error":"#N/A"}},{"$f":"AK59/AJ59","v":{"$error":"#N/A"}},{"$f":"+AM57+AM58","v":{"$error":"#N/A"}},{"$f":"+AN57+AN58","v":{"$error":"#N/A"}},{"$f":"AN59/AM59","v":{"$error":"#N/A"}},{"$f":"+AP57+AP58","v":{"$error":"#N/A"}},{"$f":"+AQ57+AQ58","v":{"$error":"#N/A"}},{"$f":"AQ59/AP59","v":{"$error":"#N/A"}}]
[null,"Wood","Total Wood (Pallets, crates, adulterated and non-adulterated wood)",null,{"$f":"+'4.MSW Comp. Analysis'!O73","v":{"$error":"#N/A"}},{"$f":"E60*'5.MSW Detailed Analysis'!$F$19","v":{"$error":"#N/A"}},{"$f":"'5.MSW Detailed Analysis'!G61","v":0},{"$error":"#N/A"},{"$f":"+$I$18*E60","v":{"$error":"#N/A"}},{"$f":"I60*K60","v":{"$error":"#N/A"}},null,{"$f":"+$L$18*E60","v":{"$error":"#N/A"}},{"$f":"L60*N60","v":{"$error":"#N/A"}},null,{"$f":"+$O$18*E60","v":{"$error":"#N/A"}},{"$f":"Q60*O60","v":{"$error":"#N/A"}},null,{"$f":"+$R$18*E60","v":{"$error":"#N/A"}},{"$f":"R60*T60","v":{"$error":"#N/A"}},null,{"$f":"+$U$18*E60","v":{"$error":"#N/A"}},{"$f":"U60*W60","v":{"$error":"#N/A"}},null,{"$f":"+$X$18*E60","v":{"$error":"#N/A"}},{"$f":"X60*Z60","v":{"$error":"#N/A"}},null,{"$f":"+$AA$18*E60","v":{"$error":"#N/A"}},{"$f":"AA60*AC60","v":{"$error":"#N/A"}},null,{"$f":"+$AD$18*E60","v":{"$error":"#N/A"}},{"$f":"AD60*AF60","v":{"$error":"#N/A"}},null,{"$f":"+$AG$18*E60","v":{"$error":"#N/A"}},{"$f":"AG60*AI60","v":{"$error":"#N/A"}},null,{"$f":"+$AJ$18*E60","v":{"$error":"#N/A"}},{"$f":"AJ60*AL60","v":{"$error":"#N/A"}},null,{"$f":"+$AG$18*K60","v":{"$error":"#N/A"}},{"$f":"AM60*AO60","v":{"$error":"#N/A"}},null,{"$f":"+$AJ$18*K60","v":{"$error":"#N/A"}},{"$f":"AP60*AR60","v":{"$error":"#N/A"}}]
[null,"Miscellaneous","DIY Construction & Renovation Materials",null,{"$f":"+'4.MSW Comp. Analysis'!O74","v":{"$error":"#N/A"}},{"$f":"E61*'5.MSW Detailed Analysis'!$F$19","v":{"$error":"#N/A"}},{"$f":"'5.MSW Detailed Analysis'!G62","v":0},{"$error":"#N/A"},{"$error":"#N/A"},{"$error":"#N/A"},null,{"$error":"#N/A"},{"$error":"#N/A"},null,{"$error":"#N/A"},{"$error":"#N/A"},null,{"$error":"#N/A"},{"$error":"#N/A"},null,{"$error":"#N/A"},{"$error":"#N/A"},null,{"$error":"#N/A"},{"$error":"#N/A"},null,{"$error":"#N/A"},{"$error":"#N/A"},null,{"$error":"#N/A"},{"$error":"#N/A"},null,{"$error":"#N/A"},{"$error":"#N/A"},null,{"$error":"#N/A"},{"$error":"#N/A"},null,{"$f":"+$AM$18*E61","v":{"$error":"#N/A"}},{"$error":"#N/A"},null,{"$f":"+$AJ$18*E61","v":{"$error":"#N/A"}},{"$error":"#N/A"}]
[null,null,"Diapers",null,{"$f":"+'4.MSW Comp. Analysis'!O75","v":{"$error":"#N/A"}},{"$f":"E62*'5.MSW Detailed Analysis'!$F$19","v":{"$error":"#N/A"}},{"$f":"'5.MSW Detailed Analysis'!G63","v":0},{"$error":"#N/A"},{"$error":"#N/A"},{"$error":"#N/A"},null,{"$error":"#N/A"},{"$error":"#N/A"},null,{"$error":"#N/A"},{"$error":"#N/A"},null,{"$error":"#N/A"},{"$error":"#N/A"},null,{"$error":"#N/A"},{"$error":"#N/A"},null,{"$error":"#N/A"},{"$error":"#N/A"},null,{"$error":"#N/A"},{"$error":"#N/A"},null,{"$error":"#N/A"},{"$error":"#N/A"},null,{"$error":"#N/A"},{"$error":"#N/A"},null,{"$error":"#N/A"},{"$error":"#N/A"},null,{"$f":"+$AG$18*E62","v":{"$error":"#N/A"}},{"$error":"#N/A"},null,{"$error":"#N/A"},{"$error":"#N/A"}]
[null,null,"Electronics",null,{"$f":"+'4.MSW Comp. Analysis'!O76","v":{"$error":"#N/A"}},{"$f":"E63*'5.MSW Detailed Analysis'!$F$19","v":{"$error":"#N/A"}},{"$f":"'5.MSW Detailed Analysis'!G64","v":0},{"$error":"#N/A"},{"$error":"#N/A"},{"$error":"#N/A"},null,{"$error":"#N/A"},{"$error":"#N/A"},null,{"$error":"#N/A"},{"$error":"#N/A"},null,{"$error":"#N/A"},{"$error":"#N/A"},null,{"$error":"#N/A"},{"$error":"#N/A"},null,{"$error":"#N/A"},{"$error":"#N/A"},null,{"$error":"#N/A"},{"$error":"#N/A"},null,{"$error":"#N/A"},{"$error":"#N/A"},null,{"$error":"#N/A"},{"$error":"#N/A"},null,{"$error":"#N/A"},{"$error":"#N/A"},null,{"$error":"#N/A"},{"$error":"#N/A"},null,{"$error":"#N/A"},{"$error":"#N/A"}]
[null,null,"Tires",null,{"$f":"+'4.MSW Comp. Analysis'!O77","v":{"$error":"#N/A"}},{"$f":"E64*'5.MSW Detailed Analysis'!$F$19","v":{"$error":"#N/A"}},{"$f":"'5.MSW Detailed Analysis'!G65","v":0},{"$error":"#N/A"},{"$error":"#N/A"},{"$error":"#N/A"},null,{"$error":"#N/A"},{"$error":"#N/A"},null,{"$error":"#N/A"},{"$error":"#N/A"},null,{"$error":"#N/A"},{"$error":"#N/A"},null,{"$error":"#N/A"},{"$error":"#N/A"},null,{"$error":"#N/A"},{"$error":"#N/A"},null,{"$error":"#N/A"},{"$error":"#N/A"},null,{"$error":"#N/A"},{"$error":"#N/A"},null,{"$error":"#N/A"},{"$error":"#N/A"},null,{"$error":"#N/A"},{"$error":"#N/A"},null,{"$error":"#N/A"},{"$error":"#N/A"},null,{"$error":"#N/A"},{"$error":"#N/A"}]
[null,null,"HHW",null,{"$f":"+'4.MSW Comp. Analysis'!O78","v":{"$error":"#N/A"}},{"$f":"E65*'5.MSW Detailed Analysis'!$F$19","v":{"$error":"#N/A"}},{"$f":"'5.MSW Detailed Analysis'!G66","v":0},{"$error":"#N/A"},{"$error":"#N/A"},{"$error":"#N/A"},null,{"$error":"#N/A"},{"$error":"#N/A"},null,{"$error":"#N/A"},{"$error":"#N/A"},null,{"$error":"#N/A"},{"$error":"#N/A"},null,{"$error":"#N/A"},{"$error":"#N/A"},null,{"$error":"#N/A"},{"$error":"#N/A"},null,{"$error":"#N/A"},{"$error":"#N/A"},null,{"$error":"#N/A"},{"$error":"#N/A"},null,{"$error":"#N/A"},{"$error":"#N/A"},null,{"$error":"#N/A"},{"$error":"#N/A"},null,{"$error":"#N/A"},{"$error":"#N/A"},null,{"$error":"#N/A"},{"$error":"#N/A"}]
[null,null,"Soils and Fines",null,{"$f":"+'4.MSW Comp. Analysis'!O79","v":{"$error":"#N/A"}},{"$f":"E66*'5.MSW Detailed Analysis'!$F$19","v":{"$error":"#N/A"}},{"$f":"'5.MSW Detailed Analysis'!G67","v":0},{"$error":"#N/A"},{"$error":"#N/A"},{"$error":"#N/A"},null,{"$error":"#N/A"},{"$error":"#N/A"},null,{"$error":"#N/A"},{"$error":"#N/A"},null,{"$error":"#N/A"},{"$error":"#N/A"},null,{"$error":"#N/A"},{"$error":"#N/A"},null,{"$error":"#N/A"},{"$error":"#N/A"},null,{"$error":"#N/A"},{"$error":"#N/A"},null,{"$error":"#N/A"},{"$error":"#N/A"},null,{"$error":"#N/A"},{"$error":"#N/A"},null,{"$error":"#N/A"},{"$error":"#N/A"},null,{"$error":"#N/A"},{"$error":"#N/A"},null,{"$error":"#N/A"},{"$error":"#N/A"}]
[null,null,"Other Composite Materials - Durable and/or inert",null,{"$f":"+'4.MSW Comp. Analysis'!O80","v":{"$error":"#N/A"}},{"$f":"E67*'5.MSW Detailed Analysis'!$F$19","v":{"$error":"#N/A"}},{"$f":"'5.MSW Detailed Analysis'!G68","v":0},{"$error":"#N/A"},{"$error":"#N/A"},{"$error":"#N/A"},null,{"$error":"#N/A"},{"$error":"#N/A"},null,{"$error":"#N/A"},{"$error":"#N/A"},null,{"$error":"#N/A"},{"$error":"#N/A"},null,{"$error":"#N/A"},{"$error":"#N/A"},null,{"$error":"#N/A"},{"$error":"#N/A"},null,{"$error":"#N/A"},{"$error":"#N/A"},null,{"$error":"#N/A"},{"$error":"#N/A"},null,{"$error":"#N/A"},{"$error":"#N/A"},null,{"$error":"#N/A"},{"$error":"#N/A"},null,{"$error":"#N/A"},{"$error":"#N/A"},null,{"$error":"#N/A"},{"$error":"#N/A"}]
[null,null,"Total Miscellaneous",null,{"$f":"+'4.MSW Comp. Analysis'!O81","v":{"$error":"#N/A"}},{"$f":"E68*'5.MSW Detailed Analysis'!$F$19","v":{"$error":"#N/A"}},{"$f":"'5.MSW Detailed Analysis'!G69","v":0},{"$error":"#N/A"},{"$f":"SUM(I61:I67)","v":{"$error":"#N/A"}},{"$f":"SUM(J61:J67)","v":{"$error":"#N/A"}},{"$f":"J68/I68","v":{"$error":"#N/A"}},{"$f":"SUM(L61:L67)","v":{"$error":"#N/A"}},{"$f":"SUM(M61:M67)","v":{"$error":"#N/A"}},{"$f":"M68/L68","v":{"$error":"#N/A"}},{"$f":"SUM(O61:O67)","v":{"$error":"#N/A"}},{"$f":"SUM(P61:P67)","v":{"$error":"#N/A"}},{"$f":"P68/O68","v":{"$error":"#N/A"}},{"$f":"SUM(R61:R67)","v":{"$error":"#N/A"}},{"$f":"SUM(S61:S67)","v":{"$error":"#N/A"}},{"$f":"S68/R68","v":{"$error":"#N/A"}},{"$f":"SUM(U61:U67)","v":{"$error":"#N/A"}},{"$f":"SUM(V61:V67)","v":{"$error":"#N/A"}},{"$f":"V68/U68","v":{"$error":"#N/A"}},{"$f":"SUM(X61:X67)","v":{"$error":"#N/A"}},{"$f":"SUM(Y61:Y67)","v":{"$error":"#N/A"}},{"$f":"Y68/X68","v":{"$error":"#N/A"}},{"$f":"SUM(AA61:AA67)","v":{"$error":"#N/A"}},{"$f":"SUM(AB61:AB67)","v":{"$error":"#N/A"}},{"$f":"AB68/AA68","v":{"$error":"#N/A"}},{"$f":"SUM(AD61:AD67)","v":{"$error":"#N/A"}},{"$f":"SUM(AE61:AE67)","v":{"$error":"#N/A"}},{"$f":"AE68/AD68","v":{"$error":"#N/A"}},{"$f":"SUM(AG61:AG67)","v":{"$error":"#N/A"}},{"$f":"SUM(AH61:AH67)","v":{"$error":"#N/A"}},{"$f":"AH68/AG68","v":{"$error":"#N/A"}},{"$f":"SUM(AJ61:AJ67)","v":{"$error":"#N/A"}},{"$f":"SUM(AK61:AK67)","v":{"$error":"#N/A"}},{"$f":"AK68/AJ68","v":{"$error":"#N/A"}},{"$f":"SUM(AM61:AM67)","v":{"$error":"#N/A"}},{"$f":"SUM(AN61:AN67)","v":{"$error":"#N/A"}},{"$f":"AN68/AM68","v":{"$error":"#N/A"}},{"$f":"SUM(AP61:AP67)","v":{"$error":"#N/A"}},{"$f":"SUM(AQ61:AQ67)","v":{"$error":"#N/A"}},{"$f":"AQ68/AP68","v":{"$error":"#N/A"}}]

{"sheet":"7.MSW Projections","index":7,"n_rows":78,"n_cols":43,"rows_kept":78,"cut":false,"hidden":false,"merged":[[15,0,28,0],[50,0,52,0],[47,0,49,0],[29,0,37,0],[38,0,46,0],[57,0,64,0],[73,4,73,6],[68,1,68,3],[69,1,69,3],[72,1,72,3],[68,4,68,6],[69,4,69,6],[67,4,67,6],[53,0,55,0],[17,1,25,1],[29,1,30,1],[14,1,14,2],[12,34,12,36],[12,4,12,6],[12,7,12,9],[12,10,12,12],[12,13,12,15],[12,16,12,18],[12,19,12,21],[12,31,12,33],[12,28,12,30],[1,10,1,33],[4,15,7,28],[3,15,3,28],[10,13,10,26],[10,27,10,30],[67,25,67,27],[67,13,67,15],[67,16,67,18],[67,10,67,12],[12,25,12,27],[12,22,12,24],[67,19,67,21],[67,22,67,24],[67,31,67,33],[68,16,68,18],[69,16,69,18],[70,7,70,9],[70,16,70,18],[73,16,73,18],[72,10,72,12],[70,1,70,3],[73,1,73,3],[70,4,70,6],[73,7,73,9],[72,4,72,6],[72,13,72,15],[72,16,72,18],[68,13,68,15],[68,10,68,12],[69,7,69,9],[69,10,69,12],[77,1,77,3],[76,1,76,3],[77,10,77,12],[75,10,75,12],[75,7,75,9],[68,7,68,9],[72,7,72,9],[67,7,67,9],[33,1,35,1],[70,10,70,12],[73,10,73,12],[42,1,44,1],[77,13,77,15],[76,10,76,12],[76,13,76,15],[77,16,77,18],[76,16,76,18],[77,4,77,6],[77,7,77,9],[76,4,76,6],[76,7,76,9],[76,28,76,30],[75,13,75,15],[70,13,70,15],[73,13,73,15],[75,16,75,18],[69,19,69,21],[69,13,69,15],[75,1,75,3],[75,4,75,6],[68,34,68,36],[77,25,77,27],[77,22,77,24],[76,22,76,24],[69,28,69,30],[68,19,68,21],[72,19,72,21],[75,19,75,21],[70,19,70,21],[73,19,73,21],[77,19,77,21],[76,19,76,21],[69,22,69,24],[75,25,75,27],[73,25,73,27],[69,25,69,27],[76,25,76,27],[68,22,68,24],[72,22,72,24],[75,22,75,24],[70,22,70,24],[73,22,73,24],[72,25,72,27],[70,25,70,27],[68,31,68,33],[75,28,75,30],[68,25,68,27],[68,28,68,30],[67,34,67,36],[67,28,67,30],[77,34,77,36],[76,34,76,36],[76,31,76,33],[77,28,77,30],[69,31,69,33],[72,28,72,30],[70,28,70,30],[72,34,72,36],[72,31,72,33],[69,34,69,36],[75,31,75,33],[70,31,70,33],[75,34,75,36],[70,34,70,36],[73,31,73,33],[77,31,77,33],[73,34,73,36],[73,28,73,30],[12,37,12,39],[12,40,12,42],[67,37,67,39],[67,40,67,42],[68,37,68,39],[68,40,68,42],[69,37,69,39],[69,40,69,42],[70,37,70,39],[70,40,70,42],[72,37,72,39],[72,40,72,42],[73,37,73,39],[73,40,73,42],[75,37,75,39],[75,40,75,42],[76,37,76,39],[76,40,76,42],[77,37,77,39],[77,40,77,42]]}
[]
[null,null,null,null,null,null,null,null,null,null,"Step 7. Municipal Solid Waste (MSW) Generation and Diversion - Detailed Projections"]
[]
[]
[null,null,null,null,null,null,null,null,null,null,null,null,null,null,null,"The final result of the Population and Municipal Composition Calculator is presented on the last tab. This tab contains data for the current year regarding waste generated and waste diverted from disposal. This tab also shows the projected waste diversion percentages, and the amount of waste in tons these percentages will divert for recycling. Total amounts of waste diverted will be calculated for each material and each year of the planning period."]
[]
[]
[]
[]
[]
[null,null,null,null,null,null,null,null,null,null,null,null,null,{"$f":"+'1.PU& Period Selection'!E12","v":0},null,null,null,null,null,null,null,null,null,null,null,null,null,{"$f":"+'1.PU& Period Selection'!E15","v":0}]
[]
[null,null,null,null,{"$f":"(VLOOKUP('1.PU& Period Selection'!E15,'1.PU& Period Selection'!BW15:CK26,2,FALSE)-1)","v":{"$error":"#N/A"}},null,null,{"$f":"+'3.PU&MSW Projections'!H55","v":{"$error":"#N/A"}},null,null,{"$f":"+'3.PU&MSW Projections'!I55","v":{"$error":"#N/A"}},null,null,{"$f":"+'3.PU&MSW Projections'!J55","v":{"$error":"#N/A"}},null,null,{"$f":"+'3.PU&MSW Projections'!K55","v":{"$error":"#N/A"}},null,null,{"$f":"+'3.PU&MSW Projections'!L55","v":{"$error":"#N/A"}},null,null,{"$f":"+'3.PU&MSW Projections'!M55","v":{"$error":"#N/A"}},null,null,{"$f":"+'3.PU&MSW Projections'!N55","v":{"$error":"#N/A"}},null,null,{"$f":"+'3.PU&MSW Projections'!O55","v":{"$error":"#N/A"}},null,null,{"$f":"+'3.PU&MSW Projections'!P55","v":{"$error":"#N/A"}},null,null,{"$f":"+'3.PU&MSW Projections'!Q55","v":{"$error":"#N/A"}},null,null,{"$f":"+'3.PU&MSW Projections'!R55","v":{"$error":"#N/A"}},null,null,{"$f":"+'3.PU&MSW Projections'!S55","v":{"$error":"#N/A"}}]
[null,null,null,"MSW Materials Composition (%)","MSW Generated (Tons)","MSW Diverted (Tons)","% MSW Diverted","MSW generated (Tons)","MSW Diverted","% MSW Diverted","MSW generated (Tons)","MSW Diverted","% MSW Diverted","MSW generated (Tons)","MSW Diverted","% MSW Diverted","MSW generated (Tons)","MSW Diverted","% MSW Diverted","MSW generated (Tons)","MSW Diverted","% MSW Diverted","MSW generated (Tons)","MSW Diverted","% MSW Diverted","MSW generated (Tons)","MSW Diverted","% MSW Diverted","MSW generated (Tons)","MSW Diverted","% MSW Diverted","MSW generated (Tons)","MSW Diverted","% MSW Diverted","MSW generated (Tons)","MSW Diverted","% MSW Diverted","MSW generated (Tons)","MSW Diverted","% MSW Diverted","MSW generated (Tons)","MSW Diverted","% MSW Diverted"]
[null,"Material",null,{"$f":"D29+D38+D47+D50+D53+D56+D57+D65","v":{"$error":"#N/A"}},{"$f":"'3.PU&MSW Projections'!G46","v":0},{"$f":"F29+F38+F47+F50+F53+F56+F57+F65","v":0},{"$f":"F15/E15","v":{"$error":"#DIV/0!"}},{"$f":"+'3.PU&MSW Projections'!G70","v":{"$error":"#N/A"}},{"$f":"I29+I38+I47+I50+I53+I56+I57+I65","v":{"$error":"#N/A"}},{"$f":"I15/H15","v":{"$error":"#N/A"}},{"$f":"+'3.PU&MSW Projections'!H70","v":{"$error":"#N/A"}},{"$f":"L29+L38+L47+L50+L53+L56+L57+L65","v":{"$error":"#N/A"}},{"$f":"L15/K15","v":{"$error":"#N/A"}},{"$f":"+'3.PU&MSW Projections'!I70","v":{"$error":"#N/A"}},{"$f":"O29+O38+O47+O50+O53+O56+O57+O65","v":{"$error":"#N/A"}},{"$f":"O15/N15","v":{"$error":"#N/A"}},{"$f":"+'3.PU&MSW Projections'!J70","v":{"$error":"#N/A"}},{"$f":"R29+R38+R47+R50+R53+R56+R57+R65","v":{"$error":"#N/A"}},{"$f":"R15/Q15","v":{"$error":"#N/A"}},{"$f":"+'3.PU&MSW Projections'!K70","v":{"$error":"#N/A"}},{"$f":"U29+U38+U47+U50+U53+U56+U57+U65","v":{"$error":"#N/A"}},{"$f":"U15/T15","v":{"$error":"#N/A"}},{"$f":"+'3.PU&MSW Projections'!L70","v":{"$error":"#N/A"}},{"$f":"X29+X38+X47+X50+X53+X56+X57+X65","v":{"$error":"#N/A"}},{"$f":"X15/W15","v":{"$error":"#N/A"}},{"$f":"+'3.PU&MSW Projections'!M70","v":{"$error":"#N/A"}},{"$f":"AA29+AA38+AA47+AA50+AA53+AA56+AA57+AA65","v":{"$error":"#N/A"}},{"$f":"AA15/Z15","v":{"$error":"#N/A"}},{"$f":"+'3.PU&MSW Projections'!N70","v":{"$error":"#N/A"}},{"$f":"AD29+AD38+AD47+AD50+AD53+AD56+AD57+AD65","v":{"$error":"#N/A"}},{"$f":"AD15/AC15","v":{"$error":"#N/A"}},{"$f":"+'3.PU&MSW Projections'!O70","v":{"$error":"#N/A"}},{"$f":"AG29+AG38+AG47+AG50+AG53+AG56+AG57+AG65","v":{"$error":"#N/A"}},{"$f":"AG15/AF15","v":{"$error":"#N/A"}},{"$f":"+'3.PU&MSW Projections'!P70","v":{"$error":"#N/A"}},{"$f":"AJ29+AJ38+AJ47+AJ50+AJ53+AJ56+AJ57+AJ65","v":{"$error":"#N/A"}},{"$f":"AJ15/AI15","v":{"$error":"#N/A"}},{"$f":"+'3.PU&MSW Projections'!Q70","v":{"$error":"#N/A"}},{"$f":"AM29+AM38+AM47+AM50+AM53+AM56+AM57+AM65","v":{"$error":"#N/A"}},{"$f":"AM15/AL15","v":{"$error":"#N/A"}},{"$f":"+'3.PU&MSW Projections'!R70","v":{"$error":"#N/A"}},{"$f":"AP29+AP38+AP47+AP50+AP53+AP56+AP57+AP65","v":{"$error":"#N/A"}},{"$f":"AP15/AO15","v":{"$error":"#N/A"}}]
["Paper","Newspaper",null,{"$f":"+'4.MSW Comp. Analysis'!O32","v":{"$error":"#N/A"}},{"$f":"D16*'5.MSW Detailed Analysis'!$F$19","v":{"$error":"#N/A"}},{"$f":"'5.MSW Detailed Analysis'!G20","v":0},{"$f":"F16/E16","v":{"$error":"#N/A"}},{"$f":"+$H$15*D16","v":{"$error":"#N/A"}},{"$f":"H16*J16","v":{"$error":"#N/A"}},{"$f":"'6.MSW Diversions'!K19","v":0},{"$f":"$K$15*D16","v":{"$error":"#N/A"}},{"$f":"K16*M16","v":{"$error":"#N/A"}},{"$f":"'6.MSW Diversions'!N19","v":0},{"$f":"+$N$15*D16","v":{"$error":"#N/A"}},{"$f":"N16*P16","v":{"$error":"#N/A"}},{"$f":"'6.MSW Diversions'!Q19","v":0},{"$f":"+$Q$15*D16","v":{"$error":"#N/A"}},{"$f":"Q16*S16","v":{"$error":"#N/A"}},{"$f":"'6.MSW Diversions'!T19","v":0},{"$f":"+$T$15*D16","v":{"$error":"#N/A"}},{"$f":"V16*T16","v":{"$error":"#N/A"}},{"$f":"'6.MSW Diversions'!W19","v":0},{"$f":"+$W$15*D16","v":{"$error":"#N/A"}},{"$f":"W16*Y16","v":{"$error":"#N/A"}},{"$f":"'6.MSW Diversions'!Z19","v":0},{"$f":"+$Z$15*D16","v":{"$error":"#N/A"}},{"$f":"Z16*AB16","v":{"$error":"#N/A"}},{"$f":"'6.MSW Diversions'!AC19","v":0},{"$f":"+$AC$15*D16","v":{"$error":"#N/A"}},{"$f":"AC16*AE16","v":{"$error":"#N/A"}},{"$f":"'6.MSW Diversions'!AF19","v":0},{"$f":"+$AF$15*D16","v":{"$error":"#N/A"}},{"$f":"AF16*AH16","v":{"$error":"#N/A"}},{"$f":"'6.MSW Diversions'!AI19","v":0},{"$f":"+$AI$15*D16","v":{"$error":"#N/A"}},{"$f":"AI16*AK16","v":{"$error":"#N/A"}},{"$f":"'6.MSW Diversions'!AL19","v":0},{"$f":"+$AL$15*D16","v":{"$error":"#N/A"}},{"$f":"AL16*AN16","v":{"$error":"#N/A"}},{"$f":"'6.MSW Diversions'!AO19","v":0},{"$f":"+$AO$15*D16","v":{"$error":"#N/A"}},{"$f":"AO16*AQ16","v":{"$error":"#N/A"}},{"$f":"'6.MSW Diversions'!AR19","v":0}]
[null,"Corrugated Cardboard",null,{"$f":"+'4.MSW Comp. Analysis'!O33","v":{"$error":"#N/A"}},{"$f":"D17*'5.MSW Detailed Analysis'!$F$19","v":{"$error":"#N/A"}},{"$f":"'5.MSW Detailed Analysis'!G21","v":0},{"$f":"F17/E17","v":{"$error":"#N/A"}},{"$error":"#N/A"},{"$error":"#N/A"},{"$f":"'6.MSW Diversions'!K20","v":0},{"$error":"#N/A"},{"$error":"#N/A"},{"$f":"'6.MSW Diversions'!N20","v":0},{"$error":"#N/A"},{"$error":"#N/A"},{"$f":"'6.MSW Diversions'!Q20","v":0},{"$error":"#N/A"},{"$error":"#N/A"},{"$f":"'6.MSW Diversions'!T20","v":0},{"$error":"#N/A"},{"$error":"#N/A"},{"$f":"'6.MSW Diversions'!W20","v":0},{"$error":"#N/A"},{"$error":"#N/A"},{"$f":"'6.MSW Diversions'!Z20","v":0},{"$error":"#N/A"},{"$error":"#N/A"},{"$f":"'6.MSW Diversions'!AC20","v":0},{"$error":"#N/A"},{"$error":"#N/A"},{"$f":"'6.MSW Diversions'!AF20","v":0},{"$error":"#N/A"},{"$error":"#N/A"},{"$f":"'6.MSW Diversions'!AI20","v":0},{"$error":"#N/A"},{"$error":"#N/A"},{"$f":"'6.MSW Diversions'!AL20","v":0},{"$f":"+$AF$15*D17","v":{"$error":"#N/A"}},{"$error":"#N/A"},{"$f":"'6.MSW Diversions'!AO20","v":0},{"$f":"+$AO$15*D17","v":{"$error":"#N/A"}},{"$error":"#N/A"},{"$f":"'6.MSW Diversions'!AR20","v":0}]
[null,"Other Recyclable Paper","Paperboard",{"$f":"+'4.MSW Comp. Analysis'!O34","v":{"$error":"#N/A"}},{"$f":"D18*'5.MSW Detailed Analysis'!$F$19","v":{"$error":"#N/A"}},{"$f":"'5.MSW Detailed Analysis'!G22","v":0},{"$error":"#N/A"},{"$error":"#N/A"},{"$error":"#N/A"},{"$f":"'6.MSW Diversions'!K21","v":0},{"$error":"#N/A"},{"$error":"#N/A"},{"$f":"'6.MSW Diversions'!N21","v":0},{"$error":"#N/A"},{"$error":"#N/A"},{"$f":"'6.MSW Diversions'!Q21","v":0},{"$error":"#N/A"},{"$error":"#N/A"},{"$f":"'6.MSW Diversions'!T21","v":0},{"$error":"#N/A"},{"$error":"#N/A"},{"$f":"'6.MSW Diversions'!W21","v":0},{"$error":"#N/A"},{"$error":"#N/A"},{"$f":"'6.MSW Diversions'!Z21","v":0},{"$error":"#N/A"},{"$error":"#N/A"},{"$f":"'6.MSW Diversions'!AC21","v":0},{"$error":"#N/A"},{"$error":"#N/A"},{"$f":"'6.MSW Diversions'!AF21","v":0},{"$error":"#N/A"},{"$error":"#N/A"},{"$f":"'6.MSW Diversions'!AI21","v":0},{"$error":"#N/A"},{"$error":"#N/A"},{"$f":"'6.MSW Diversions'!AL21","v":0},{"$error":"#N/A"},{"$error":"#N/A"},{"$f":"'6.MSW Diversions'!AO21","v":0},{"$error":"#N/A"},{"$error":"#N/A"},{"$f":"'6.MSW Diversions'!AR21","v":0}]
[null,null,"Office Paper",{"$f":"+'4.MSW Comp. Analysis'!O35","v":{"$error":"#N/A"}},{"$f":"D19*'5.MSW Detailed Analysis'!$F$19","v":{"$error":"#N/A"}},{"$f":"'5.MSW Detailed Analysis'!G23","v":0},{"$error":"#N/A"},{"$error":"#N/A"},{"$error":"#N/A"},{"$f":"'6.MSW Diversions'!K22","v":0},{"$error":"#N/A"},{"$error":"#N/A"},{"$f":"'6.MSW Diversions'!N22","v":0},{"$error":"#N/A"},{"$error":"#N/A"},{"$f":"'6.MSW Diversions'!Q22","v":0},{"$error":"#N/A"},{"$error":"#N/A"},{"$f":"'6.MSW Diversions'!T22","v":0},{"$error":"#N/A"},{"$error":"#N/A"},{"$f":"'6.MSW Diversions'!W22","v":0},{"$error":"#N/A"},{"$error":"#N/A"},{"$f":"'6.MSW Diversions'!Z22","v":0},{"$error":"#N/A"},{"$error":"#N/A"},{"$f":"'6.MSW Diversions'!AC22","v":0},{"$error":"#N/A"},{"$error":"#N/A"},{"$f":"'6.MSW Diversions'!AF22","v":0},{"$error":"#N/A"},{"$error":"#N/A"},{"$f":"'6.MSW Diversions'!AI22","v":0},{"$error":"#N/A"},{"$error":"#N/A"},{"$f":"'6.MSW Diversions'!AL22","v":0},{"$error":"#N/A"},{"$error":"#N/A"},{"$f":"'6.MSW Diversions'!AO22","v":0},{"$error":"#N/A"},{"$error":"#N/A"},{"$f":"'6.MSW Diversions'!AR22","v":0}]
[null,null,"Junk Mail",{"$f":"+'4.MSW Comp. Analysis'!O36","v":{"$error":"#N/A"}},{"$f":"D20*'5.MSW Detailed Analysis'!$F$19","v":{"$error":"#N/A"}},{"$f":"'5.MSW Detailed Analysis'!G24","v":0},{"$error":"#N/A"},{"$error":"#N/A"},{"$error":"#N/A"},{"$f":"'6.MSW Diversions'!K23","v":0},{"$error":"#N/A"},{"$error":"#N/A"},{"$f":"'6.MSW Diversions'!N23","v":0},{"$error":"#N/A"},{"$error":"#N/A"},{"$f":"'6.MSW Diversions'!Q23","v":0},{"$error":"#N/A"},{"$error":"#N/A"},{"$f":"'6.MSW Diversions'!T23","v":0},{"$error":"#N/A"},{"$error":"#N/A"},{"$f":"'6.MSW Diversions'!W23","v":0},{"$error":"#N/A"},{"$error":"#N/A"},{"$f":"'6.MSW Diversions'!Z23","v":0},{"$error":"#N/A"},{"$error":"#N/A"},{"$f":"'6.MSW Diversions'!AC23","v":0},{"$error":"#N/A"},{"$error":"#N/A"},{"$f":"'6.MSW Diversions'!AF23","v":0},{"$error":"#N/A"},{"$error":"#N/A"},{"$f":"'6.MSW Diversions'!AI23","v":0},{"$error":"#N/A"},{"$error":"#N/A"},{"$f":"'6.MSW Diversions'!AL23","v":0},{"$error":"#N/A"},{"$error":"#N/A"},{"$f":"'6.MSW Diversions'!AO23","v":0},{"$error":"#N/A"},{"$error":"#N/A"},{"$f":"'6.MSW Diversions'!AR23","v":0}]
[null,null,"Other Commercial Printing",{"$f":"+'4.MSW Comp. Analysis'!O37","v":{"$error":"#N/A"}},{"$f":"D21*'5.MSW Detailed Analysis'!$F$19","v":{"$error":"#N/A"}},{"$f":"'5.MSW Detailed Analysis'!G25","v":0},{"$error":"#N/A"},{"$error":"#N/A"},{"$error":"#N/A"},{"$f":"'6.MSW Diversions'!K24","v":0},{"$error":"#N/A"},{"$error":"#N/A"},{"$f":"'6.MSW Diversions'!N24","v":0},{"$error":"#N/A"},{"$error":"#N/A"},{"$f":"'6.MSW Diversions'!Q24","v":0},{"$error":"#N/A"},{"$error":"#N/A"},{"$f":"'6.MSW Diversions'!T24","v":0},{"$error":"#N/A"},{"$error":"#N/A"},{"$f":"'6.MSW Diversions'!W24","v":0},{"$error":"#N/A"},{"$error":"#N/A"},{"$f":"'6.MSW Diversions'!Z24","v":0},{"$error":"#N/A"},{"$error":"#N/A"},{"$f":"'6.MSW Diversions'!AC24","v":0},{"$error":"#N/A"},{"$error":"#N/A"},{"$f":"'6.MSW Diversions'!AF24","v":0},{"$error":"#N/A"},{"$error":"#N/A"},{"$f":"'6.MSW Diversions'!AI24","v":0},{"$error":"#N/A"},{"$error":"#N/A"},{"$f":"'6.MSW Diversions'!AL24","v":0},{"$error":"#N/A"},{"$error":"#N/A"},{"$f":"'6.MSW Diversions'!AO24","v":0},{"$error":"#N/A"},{"$error":"#N/A"},{"$f":"'6.MSW Diversions'!AR24","v":0}]
[null,null,"Magazines",{"$f":"+'4.MSW Comp. Analysis'!O38","v":{"$error":"#N/A"}},{"$f":"D22*'5.MSW Detailed Analysis'!$F$19","v":{"$error":"#N/A"}},{"$f":"'5.MSW Detailed Analysis'!G26","v":0},{"$error":"#N/A"},{"$error":"#N/A"},{"$error":"#N/A"},{"$f":"'6.MSW Diversions'!K25","v":0},{"$error":"#N/A"},{"$error":"#N/A"},{"$f":"'6.MSW Diversions'!N25","v":0},{"$error":"#N/A"},{"$error":"#N/A"},{"$f":"'6.MSW Diversions'!Q25","v":0},{"$error":"#N/A"},{"$error":"#N/A"},{"$f":"'6.MSW Diversions'!T25","v":0},{"$error":"#N/A"},{"$error":"#N/A"},{"$f":"'6.MSW Diversions'!W25","v":0},{"$error":"#N/A"},{"$error":"#N/A"},{"$f":"'6.MSW Diversions'!Z25","v":0},{"$error":"#N/A"},{"$error":"#N/A"},{"$f":"'6.MSW Diversions'!AC25","v":0},{"$error":"#N/A"},{"$error":"#N/A"},{"$f":"'6.MSW Diversions'!AF25","v":0},{"$error":"#N/A"},{"$error":"#N/A"},{"$f":"'6.MSW Diversions'!AI25","v":0},{"$error":"#N/A"},{"$error":"#N/A"},{"$f":"'6.MSW Diversions'!AL25","v":0},{"$error":"#N/A"},{"$error":"#N/A"},{"$f":"'6.MSW Diversions'!AO25","v":0},{"$error":"#N/A"},{"$error":"#N/A"},{"$f":"'6.MSW Diversions'!AR25","v":0}]
[null,null,"Books",{"$f":"+'4.MSW Comp. Analysis'!O39","v":{"$error":"#N/A"}},{"$f":"D23*'5.MSW Detailed Analysis'!$F$19","v":{"$error":"#N/A"}},{"$f":"'5.MSW Detailed Analysis'!G27","v":0},{"$error":"#N/A"},{"$error":"#N/A"},{"$error":"#N/A"},{"$f":"'6.MSW Diversions'!K26","v":0},{"$error":"#N/A"},{"$error":"#N/A"},{"$f":"'6.MSW Diversions'!N26","v":0},{"$error":"#N/A"},{"$error":"#N/A"},{"$f":"'6.MSW Diversions'!Q26","v":0},{"$error":"#N/A"},{"$error":"#N/A"},{"$f":"'6.MSW Diversions'!T26","v":0},{"$error":"#N/A"},{"$error":"#N/A"},{"$f":"'6.MSW Diversions'!W26","v":0},{"$error":"#N/A"},{"$error":"#N/A"},{"$f":"'6.MSW Diversions'!Z26","v":0},{"$error":"#N/A"},{"$error":"#N/A"},{"$f":"'6.MSW Diversions'!AC26","v":0},{"$error":"#N/A"},{"$error":"#N/A"},{"$f":"'6.MSW Diversions'!AF26","v":0},{"$error":"#N/A"},{"$error":"#N/A"},{"$f":"'6.MSW Diversions'!AI26","v":0},{"$error":"#N/A"},{"$error":"#N/A"},{"$f":"'6.MSW Diversions'!AL26","v":0},{"$error":"#N/A"},{"$error":"#N/A"},{"$f":"'6.MSW Diversions'!AO26","v":0},{"$error":"#N/A"},{"$error":"#N/A"},{"$f":"'6.MSW Diversions'!AR26","v":0}]
[null,null,"Paper Bags",{"$f":"+'4.MSW Comp. Analysis'!O40","v":{"$error":"#N/A"}},{"$f":"D24*'5.MSW Detailed Analysis'!$F$19","v":{"$error":"#N/A"}},{"$f":"'5.MSW Detailed Analysis'!G28","v":0},{"$error":"#N/A"},{"$error":"#N/A"},{"$error":"#N/A"},{"$f":"'6.MSW Diversions'!K27","v":0},{"$error":"#N/A"},{"$error":"#N/A"},{"$f":"'6.MSW Diversions'!N27","v":0},{"$error":"#N/A"},{"$error":"#N/A"},{"$f":"'6.MSW Diversions'!Q27","v":0},{"$error":"#N/A"},{"$error":"#N/A"},{"$f":"'6.MSW Diversions'!T27","v":0},{"$error":"#N/A"},{"$error":"#N/A"},{"$f":"'6.MSW Diversions'!W27","v":0},{"$error":"#N/A"},{"$error":"#N/A"},{"$f":"'6.MSW Diversions'!Z27","v":0},{"$error":"#N/A"},{"$error":"#N/A"},{"$f":"'6.MSW Diversions'!AC27","v":0},{"$error":"#N/A"},{"$error":"#N/A"},{"$f":"'6.MSW Diversions'!AF27","v":0},{"$error":"#N/A"},{"$error":"#N/A"},{"$f":"'6.MSW Diversions'!AI27","v":0},{"$error":"#N/A"},{"$error":"#N/A"},{"$f":"'6.MSW Diversions'!AL27","v":0},{"$error":"#N/A"},{"$error":"#N/A"},{"$f":"'6.MSW Diversions'!AO27","v":0},{"$error":"#N/A"},{"$error":"#N/A"},{"$f":"'6.MSW Diversions'!AR27","v":0}]
[null,null,"Phone Books",{"$f":"+'4.MSW Comp. Analysis'!O41","v":{"$error":"#N/A"}},{"$f":"D25*'5.MSW Detailed Analysis'!$F$19","v":{"$error":"#N/A"}},{"$f":"'5.MSW Detailed Analysis'!G29","v":0},{"$error":"#N/A"},{"$error":"#N/A"},{"$error":"#N/A"},{"$f":"'6.MSW Diversions'!K28","v":0},{"$error":"#N/A"},{"$error":"#N/A"},{"$f":"'6.MSW Diversions'!N28","v":0},{"$error":"#N/A"},{"$error":"#N/A"},{"$f":"'6.MSW Diversions'!Q28","v":0},{"$error":"#N/A"},{"$error":"#N/A"},{"$f":"'6.MSW Diversions'!T28","v":0},{"$error":"#N/A"},{"$error":"#N/A"},{"$f":"'6.MSW Diversions'!W28","v":0},{"$error":"#N/A"},{"$error":"#N/A"},{"$f":"'6.MSW Diversions'!Z28","v":0},{"$error":"#N/A"},{"$error":"#N/A"},{"$f":"'6.MSW Diversions'!AC28","v":0},{"$error":"#N/A"},{"$error":"#N/A"},{"$f":"'6.MSW Diversions'!AF28","v":0},{"$error":"#N/A"},{"$error":"#N/A"},{"$f":"'6.MSW Diversions'!AI28","v":0},{"$error":"#N/A"},{"$error":"#N/A"},{"$f":"'6.MSW Diversions'!AL28","v":0},{"$error":"#N/A"},{"$error":"#N/A"},{"$f":"'6.MSW Diversions'!AO28","v":0},{"$error":"#N/A"},{"$error":"#N/A"},{"$f":"'6.MSW Diversions'!AR28","v":0}]
[null,null,"Poly-Coated",{"$f":"+'4.MSW Comp. Analysis'!O42","v":{"$error":"#N/A"}},{"$f":"D26*'5.MSW Detailed Analysis'!$F$19","v":{"$error":"#N/A"}},{"$f":"'5.MSW Detailed Analysis'!G30","v":0},{"$error":"#N/A"},{"$error":"#N/A"},{"$error":"#N/A"},{"$f":"'6.MSW Diversions'!K29","v":0},{"$error":"#N/A"},{"$error":"#N/A"},{"$f":"'6.MSW Diversions'!N29","v":0},{"$error":"#N/A"},{"$error":"#N/A"},{"$f":"'6.MSW Diversions'!Q29","v":0},{"$error":"#N/A"},{"$error":"#N/A"},{"$f":"'6.MSW Diversions'!T29","v":0},{"$error":"#N/A"},{"$error":"#N/A"},{"$f":"'6.MSW Diversions'!W29","v":0},{"$error":"#N/A"},{"$error":"#N/A"},{"$f":"'6.MSW Diversions'!Z29","v":0},{"$error":"#N/A"},{"$error":"#N/A"},{"$f":"'6.MSW Diversions'!AC29","v":0},{"$error":"#N/A"},{"$error":"#N/A"},{"$f":"'6.MSW Diversions'!AF29","v":0},{"$error":"#N/A"},{"$error":"#N/A"},{"$f":"'6.MSW Diversions'!AI29","v":0},{"$error":"#N/A"},{"$error":"#N/A"},{"$f":"'6.MSW Diversions'!AL29","v":0},{"$error":"#N/A"},{"$error":"#N/A"},{"$f":"'6.MSW Diversions'!AO29","v":0},{"$error":"#N/A"},{"$error":"#N/A"},{"$f":"'6.MSW Diversions'!AR29","v":0}]
[null,"Other Recyclable Paper (Total)",null,{"$f":"+'4.MSW Comp. Analysis'!O43","v":{"$error":"#N/A"}},{"$f":"D27*'5.MSW Detailed Analysis'!$F$19","v":{"$error":"#N/A"}},{"$f":"'5.MSW Detailed Analysis'!G31","v":0},{"$error":"#N/A"},{"$error":"#N/A"},{"$error":"#N/A"},{"$f":"'6.MSW Diversions'!K30","v":0},{"$error":"#N/A"},{"$error":"#N/A"},{"$f":"'6.MSW Diversions'!N30","v":0},{"$error":"#N/A"},{"$error":"#N/A"},{"$f":"'6.MSW Diversions'!Q30","v":0},{"$error":"#N/A"},{"$error":"#N/A"},{"$f":"'6.MSW Diversions'!T30","v":0},{"$error":"#N/A"},{"$error":"#N/A"},{"$f":"'6.MSW Diversions'!W30","v":0},{"$error":"#N/A"},{"$error":"#N/A"},{"$f":"'6.MSW Diversions'!Z30","v":0},{"$error":"#N/A"},{"$error":"#N/A"},{"$f":"'6.MSW Diversions'!AC30","v":0},{"$error":"#N/A"},{"$error":"#N/A"},{"$f":"'6.MSW Diversions'!AF30","v":0},{"$error":"#N/A"},{"$error":"#N/A"},{"$f":"'6.MSW Diversions'!AI30","v":0},{"$error":"#N/A"},{"$error":"#N/A"},{"$f":"'6.MSW Diversions'!AL30","v":0},{"$error":"#N/A"},{"$error":"#N/A"},{"$f":"'6.MSW Diversions'!AO30","v":0},{"$error":"#N/A"},{"$error":"#N/A"},{"$f":"'6.MSW Diversions'!AR30","v":0}]
[null,"Other Compostable Paper",null,{"$f":"+'4.MSW Comp. Analysis'!O44","v":{"$error":"#N/A"}},{"$f":"D28*'5.MSW Detailed Analysis'!$F$19","v":{"$error":"#N/A"}},{"$f":"'5.MSW Detailed Analysis'!G32","v":0},{"$error":"#N/A"},{"$error":"#N/A"},{"$error":"#N/A"},{"$f":"'6.MSW Diversions'!K31","v":0},{"$error":"#N/A"},{"$error":"#N/A"},{"$f":"'6.MSW Diversions'!N31","v":0},{"$error":"#N/A"},{"$error":"#N/A"},{"$f":"'6.MSW Diversions'!Q31","v":0},{"$error":"#N/A"},{"$error":"#N/A"},{"$f":"'6.MSW Diversions'!T31","v":0},{"$error":"#N/A"},{"$error":"#N/A"},{"$f":"'6.MSW Diversions'!W31","v":0},{"$error":"#N/A"},{"$error":"#N/A"},{"$f":"'6.MSW Diversions'!Z31","v":0},{"$error":"#N/A"},{"$error":"#N/A"},{"$f":"'6.MSW Diversions'!AC31","v":0},{"$error":"#N/A"},{"$error":"#N/A"},{"$f":"'6.MSW Diversions'!AF31","v":0},{"$error":"#N/A"},{"$error":"#N/A"},{"$f":"'6.MSW Diversions'!AI31","v":0},{"$error":"#N/A"},{"$error":"#N/A"},{"$f":"'6.MSW Diversions'!AL31","v":0},{"$error":"#N/A"},{"$error":"#N/A"},{"$f":"'6.MSW Diversions'!AO31","v":0},{"$error":"#N/A"},{"$error":"#N/A"},{"$f":"'6.MSW Diversions'!AR31","v":0}]
[null,"Total Paper",null,{"$f":"+'4.MSW Comp. Analysis'!O45","v":{"$error":"#N/A"}},{"$f":"D29*'5.MSW Detailed Analysis'!$F$19","v":{"$error":"#N/A"}},{"$f":"'5.MSW Detailed Analysis'!G33","v":0},{"$error":"#N/A"},{"$f":"+H16+H17+H27+H28","v":{"$error":"#N/A"}},{"$f":"+I16+I17+I27+I28","v":{"$error":"#N/A"}},{"$f":"I29/H29","v":{"$error":"#N/A"}},{"$f":"+K16+K17+K27+K28","v":{"$error":"#N/A"}},{"$f":"+L16+L17+L27+L28","v":{"$error":"#N/A"}},{"$f":"L29/K29","v":{"$error":"#N/A"}},{"$f":"+N16+N17+N27+N28","v":{"$error":"#N/A"}},{"$f":"+O16+O17+O27+O28","v":{"$error":"#N/A"}},{"$f":"O29/N29","v":{"$error":"#N/A"}},{"$f":"+Q16+Q17+Q27+Q28","v":{"$error":"#N/A"}},{"$f":"+R16+R17+R27+R28","v":{"$error":"#N/A"}},{"$f":"R29/Q29","v":{"$error":"#N/A"}},{"$f":"+T16+T17+T27+T28","v":{"$error":"#N/A"}},{"$f":"+U16+U17+U27+U28","v":{"$error":"#N/A"}},{"$f":"U29/T29","v":{"$error":"#N/A"}},{"$f":"+W16+W17+W27+W28","v":{"$error":"#N/A"}},{"$f":"+X16+X17+X27+X28","v":{"$error":"#N/A"}},{"$f":"X29/W29","v":{"$error":"#N/A"}},{"$f":"+Z16+Z17+Z27+Z28","v":{"$error":"#N/A"}},{"$f":"+AA16+AA17+AA27+AA28","v":{"$error":"#N/A"}},{"$f":"AA29/Z29","v":{"$error":"#N/A"}},{"$f":"+AC16+AC17+AC27+AC28","v":{"$error":"#N/A"}},{"$f":"+AD16+AD17+AD27+AD28","v":{"$error":"#N/A"}},{"$f":"AD29/AC29","v":{"$error":"#N/A"}},{"$f":"+AF16+AF17+AF27+AF28","v":{"$error":"#N/A"}},{"$f":"+AG16+AG17+AG27+AG28","v":{"$error":"#N/A"}},{"$f":"AG29/AF29","v":{"$error":"#N/A"}},{"$f":"+AI16+AI17+AI27+AI28","v":{"$error":"#N/A"}},{"$f":"+AJ16+AJ17+AJ27+AJ28","v":{"$error":"#N/A"}},{"$f":"AJ29/AI29","v":{"$error":"#N/A"}},{"$f":"+AL16+AL17+AL27+AL28","v":{"$error":"#N/A"}},{"$f":"+AM16+AM17+AM27+AM28","v":{"$error":"#N/A"}},{"$f":"AM29/AL29","v":{"$error":"#N/A"}},{"$f":"+AO16+AO17+AO27+AO28","v":{"$error":"#N/A"}},{"$f":"+AP16+AP17+AP27+AP28","v":{"$error":"#N/A"}},{"$f":"AP29/AO29","v":{"$error":"#N/A"}}]
["Metal","Ferrous/Aluminum Containers","Ferrous Containers",{"$f":"+'4.MSW Comp. Analysis'!O46","v":{"$error":"#N/A"}},{"$f":"D30*'5.MSW Detailed Analysis'!$F$19","v":{"$error":"#N/A"}},{"$f":"'5.MSW Detailed Analysis'!G34","v":{"$error":"#N/A"}},{"$error":"#N/A"},{"$f":"+$H$15*D30","v":{"$error":"#N/A"}},{"$f":"H30*J30","v":{"$error":"#N/A"}},{"$f":"'6.MSW Diversions'!K33","v":{"$error":"#N/A"}},{"$f":"+$K$15*D30","v":{"$error":"#N/A"}},{"$f":"K30*M30","v":{"$error":"#N/A"}},{"$f":"'6.MSW Diversions'!N33","v":{"$error":"#N/A"}},{"$f":"+$N$15*D30","v":{"$error":"#N/A"}},{"$f":"N30*P30","v":{"$error":"#N/A"}},{"$f":"'6.MSW Diversions'!Q33","v":{"$error":"#N/A"}},{"$f":"+$Q$15*D30","v":{"$error":"#N/A"}},{"$f":"Q30*S30","v":{"$error":"#N/A"}},{"$f":"'6.MSW Diversions'!T33","v":{"$error":"#N/A"}},{"$f":"+$T$15*D30","v":{"$error":"#N/A"}},{"$f":"T30*V30","v":{"$error":"#N/A"}},{"$f":"'6.MSW Diversions'!W33","v":{"$error":"#N/A"}},{"$f":"+$W$15*D30","v":{"$error":"#N/A"}},{"$f":"W30*Y30","v":{"$error":"#N/A"}},{"$f":"'6.MSW Diversions'!Z33","v":{"$error":"#N/A"}},{"$f":"+$Z$15*D30","v":{"$error":"#N/A"}},{"$f":"Z30*AB30","v":{"$error":"#N/A"}},{"$f":"'6.MSW Diversions'!AC33","v":{"$error":"#N/A"}},{"$f":"+$AC$15*D30","v":{"$error":"#N/A"}},{"$f":"AE30*AC30","v":{"$error":"#N/A"}},{"$f":"'6.MSW Diversions'!AF33","v":{"$error":"#N/A"}},{"$f":"+$AF$15*D30","v":{"$error":"#N/A"}},{"$f":"AF30*AH30","v":{"$error":"#N/A"}},{"$f":"'6.MSW Diversions'!AI33","v":{"$error":"#N/A"}},{"$f":"+$AI$15*D30","v":{"$error":"#N/A"}},{"$f":"AI30*AK30","v":{"$error":"#N/A"}},{"$f":"'6.MSW Diversions'!AL33","v":{"$error":"#N/A"}},{"$f":"+$AF$15*D30","v":{"$error":"#N/A"}},{"$f":"AL30*AN30","v":{"$error":"#N/A"}},{"$f":"'6.MSW Diversions'!AO33","v":{"$error":"#N/A"}},{"$f":"+$AI$15*D30","v":{"$error":"#N/A"}},{"$f":"AO30*AQ30","v":{"$error":"#N/A"}},{"$f":"'6.MSW Diversions'!AR33","v":{"$error":"#N/A"}}]
[null,null,"Aluminum Containers",{"$f":"+'4.MSW Comp. Analysis'!O47","v":{"$error":"#N/A"}},{"$f":"D31*'5.MSW Detailed Analysis'!$F$19","v":{"$error":"#N/A"}},{"$f":"'5.MSW Detailed Analysis'!G35","v":{"$error":"#N/A"}},{"$error":"#N/A"},{"$error":"#N/A"},{"$error":"#N/A"},{"$f":"'6.MSW Diversions'!K34","v":{"$error":"#N/A"}},{"$error":"#N/A"},{"$error":"#N/A"},{"$f":"'6.MSW Diversions'!N34","v":{"$error":"#N/A"}},{"$error":"#N/A"},{"$error":"#N/A"},{"$f":"'6.MSW Diversions'!Q34","v":{"$error":"#N/A"}},{"$error":"#N/A"},{"$error":"#N/A"},{"$f":"'6.MSW Diversions'!T34","v":{"$error":"#N/A"}},{"$error":"#N/A"},{"$error":"#N/A"},{"$f":"'6.MSW Diversions'!W34","v":{"$error":"#N/A"}},{"$error":"#N/A"},{"$error":"#N/A"},{"$f":"'6.MSW Diversions'!Z34","v":{"$error":"#N/A"}},{"$error":"#N/A"},{"$error":"#N/A"},{"$f":"'6.MSW Diversions'!AC34","v":{"$error":"#N/A"}},{"$error":"#N/A"},{"$error":"#N/A"},{"$f":"'6.MSW Diversions'!AF34","v":{"$error":"#N/A"}},{"$error":"#N/A"},{"$error":"#N/A"},{"$f":"'6.MSW Diversions'!AI34","v":{"$error":"#N/A"}},{"$error":"#N/A"},{"$error":"#N/A"},{"$f":"'6.MSW Diversions'!AL34","v":{"$error":"#N/A"}},{"$f":"+$AF$15*D31","v":{"$error":"#N/A"}},{"$error":"#N/A"},{"$f":"'6.MSW Diversions'!AO34","v":{"$error":"#N/A"}},{"$f":"+$AI$15*D31","v":{"$error":"#N/A"}},{"$error":"#N/A"},{"$f":"'6.MSW Diversions'!AR34","v":{"$error":"#N/A"}}]
[null,"Ferrous/Aluminum Containers (Total)",null,{"$f":"+'4.MSW Comp. Analysis'!O48","v":{"$error":"#N/A"}},{"$f":"D32*'5.MSW Detailed Analysis'!$F$19","v":{"$error":"#N/A"}},{"$f":"'5.MSW Detailed Analysis'!G36","v":0},{"$error":"#N/A"},{"$error":"#N/A"},{"$error":"#N/A"},{"$f":"'6.MSW Diversions'!K35","v":0},{"$error":"#N/A"},{"$error":"#N/A"},{"$f":"'6.MSW Diversions'!N35","v":0},{"$error":"#N/A"},{"$error":"#N/A"},{"$f":"'6.MSW Diversions'!Q35","v":0},{"$error":"#N/A"},{"$error":"#N/A"},{"$f":"'6.MSW Diversions'!T35","v":0},{"$error":"#N/A"},{"$error":"#N/A"},{"$f":"'6.MSW Diversions'!W35","v":0},{"$error":"#N/A"},{"$error":"#N/A"},{"$f":"'6.MSW Diversions'!Z35","v":0},{"$error":"#N/A"},{"$error":"#N/A"},{"$f":"'6.MSW Diversions'!AC35","v":0},{"$error":"#N/A"},{"$error":"#N/A"},{"$f":"'6.MSW Diversions'!AF35","v":0},{"$error":"#N/A"},{"$error":"#N/A"},{"$f":"'6.MSW Diversions'!AI35","v":0},{"$error":"#N/A"},{"$error":"#N/A"},{"$f":"'6.MSW Diversions'!AL35","v":0},{"$error":"#N/A"},{"$error":"#N/A"},{"$f":"'6.MSW Diversions'!AO35","v":0},{"$error":"#N/A"},{"$error":"#N/A"},{"$f":"'6.MSW Diversions'!AR35","v":0}]
[null,"Other Ferrous Metals",null,{"$f":"+'4.MSW Comp. Analysis'!O49","v":{"$error":"#N/A"}},{"$f":"D33*'5.MSW Detailed Analysis'!$F$19","v":{"$error":"#N/A"}},{"$f":"'5.MSW Detailed Analysis'!G37","v":0},{"$error":"#N/A"},{"$error":"#N/A"},{"$error":"#N/A"},{"$f":"'6.MSW Diversions'!K36","v":0},{"$error":"#N/A"},{"$error":"#N/A"},{"$f":"'6.MSW Diversions'!N36","v":0},{"$error":"#N/A"},{"$error":"#N/A"},{"$f":"'6.MSW Diversions'!Q36","v":0},{"$error":"#N/A"},{"$error":"#N/A"},{"$f":"'6.MSW Diversions'!T36","v":0},{"$error":"#N/A"},{"$error":"#N/A"},{"$f":"'6.MSW Diversions'!W36","v":0},{"$error":"#N/A"},{"$error":"#N/A"},{"$f":"'6.MSW Diversions'!Z36","v":0},{"$error":"#N/A"},{"$error":"#N/A"},{"$f":"'6.MSW Diversions'!AC36","v":0},{"$error":"#N/A"},{"$error":"#N/A"},{"$f":"'6.MSW Diversions'!AF36","v":0},{"$error":"#N/A"},{"$error":"#N/A"},{"$f":"'6.MSW Diversions'!AI36","v":0},{"$error":"#N/A"},{"$error":"#N/A"},{"$f":"'6.MSW Diversions'!AL36","v":0},{"$error":"#N/A"},{"$error":"#N/A"},{"$f":"'6.MSW Diversions'!AO36","v":0},{"$error":"#N/A"},{"$error":"#N/A"},{"$f":"'6.MSW Diversions'!AR36","v":0}]
[null,"Other Non-Ferrous Metals","Other aluminum",{"$f":"+'4.MSW Comp. Analysis'!O50","v":{"$error":"#N/A"}},{"$f":"D34*'5.MSW Detailed Analysis'!$F$19","v":{"$error":"#N/A"}},{"$f":"'5.MSW Detailed Analysis'!G38","v":0},{"$error":"#N/A"},{"$error":"#N/A"},{"$error":"#N/A"},{"$f":"'6.MSW Diversions'!K37","v":0},{"$error":"#N/A"},{"$error":"#N/A"},{"$f":"'6.MSW Diversions'!N37","v":0},{"$error":"#N/A"},{"$error":"#N/A"},{"$f":"'6.MSW Diversions'!Q37","v":0},{"$error":"#N/A"},{"$error":"#N/A"},{"$f":"'6.MSW Diversions'!T37","v":0},{"$error":"#N/A"},{"$error":"#N/A"},{"$f":"'6.MSW Diversions'!W37","v":0},{"$error":"#N/A"},{"$error":"#N/A"},{"$f":"'6.MSW Diversions'!Z37","v":0},{"$error":"#N/A"},{"$error":"#N/A"},{"$f":"'6.MSW Diversions'!AC37","v":0},{"$error":"#N/A"},{"$error":"#N/A"},{"$f":"'6.MSW Diversions'!AF37","v":0},{"$error":"#N/A"},{"$error":"#N/A"},{"$f":"'6.MSW Diversions'!AI37","v":0},{"$error":"#N/A"},{"$error":"#N/A"},{"$f":"'6.MSW Diversions'!AL37","v":0},{"$error":"#N/A"},{"$error":"#N/A"},{"$f":"'6.MSW Diversions'!AO37","v":0},{"$error":"#N/A"},{"$error":"#N/A"},{"$f":"'6.MSW Diversions'!AR37","v":0}]
[null,null,"Automotive batteries",{"$f":"+'4.MSW Comp. Analysis'!O51","v":{"$error":"#N/A"}},{"$f":"D35*'5.MSW Detailed Analysis'!$F$19","v":{"$error":"#N/A"}},{"$f":"'5.MSW Detailed Analysis'!G39","v":0},{"$error":"#N/A"},{"$error":"#N/A"},{"$error":"#N/A"},{"$f":"'6.MSW Diversions'!K38","v":0},{"$error":"#N/A"},{"$error":"#N/A"},{"$f":"'6.MSW Diversions'!N38","v":0},{"$error":"#N/A"},{"$error":"#N/A"},{"$f":"'6.MSW Diversions'!Q38","v":0},{"$error":"#N/A"},{"$error":"#N/A"},{"$f":"'6.MSW Diversions'!T38","v":0},{"$error":"#N/A"},{"$error":"#N/A"},{"$f":"'6.MSW Diversions'!W38","v":0},{"$error":"#N/A"},{"$error":"#N/A"},{"$f":"'6.MSW Diversions'!Z38","v":0},{"$error":"#N/A"},{"$error":"#N/A"},{"$f":"'6.MSW Diversions'!AC38","v":0},{"$error":"#N/A"},{"$error":"#N/A"},{"$f":"'6.MSW Diversions'!AF38","v":0},{"$error":"#N/A"},{"$error":"#N/A"},{"$f":"'6.MSW Diversions'!AI38","v":0},{"$error":"#N/A"},{"$error":"#N/A"},{"$f":"'6.MSW Diversions'!AL38","v":0},{"$error":"#N/A"},{"$error":"#N/A"},{"$f":"'6.MSW Diversions'!AO38","v":0},{"$error":"#N/A"},{"$error":"#N/A"},{"$f":"'6.MSW Diversions'!AR38","v":0}]
[null,null,"Other non-aluminum",{"$f":"+'4.MSW Comp. Analysis'!O52","v":{"$error":"#N/A"}},{"$f":"D36*'5.MSW Detailed Analysis'!$F$19","v":{"$error":"#N/A"}},{"$f":"'5.MSW Detailed Analysis'!G40","v":0},{"$error":"#N/A"},{"$error":"#N/A"},{"$error":"#N/A"},{"$f":"'6.MSW Diversions'!K39","v":0},{"$error":"#N/A"},{"$error":"#N/A"},{"$f":"'6.MSW Diversions'!N39","v":0},{"$error":"#N/A"},{"$error":"#N/A"},{"$f":"'6.MSW Diversions'!Q39","v":0},{"$error":"#N/A"},{"$error":"#N/A"},{"$f":"'6.MSW Diversions'!T39","v":0},{"$error":"#N/A"},{"$error":"#N/A"},{"$f":"'6.MSW Diversions'!W39","v":0},{"$error":"#N/A"},{"$error":"#N/A"},{"$f":"'6.MSW Diversions'!Z39","v":0},{"$error":"#N/A"},{"$error":"#N/A"},{"$f":"'6.MSW Diversions'!AC39","v":0},{"$error":"#N/A"},{"$error":"#N/A"},{"$f":"'6.MSW Diversions'!AF39","v":0},{"$error":"#N/A"},{"$error":"#N/A"},{"$f":"'6.MSW Diversions'!AI39","v":0},{"$error":"#N/A"},{"$error":"#N/A"},{"$f":"'6.MSW Diversions'!AL39","v":0},{"$error":"#N/A"},{"$error":"#N/A"},{"$f":"'6.MSW Diversions'!AO39","v":0},{"$error":"#N/A"},{"$error":"#N/A"},{"$f":"'6.MSW Diversions'!AR39","v":0}]
[null,"Other Non-Ferrous Metals (Total)",null,{"$f":"+'4.MSW Comp. Analysis'!O53","v":{"$error":"#N/A"}},{"$f":"D37*'5.MSW Detailed Analysis'!$F$19","v":{"$error":"#N/A"}},{"$f":"'5.MSW Detailed Analysis'!G41","v":0},{"$error":"#N/A"},{"$error":"#N/A"},{"$error":"#N/A"},{"$f":"'6.MSW Diversions'!K40","v":0},{"$error":"#N/A"},{"$error":"#N/A"},{"$f":"'6.MSW Diversions'!N40","v":0},{"$error":"#N/A"},{"$error":"#N/A"},{"$f":"'6.MSW Diversions'!Q40","v":0},{"$error":"#N/A"},{"$error":"#N/A"},{"$f":"'6.MSW Diversions'!T40","v":0},{"$error":"#N/A"},{"$error":"#N/A"},{"$f":"'6.MSW Diversions'!W40","v":0},{"$error":"#N/A"},{"$error":"#N/A"},{"$f":"'6.MSW Diversions'!Z40","v":0},{"$error":"#N/A"},{"$error":"#N/A"},{"$f":"'6.MSW Diversions'!AC40","v":0},{"$error":"#N/A"},{"$error":"#N/A"},{"$f":"'6.MSW Diversions'!AF40","v":0},{"$error":"#N/A"},{"$error":"#N/A"},{"$f":"'6.MSW Diversions'!AI40","v":0},{"$error":"#N/A"},{"$error":"#N/A"},{"$f":"'6.MSW Diversions'!AL40","v":0},{"$error":"#N/A"},{"$error":"#N/A"},{"$f":"'6.MSW Diversions'!AO40","v":0},{"$error":"#N/A"},{"$error":"#N/A"},{"$f":"'6.MSW Diversions'!AR40","v":0}]
[null,"Total Metals",null,{"$f":"+'4.MSW Comp. Analysis'!O54","v":{"$error":"#N/A"}},{"$f":"D38*'5.MSW Detailed Analysis'!$F$19","v":{"$error":"#N/A"}},{"$f":"'5.MSW Detailed Analysis'!G42","v":0},{"$error":"#N/A"},{"$f":"+H32+H33+H37","v":{"$error":"#N/A"}},{"$f":"+I32+I33+I37","v":{"$error":"#N/A"}},{"$f":"I38/H38","v":{"$error":"#N/A"}},{"$f":"+K32+K33+K37","v":{"$error":"#N/A"}},{"$f":"+L32+L33+L37","v":{"$error":"#N/A"}},{"$f":"L38/K38","v":{"$error":"#N/A"}},{"$f":"+N32+N33+N37","v":{"$error":"#N/A"}},{"$f":"+O32+O33+O37","v":{"$error":"#N/A"}},{"$f":"O38/N38","v":{"$error":"#N/A"}},{"$f":"+Q32+Q33+Q37","v":{"$error":"#N/A"}},{"$f":"+R32+R33+R37","v":{"$error":"#N/A"}},{"$f":"R38/Q38","v":{"$error":"#N/A"}},{"$f":"+T32+T33+T37","v":{"$error":"#N/A"}},{"$f":"+U32+U33+U37","v":{"$error":"#N/A"}},{"$f":"U38/T38","v":{"$error":"#N/A"}},{"$f":"+W32+W33+W37","v":{"$error":"#N/A"}},{"$f":"+X32+X33+X37","v":{"$error":"#N/A"}},{"$f":"X38/W38","v":{"$error":"#N/A"}},{"$f":"+Z32+Z33+Z37","v":{"$error":"#N/A"}},{"$f":"+AA32+AA33+AA37","v":{"$error":"#N/A"}},{"$f":"AA38/Z38","v":{"$error":"#N/A"}},{"$f":"+AC32+AC33+AC37","v":{"$error":"#N/A"}},{"$f":"+AD32+AD33+AD37","v":{"$error":"#N/A"}},{"$f":"AD38/AC38","v":{"$error":"#N/A"}},{"$f":"+AF32+AF33+AF37","v":{"$error":"#N/A"}},{"$f":"+AG32+AG33+AG37","v":{"$error":"#N/A"}},{"$f":"AG38/AF38","v":{"$error":"#N/A"}},{"$f":"+AI32+AI33+AI37","v":{"$error":"#N/A"}},{"$f":"+AJ32+AJ33+AJ37","v":{"$error":"#N/A"}},{"$f":"AJ38/AI38","v":{"$error":"#N/A"}},{"$f":"+AL32+AL33+AL37","v":{"$error":"#N/A"}},{"$f":"+AM32+AM33+AM37","v":{"$error":"#N/A"}},{"$f":"AM38/AL38","v":{"$error":"#N/A"}},{"$f":"+AO32+AO33+AO37","v":{"$error":"#N/A"}},{"$f":"+AP32+AP33+AP37","v":{"$error":"#N/A"}},{"$f":"AP38/AO38","v":{"$error":"#N/A"}}]
["Plastic","PET Containers",null,{"$f":"+'4.MSW Comp. Analysis'!O55","v":{"$error":"#N/A"}},{"$f":"D39*'5.MSW Detailed Analysis'!$F$19","v":{"$error":"#N/A"}},{"$f":"'5.MSW Detailed Analysis'!G43","v":0},{"$error":"#N/A"},{"$f":"+$H$15*D39","v":{"$error":"#N/A"}},{"$f":"H39*J39","v":{"$error":"#N/A"}},{"$f":"'6.MSW Diversions'!K42","v":0},{"$f":"+$K$15*D39","v":{"$error":"#N/A"}},{"$f":"K39*M39","v":{"$error":"#N/A"}},{"$f":"'6.MSW Diversions'!N42","v":0},{"$f":"+$N$15*D39","v":{"$error":"#N/A"}},{"$f":"N39*P39","v":{"$error":"#N/A"}},{"$f":"'6.MSW Diversions'!Q42","v":0},{"$f":"+$Q$15*D39","v":{"$error":"#N/A"}},{"$f":"Q39*S39","v":{"$error":"#N/A"}},{"$f":"'6.MSW Diversions'!T42","v":0},{"$f":"+$T$15*D39","v":{"$error":"#N/A"}},{"$f":"T39*V39","v":{"$error":"#N/A"}},{"$f":"'6.MSW Diversions'!W42","v":0},{"$f":"+$W$15*D39","v":{"$error":"#N/A"}},{"$f":"W39*Y39","v":{"$error":"#N/A"}},{"$f":"'6.MSW Diversions'!Z42","v":0},{"$f":"+$Z$15*D39","v":{"$error":"#N/A"}},{"$f":"Z39*AB39","v":{"$error":"#N/A"}},{"$f":"'6.MSW Diversions'!AC42","v":0},{"$f":"+$AC$15*D39","v":{"$error":"#N/A"}},{"$f":"AC39*AE39","v":{"$error":"#N/A"}},{"$f":"'6.MSW Diversions'!AF42","v":0},{"$f":"+$AF$15*D39","v":{"$error":"#N/A"}},{"$f":"AF39*AH39","v":{"$error":"#N/A"}},{"$f":"'6.MSW Diversions'!AI42","v":0},{"$f":"+$AI$15*D39","v":{"$error":"#N/A"}},{"$f":"AI39*AK39","v":{"$error":"#N/A"}},{"$f":"'6.MSW Diversions'!AL42","v":0},{"$f":"+$AF$15*D39","v":{"$error":"#N/A"}},{"$f":"AL39*AN39","v":{"$error":"#N/A"}},{"$f":"'6.MSW Diversions'!AO42","v":0},{"$f":"+$AI$15*D39","v":{"$error":"#N/A"}},{"$f":"AO39*AQ39","v":{"$error":"#N/A"}},{"$f":"'6.MSW Diversions'!AR42","v":0}]
[null,"HDPE Containers",null,{"$f":"+'4.MSW Comp. Analysis'!O56","v":{"$error":"#N/A"}},{"$f":"D40*'5.MSW Detailed Analysis'!$F$19","v":{"$error":"#N/A"}},{"$f":"'5.MSW Detailed Analysis'!G44","v":0},{"$error":"#N/A"},{"$error":"#N/A"},{"$error":"#N/A"},{"$f":"'6.MSW Diversions'!K43","v":0},{"$error":"#N/A"},{"$error":"#N/A"},{"$f":"'6.MSW Diversions'!N43","v":0},{"$error":"#N/A"},{"$error":"#N/A"},{"$f":"'6.MSW Diversions'!Q43","v":0},{"$error":"#N/A"},{"$error":"#N/A"},{"$f":"'6.MSW Diversions'!T43","v":0},{"$error":"#N/A"},{"$error":"#N/A"},{"$f":"'6.MSW Diversions'!W34","v":{"$error":"#N/A"}},{"$error":"#N/A"},{"$error":"#N/A"},{"$f":"'6.MSW Diversions'!Z43","v":0},{"$error":"#N/A"},{"$error":"#N/A"},{"$f":"'6.MSW Diversions'!AC43","v":0},{"$error":"#N/A"},{"$error":"#N/A"},{"$f":"'6.MSW Diversions'!AF43","v":0},{"$error":"#N/A"},{"$error":"#N/A"},{"$f":"'6.MSW Diversions'!AI43","v":0},{"$error":"#N/A"},{"$error":"#N/A"},{"$f":"'6.MSW Diversions'!AL43","v":0},{"$f":"+$AF$15*D40","v":{"$error":"#N/A"}},{"$error":"#N/A"},{"$f":"'6.MSW Diversions'!AO43","v":0},{"$f":"+$AI$15*D40","v":{"$error":"#N/A"}},{"$error":"#N/A"},{"$f":"'6.MSW Diversions'!AR43","v":0}]
[null,"Other Plastic (3-7) Containers",null,{"$f":"+'4.MSW Comp. Analysis'!O57","v":{"$error":"#N/A"}},{"$f":"D41*'5.MSW Detailed Analysis'!$F$19","v":{"$error":"#N/A"}},{"$f":"'5.MSW Detailed Analysis'!G45","v":0},{"$error":"#N/A"},{"$error":"#N/A"},{"$error":"#N/A"},{"$f":"'6.MSW Diversions'!K44","v":0},{"$error":"#N/A"},{"$error":"#N/A"},{"$f":"'6.MSW Diversions'!N44","v":0},{"$error":"#N/A"},{"$error":"#N/A"},{"$f":"'6.MSW Diversions'!Q44","v":0},{"$error":"#N/A"},{"$error":"#N/A"},{"$f":"'6.MSW Diversions'!T44","v":0},{"$error":"#N/A"},{"$error":"#N/A"},{"$f":"'6.MSW Diversions'!W35","v":0},{"$error":"#N/A"},{"$error":"#N/A"},{"$f":"'6.MSW Diversions'!Z44","v":0},{"$error":"#N/A"},{"$error":"#N/A"},{"$f":"'6.MSW Diversions'!AC44","v":0},{"$error":"#N/A"},{"$error":"#N/A"},{"$f":"'6.MSW Diversions'!AF44","v":0},{"$error":"#N/A"},{"$error":"#N/A"},{"$f":"'6.MSW Diversions'!AI44","v":0},{"$error":"#N/A"},{"$error":"#N/A"},{"$f":"'6.MSW Diversions'!AL44","v":0},{"$error":"#N/A"},{"$error":"#N/A"},{"$f":"'6.MSW Diversions'!AO44","v":0},{"$error":"#N/A"},{"$error":"#N/A"},{"$f":"'6.MSW Diversions'!AR44","v":0}]
[null,"Film Plastic",null,{"$f":"+'4.MSW Comp. Analysis'!O58","v":{"$error":"#N/A"}},{"$f":"D42*'5.MSW Detailed Analysis'!$F$19","v":{"$error":"#N/A"}},{"$f":"'5.MSW Detailed Analysis'!G46","v":0},{"$error":"#N/A"},{"$error":"#N/A"},{"$error":"#N/A"},{"$f":"'6.MSW Diversions'!K45","v":0},{"$error":"#N/A"},{"$error":"#N/A"},{"$f":"'6.MSW Diversions'!N45","v":0},{"$error":"#N/A"},{"$error":"#N/A"},{"$f":"'6.MSW Diversions'!Q45","v":0},{"$error":"#N/A"},{"$error":"#N/A"},{"$f":"'6.MSW Diversions'!T45","v":0},{"$error":"#N/A"},{"$error":"#N/A"},{"$f":"'6.MSW Diversions'!W36","v":0},{"$error":"#N/A"},{"$error":"#N/A"},{"$f":"'6.MSW Diversions'!Z45","v":0},{"$error":"#N/A"},{"$error":"#N/A"},{"$f":"'6.MSW Diversions'!AC45","v":0},{"$error":"#N/A"},{"$error":"#N/A"},{"$f":"'6.MSW Diversions'!AF45","v":0},{"$error":"#N/A"},{"$error":"#N/A"},{"$f":"'6.MSW Diversions'!AI45","v":0},{"$error":"#N/A"},{"$error":"#N/A"},{"$f":"'6.MSW Diversions'!AL45","v":0},{"$error":"#N/A"},{"$error":"#N/A"},{"$f":"'6.MSW Diversions'!AO45","v":0},{"$error":"#N/A"},{"$error":"#N/A"},{"$f":"'6.MSW Diversions'!AR45","v":0}]
[null,"Other Plastic ","Durables",{"$f":"+'4.MSW Comp. Analysis'!O59","v":{"$error":"#N/A"}},{"$f":"D43*'5.MSW Detailed Analysis'!$F$19","v":{"$error":"#N/A"}},{"$f":"'5.MSW Detailed Analysis'!G47","v":0},{"$error":"#N/A"},{"$error":"#N/A"},{"$error":"#N/A"},{"$f":"'6.MSW Diversions'!K46","v":0},{"$error":"#N/A"},{"$error":"#N/A"},{"$f":"'6.MSW Diversions'!N46","v":0},{"$error":"#N/A"},{"$error":"#N/A"},{"$f":"'6.MSW Diversions'!Q46","v":0},{"$error":"#N/A"},{"$error":"#N/A"},{"$f":"'6.MSW Diversions'!T46","v":0},{"$error":"#N/A"},{"$error":"#N/A"},{"$f":"'6.MSW Diversions'!W37","v":0},{"$error":"#N/A"},{"$error":"#N/A"},{"$f":"'6.MSW Diversions'!Z46","v":0},{"$error":"#N/A"},{"$error":"#N/A"},{"$f":"'6.MSW Diversions'!AC46","v":0},{"$error":"#N/A"},{"$error":"#N/A"},{"$f":"'6.MSW Diversions'!AF46","v":0},{"$error":"#N/A"},{"$error":"#N/A"},{"$f":"'6.MSW Diversions'!AI46","v":0},{"$error":"#N/A"},{"$error":"#N/A"},{"$f":"'6.MSW Diversions'!AL46","v":0},{"$error":"#N/A"},{"$error":"#N/A"},{"$f":"'6.MSW Diversions'!AO46","v":0},{"$error":"#N/A"},{"$error":"#N/A"},{"$f":"'6.MSW Diversions'!AR46","v":0}]
[null,null,"Non-Durables",{"$f":"+'4.MSW Comp. Analysis'!O60","v":{"$error":"#N/A"}},{"$f":"D44*'5.MSW Detailed Analysis'!$F$19","v":{"$error":"#N/A"}},{"$f":"'5.MSW Detailed Analysis'!G48","v":0},{"$error":"#N/A"},{"$error":"#N/A"},{"$error":"#N/A"},{"$f":"'6.MSW Diversions'!K47","v":0},{"$error":"#N/A"},{"$error":"#N/A"},{"$f":"'6.MSW Diversions'!N47","v":0},{"$error":"#N/A"},{"$error":"#N/A"},{"$f":"'6.MSW Diversions'!Q47","v":0},{"$error":"#N/A"},{"$error":"#N/A"},{"$f":"'6.MSW Diversions'!T47","v":0},{"$error":"#N/A"},{"$error":"#N/A"},{"$f":"'6.MSW Diversions'!W38","v":0},{"$error":"#N/A"},{"$error":"#N/A"},{"$f":"'6.MSW Diversions'!Z47","v":0},{"$error":"#N/A"},{"$error":"#N/A"},{"$f":"'6.MSW Diversions'!AC47","v":0},{"$error":"#N/A"},{"$error":"#N/A"},{"$f":"'6.MSW Diversions'!AF47","v":0},{"$error":"#N/A"},{"$error":"#N/A"},{"$f":"'6.MSW Diversions'!AI47","v":0},{"$error":"#N/A"},{"$error":"#N/A"},{"$f":"'6.MSW Diversions'!AL47","v":0},{"$error":"#N/A"},{"$error":"#N/A"},{"$f":"'6.MSW Diversions'!AO47","v":0},{"$error":"#N/A"},{"$error":"#N/A"},{"$f":"'6.MSW Diversions'!AR47","v":0}]
[null,null,"Packaging",{"$f":"+'4.MSW Comp. Analysis'!O61","v":{"$error":"#N/A"}},{"$f":"D45*'5.MSW Detailed Analysis'!$F$19","v":{"$error":"#N/A"}},{"$f":"'5.MSW Detailed Analysis'!G49","v":0},{"$error":"#N/A"},{"$error":"#N/A"},{"$error":"#N/A"},{"$f":"'6.MSW Diversions'!K48","v":0},{"$error":"#N/A"},{"$error":"#N/A"},{"$f":"'6.MSW Diversions'!N48","v":0},{"$error":"#N/A"},{"$error":"#N/A"},{"$f":"'6.MSW Diversions'!Q48","v":0},{"$error":"#N/A"},{"$error":"#N/A"},{"$f":"'6.MSW Diversions'!T48","v":0},{"$error":"#N/A"},{"$error":"#N/A"},{"$f":"'6.MSW Diversions'!W48","v":0},{"$error":"#N/A"},{"$error":"#N/A"},{"$f":"'6.MSW Diversions'!Z48","v":0},{"$error":"#N/A"},{"$error":"#N/A"},{"$f":"'6.MSW Diversions'!AC48","v":0},{"$error":"#N/A"},{"$error":"#N/A"},{"$f":"'6.MSW Diversions'!AF48","v":0},{"$error":"#N/A"},{"$error":"#N/A"},{"$f":"'6.MSW Diversions'!AI48","v":0},{"$error":"#N/A"},{"$error":"#N/A"},{"$f":"'6.MSW Diversions'!AL48","v":0},{"$error":"#N/A"},{"$error":"#N/A"},{"$f":"'6.MSW Diversions'!AO48","v":0},{"$error":"#N/A"},{"$error":"#N/A"},{"$f":"'6.MSW Diversions'!AR48","v":0}]
[null,"Other Plastic (Total)",null,{"$f":"+'4.MSW Comp. Analysis'!O62","v":{"$error":"#N/A"}},{"$f":"D46*'5.MSW Detailed Analysis'!$F$19","v":{"$error":"#N/A"}},{"$f":"'5.MSW Detailed Analysis'!G50","v":0},{"$error":"#N/A"},{"$error":"#N/A"},{"$error":"#N/A"},{"$f":"'6.MSW Diversions'!K49","v":0},{"$error":"#N/A"},{"$error":"#N/A"},{"$f":"'6.MSW Diversions'!N49","v":0},{"$error":"#N/A"},{"$error":"#N/A"},{"$f":"'6.MSW Diversions'!Q49","v":0},{"$error":"#N/A"},{"$error":"#N/A"},{"$f":"'6.MSW Diversions'!T49","v":0},{"$error":"#N/A"},{"$error":"#N/A"},{"$f":"'6.MSW Diversions'!W49","v":0},{"$error":"#N/A"},{"$error":"#N/A"},{"$f":"'6.MSW Diversions'!Z49","v":0},{"$error":"#N/A"},{"$error":"#N/A"},{"$f":"'6.MSW Diversions'!AC49","v":0},{"$error":"#N/A"},{"$error":"#N/A"},{"$f":"'6.MSW Diversions'!AF49","v":0},{"$error":"#N/A"},{"$error":"#N/A"},{"$f":"'6.MSW Diversions'!AI49","v":0},{"$error":"#N/A"},{"$error":"#N/A"},{"$f":"'6.MSW Diversions'!AL49","v":0},{"$error":"#N/A"},{"$error":"#N/A"},{"$f":"'6.MSW Diversions'!AO49","v":0},{"$error":"#N/A"},{"$error":"#N/A"},{"$f":"'6.MSW Diversions'!AR49","v":0}]
[null,"Total Plastics",null,{"$f":"+'4.MSW Comp. Analysis'!O63","v":{"$error":"#N/A"}},{"$f":"D47*'5.MSW Detailed Analysis'!$F$19","v":{"$error":"#N/A"}},{"$f":"'5.MSW Detailed Analysis'!G51","v":0},{"$f":"F47/E47","v":{"$error":"#N/A"}},{"$f":"+H39+H40+H41+H42+H46","v":{"$error":"#N/A"}},{"$f":"+I39+I40+I41+I42+I46","v":{"$error":"#N/A"}},{"$f":"I47/H47","v":{"$error":"#N/A"}},{"$f":"+K39+K40+K41+K42+K46","v":{"$error":"#N/A"}},{"$f":"+L39+L40+L41+L42+L46","v":{"$error":"#N/A"}},{"$f":"L47/K47","v":{"$error":"#N/A"}},{"$f":"+N39+N40+N41+N42+N46","v":{"$error":"#N/A"}},{"$f":"+O39+O40+O41+O42+O46","v":{"$error":"#N/A"}},{"$f":"O47/N47","v":{"$error":"#N/A"}},{"$f":"+Q39+Q40+Q41+Q42+Q46","v":{"$error":"#N/A"}},{"$f":"+R39+R40+R41+R42+R46","v":{"$error":"#N/A"}},{"$f":"R47/Q47","v":{"$error":"#N/A"}},{"$f":"+T39+T40+T41+T42+T46","v":{"$error":"#N/A"}},{"$f":"+U39+U40+U41+U42+U46","v":{"$error":"#N/A"}},{"$f":"U47/T47","v":{"$error":"#N/A"}},{"$f":"+W39+W40+W41+W42+W46","v":{"$error":"#N/A"}},{"$f":"+X39+X40+X41+X42+X46","v":{"$error":"#N/A"}},{"$f":"X47/W47","v":{"$error":"#N/A"}},{"$f":"+Z39+Z40+Z41+Z42+Z46","v":{"$error":"#N/A"}},{"$f":"+AA39+AA40+AA41+AA42+AA46","v":{"$error":"#N/A"}},{"$f":"AA47/Z47","v":{"$error":"#N/A"}},{"$f":"+AC39+AC40+AC41+AC42+AC46","v":{"$error":"#N/A"}},{"$f":"+AD39+AD40+AD41+AD42+AD46","v":{"$error":"#N/A"}},{"$f":"AD47/AC47","v":{"$error":"#N/A"}},{"$f":"+AF39+AF40+AF41+AF42+AF46","v":{"$error":"#N/A"}},{"$f":"+AG39+AG40+AG41+AG42+AG46","v":{"$error":"#N/A"}},{"$f":"AG47/AF47","v":{"$error":"#N/A"}},{"$f":"+AI39+AI40+AI41+AI42+AI46","v":{"$error":"#N/A"}},{"$f":"+AJ39+AJ40+AJ41+AJ42+AJ46","v":{"$error":"#N/A"}},{"$f":"AJ47/AI47","v":{"$error":"#N/A"}},{"$f":"+AL39+AL40+AL41+AL42+AL46","v":{"$error":"#N/A"}},{"$f":"+AM39+AM40+AM41+AM42+AM46","v":{"$error":"#N/A"}},{"$f":"AM47/AL47","v":{"$error":"#N/A"}},{"$f":"+AO39+AO40+AO41+AO42+AO46","v":{"$error":"#N/A"}},{"$f":"+AP39+AP40+AP41+AP42+AP46","v":{"$error":"#N/A"}},{"$f":"AP47/AO47","v":{"$error":"#N/A"}}]
["Glass","Glass Bottles, Jars and Containers",null,{"$f":"+'4.MSW Comp. Analysis'!O64","v":{"$error":"#N/A"}},{"$f":"D48*'5.MSW Detailed Analysis'!$F$19","v":{"$error":"#N/A"}},{"$f":"'5.MSW Detailed Analysis'!G52","v":0},{"$f":"F48/E48","v":{"$error":"#N/A"}},{"$f":"+$H$15*D48","v":{"$error":"#N/A"}},{"$f":"H48*J48","v":{"$error":"#N/A"}},{"$f":"'6.MSW Diversions'!K51","v":0},{"$f":"+$K$15*D48","v":{"$error":"#N/A"}},{"$f":"K48*M48","v":{"$error":"#N/A"}},{"$f":"'6.MSW Diversions'!N51","v":0},{"$f":"+$N$15*D48","v":{"$error":"#N/A"}},{"$f":"N48*P48","v":{"$error":"#N/A"}},{"$f":"'6.MSW Diversions'!Q51","v":0},{"$f":"+$Q$15*D48","v":{"$error":"#N/A"}},{"$f":"Q48*S48","v":{"$error":"#N/A"}},{"$f":"'6.MSW Diversions'!T51","v":0},{"$f":"+$T$15*D48","v":{"$error":"#N/A"}},{"$f":"T48*V48","v":{"$error":"#N/A"}},{"$f":"'6.MSW Diversions'!W51","v":0},{"$f":"+$W$15*D48","v":{"$error":"#N/A"}},{"$f":"W48*Y48","v":{"$error":"#N/A"}},{"$f":"'6.MSW Diversions'!Z51","v":0},{"$f":"+$Z$15*D48","v":{"$error":"#N/A"}},{"$f":"Z48*AB48","v":{"$error":"#N/A"}},{"$f":"'6.MSW Diversions'!AC51","v":0},{"$f":"+$AC$15*D48","v":{"$error":"#N/A"}},{"$f":"AC48*AE48","v":{"$error":"#N/A"}},{"$f":"'6.MSW Diversions'!AF51","v":0},{"$f":"+$AF$15*D48","v":{"$error":"#N/A"}},{"$f":"AF48*AH48","v":{"$error":"#N/A"}},{"$f":"'6.MSW Diversions'!AI51","v":0},{"$f":"+$AI$15*D48","v":{"$error":"#N/A"}},{"$f":"AI48*AK48","v":{"$error":"#N/A"}},{"$f":"'6.MSW Diversions'!AL51","v":0},{"$f":"+$AF$15*D48","v":{"$error":"#N/A"}},{"$f":"AL48*AN48","v":{"$error":"#N/A"}},{"$f":"'6.MSW Diversions'!AO51","v":0},{"$f":"+$AI$15*D48","v":{"$error":"#N/A"}},{"$f":"AO48*AQ48","v":{"$error":"#N/A"}},{"$f":"'6.MSW Diversions'!AR51","v":0}]
[null,"Other Glass (Flat glass, dishware, light bulbs, etc.)",null,{"$f":"+'4.MSW Comp. Analysis'!O65","v":{"$error":"#N/A"}},{"$f":"D49*'5.MSW Detailed Analysis'!$F$19","v":{"$error":"#N/A"}},{"$f":"'5.MSW Detailed Analysis'!G53","v":0},{"$error":"#N/A"},{"$f":"+$H$15*D49","v":{"$error":"#N/A"}},{"$f":"H49*J49","v":{"$error":"#N/A"}},{"$f":"'6.MSW Diversions'!K52","v":0},{"$f":"+$K$15*D49","v":{"$error":"#N/A"}},{"$f":"K49*M49","v":{"$error":"#N/A"}},{"$f":"'6.MSW Diversions'!N52","v":0},{"$f":"+$N$15*D49","v":{"$error":"#N/A"}},{"$f":"N49*P49","v":{"$error":"#N/A"}},{"$f":"'6.MSW Diversions'!Q52","v":0},{"$f":"+$Q$15*D49","v":{"$error":"#N/A"}},{"$f":"Q49*S49","v":{"$error":"#N/A"}},{"$f":"'6.MSW Diversions'!T52","v":0},{"$f":"+$T$15*D49","v":{"$error":"#N/A"}},{"$f":"T49*V49","v":{"$error":"#N/A"}},{"$f":"'6.MSW Diversions'!W52","v":0},{"$f":"+$W$15*D49","v":{"$error":"#N/A"}},{"$f":"W49*Y49","v":{"$error":"#N/A"}},{"$f":"'6.MSW Diversions'!Z52","v":0},{"$f":"+$Z$15*D49","v":{"$error":"#N/A"}},{"$f":"Z49*AB49","v":{"$error":"#N/A"}},{"$f":"'6.MSW Diversions'!AC52","v":0},{"$f":"+$AC$15*D49","v":{"$error":"#N/A"}},{"$f":"AC49*AE49","v":{"$error":"#N/A"}},{"$f":"'6.MSW Diversions'!AF52","v":0},{"$f":"+$AF$15*D49","v":{"$error":"#N/A"}},{"$f":"AF49*AH49","v":{"$error":"#N/A"}},{"$f":"'6.MSW Diversions'!AI52","v":0},{"$f":"+$AI$15*D49","v":{"$error":"#N/A"}},{"$f":"AI49*AK49","v":{"$error":"#N/A"}},{"$f":"'6.MSW Diversions'!AL52","v":0},{"$f":"+$AF$15*D49","v":{"$error":"#N/A"}},{"$f":"AL49*AN49","v":{"$error":"#N/A"}},{"$f":"'6.MSW Diversions'!AO52","v":0},{"$f":"+$AI$15*D49","v":{"$error":"#N/A"}},{"$f":"AO49*AQ49","v":{"$error":"#N/A"}},{"$f":"'6.MSW Diversions'!AR52","v":0}]
[null,"Total Glass",null,{"$f":"+'4.MSW Comp. Analysis'!O66","v":{"$error":"#N/A"}},{"$f":"D50*'5.MSW Detailed Analysis'!$F$19","v":{"$error":"#N/A"}},{"$f":"'5.MSW Detailed Analysis'!G54","v":0},{"$error":"#N/A"},{"$f":"+H48+H49","v":{"$error":"#N/A"}},{"$f":"+I48+I49","v":{"$error":"#N/A"}},{"$f":"I50/H50","v":{"$error":"#N/A"}},{"$f":"+K48+K49","v":{"$error":"#N/A"}},{"$f":"+L48+L49","v":{"$error":"#N/A"}},{"$f":"L50/K50","v":{"$error":"#N/A"}},{"$f":"+N48+N49","v":{"$error":"#N/A"}},{"$f":"+O48+O49","v":{"$error":"#N/A"}},{"$f":"O50/N50","v":{"$error":"#N/A"}},{"$f":"+Q48+Q49","v":{"$error":"#N/A"}},{"$f":"+R48+R49","v":{"$error":"#N/A"}},{"$f":"R50/Q50","v":{"$error":"#N/A"}},{"$f":"+T48+T49","v":{"$error":"#N/A"}},{"$f":"+U48+U49","v":{"$error":"#N/A"}},{"$f":"U50/T50","v":{"$error":"#N/A"}},{"$f":"+W48+W49","v":{"$error":"#N/A"}},{"$f":"+X48+X49","v":{"$error":"#N/A"}},{"$f":"X50/W50","v":{"$error":"#N/A"}},{"$f":"+Z48+Z49","v":{"$error":"#N/A"}},{"$f":"+AA48+AA49","v":{"$error":"#N/A"}},{"$f":"AA50/Z50","v":{"$error":"#N/A"}},{"$f":"+AC48+AC49","v":{"$error":"#N/A"}},{"$f":"+AD48+AD49","v":{"$error":"#N/A"}},{"$f":"AD50/AC50","v":{"$error":"#N/A"}},{"$f":"+AF48+AF49","v":{"$error":"#N/A"}},{"$f":"+AG48+AG49","v":{"$error":"#N/A"}},{"$f":"AG50/AF50","v":{"$error":"#N/A"}},{"$f":"+AI48+AI49","v":{"$error":"#N/A"}},{"$f":"+AJ48+AJ49","v":{"$error":"#N/A"}},{"$f":"AJ50/AI50","v":{"$error":"#N/A"}},{"$f":"+AL48+AL49","v":{"$error":"#N/A"}},{"$f":"+AM48+AM49","v":{"$error":"#N/A"}},{"$f":"AM50/AL50","v":{"$error":"#N/A"}},{"$f":"+AO48+AO49","v":{"$error":"#N/A"}},{"$f":"+AP48+AP49","v":{"$error":"#N/A"}},{"$f":"AP50/AO50","v":{"$error":"#N/A"}}]
["Organics","Food Scraps",null,{"$f":"+'4.MSW Comp. Analysis'!O67","v":{"$error":"#N/A"}},{"$f":"D51*'5.MSW Detailed Analysis'!$F$19","v":{"$error":"#N/A"}},{"$f":"'5.MSW Detailed Analysis'!G55","v":0},{"$error":"#N/A"},{"$f":"+$H$15*D51","v":{"$error":"#N/A"}},{"$f":"H51*J51","v":{"$error":"#N/A"}},{"$f":"'6.MSW Diversions'!K54","v":0},{"$f":"+$K$15*D51","v":{"$error":"#N/A"}},{"$f":"K51*M51","v":{"$error":"#N/A"}},{"$f":"'6.MSW Diversions'!N54","v":0},{"$f":"+$N$15*D51","v":{"$error":"#N/A"}},{"$f":"N51*P51","v":{"$error":"#N/A"}},{"$f":"'6.MSW Diversions'!Q54","v":0},{"$f":"+$Q$15*D51","v":{"$error":"#N/A"}},{"$f":"Q51*S51","v":{"$error":"#N/A"}},{"$f":"'6.MSW Diversions'!T54","v":0},{"$f":"+$T$15*D51","v":{"$error":"#N/A"}},{"$f":"T51*V51","v":{"$error":"#N/A"}},{"$f":"'6.MSW Diversions'!W54","v":0},{"$f":"+$W$15*D51","v":{"$error":"#N/A"}},{"$f":"W51*Y51","v":{"$error":"#N/A"}},{"$f":"'6.MSW Diversions'!Z54","v":0},{"$f":"+$Z$15*D51","v":{"$error":"#N/A"}},{"$f":"Z51*AB51","v":{"$error":"#N/A"}},{"$f":"'6.MSW Diversions'!AC54","v":0},{"$f":"+$AC$15*D51","v":{"$error":"#N/A"}},{"$f":"AC51*AE51","v":{"$error":"#N/A"}},{"$f":"'6.MSW Diversions'!AF54","v":0},{"$f":"+$AF$15*D51","v":{"$error":"#N/A"}},{"$f":"AF51*AH51","v":{"$error":"#N/A"}},{"$f":"'6.MSW Diversions'!AI54","v":0},{"$f":"+$AI$15*D51","v":{"$error":"#N/A"}},{"$f":"AI51*AK51","v":{"$error":"#N/A"}},{"$f":"'6.MSW Diversions'!AL54","v":0},{"$f":"+$AF$15*D51","v":{"$error":"#N/A"}},{"$f":"AL51*AN51","v":{"$error":"#N/A"}},{"$f":"'6.MSW Diversions'!AO54","v":0},{"$f":"+$AI$15*D51","v":{"$error":"#N/A"}},{"$f":"AO51*AQ51","v":{"$error":"#N/A"}},{"$f":"'6.MSW Diversions'!AR54","v":0}]
[null,"Leaves and Grass / Pruning and Trimmings",null,{"$f":"+'4.MSW Comp. Analysis'!O68","v":{"$error":"#N/A"}},{"$f":"D52*'5.MSW Detailed Analysis'!$F$19","v":{"$error":"#N/A"}},{"$f":"'5.MSW Detailed Analysis'!G56","v":0},{"$error":"#N/A"},{"$f":"+$H$15*D52","v":{"$error":"#N/A"}},{"$f":"H52*J52","v":{"$error":"#N/A"}},{"$f":"'6.MSW Diversions'!K55","v":0},{"$f":"+$K$15*D52","v":{"$error":"#N/A"}},{"$f":"K52*M52","v":{"$error":"#N/A"}},{"$f":"'6.MSW Diversions'!N55","v":0},{"$f":"+$N$15*D52","v":{"$error":"#N/A"}},{"$f":"N52*P52","v":{"$error":"#N/A"}},{"$f":"'6.MSW Diversions'!Q55","v":0},{"$f":"+$Q$15*D52","v":{"$error":"#N/A"}},{"$f":"Q52*S52","v":{"$error":"#N/A"}},{"$f":"'6.MSW Diversions'!T55","v":0},{"$f":"+$T$15*D52","v":{"$error":"#N/A"}},{"$f":"T52*V52","v":{"$error":"#N/A"}},{"$f":"'6.MSW Diversions'!W55","v":0},{"$f":"+$W$15*D52","v":{"$error":"#N/A"}},{"$f":"W52*Y52","v":{"$error":"#N/A"}},{"$f":"'6.MSW Diversions'!Z55","v":0},{"$f":"+$Z$15*D52","v":{"$error":"#N/A"}},{"$f":"Z52*AB52","v":{"$error":"#N/A"}},{"$f":"'6.MSW Diversions'!AC55","v":0},{"$f":"+$AC$15*D52","v":{"$error":"#N/A"}},{"$f":"AC52*AE52","v":{"$error":"#N/A"}},{"$f":"'6.MSW Diversions'!AF55","v":0},{"$f":"+$AF$15*D52","v":{"$error":"#N/A"}},{"$f":"AF52*AH52","v":{"$error":"#N/A"}},{"$f":"'6.MSW Diversions'!AI55","v":0},{"$f":"+$AI$15*D52","v":{"$error":"#N/A"}},{"$f":"AI52*AK52","v":{"$error":"#N/A"}},{"$f":"'6.MSW Diversions'!AL55","v":0},{"$f":"+$AF$15*D52","v":{"$error":"#N/A"}},{"$f":"AL52*AN52","v":{"$error":"#N/A"}},{"$f":"'6.MSW Diversions'!AO55","v":0},{"$f":"+$AI$15*D52","v":{"$error":"#N/A"}},{"$f":"AO52*AQ52","v":{"$error":"#N/A"}},{"$f":"'6.MSW Diversions'!AR55","v":0}]
[null,"Total Organics",null,{"$f":"+'4.MSW Comp. Analysis'!O69","v":{"$error":"#N/A"}},{"$f":"D53*'5.MSW Detailed Analysis'!$F$19","v":{"$error":"#N/A"}},{"$f":"'5.MSW Detailed Analysis'!G57","v":0},{"$error":"#N/A"},{"$f":"+H51+H52","v":{"$error":"#N/A"}},{"$f":"+I51+I52","v":{"$error":"#N/A"}},{"$f":"I53/H53","v":{"$error":"#N/A"}},{"$f":"+K51+K52","v":{"$error":"#N/A"}},{"$f":"+L51+L52","v":{"$error":"#N/A"}},{"$f":"L53/K53","v":{"$error":"#N/A"}},{"$f":"+N51+N52","v":{"$error":"#N/A"}},{"$f":"+O51+O52","v":{"$error":"#N/A"}},{"$f":"O53/N53","v":{"$error":"#N/A"}},{"$f":"+Q51+Q52","v":{"$error":"#N/A"}},{"$f":"+R51+R52","v":{"$error":"#N/A"}},{"$f":"R53/Q53","v":{"$error":"#N/A"}},{"$f":"+T51+T52","v":{"$error":"#N/A"}},{"$f":"+U51+U52","v":{"$error":"#N/A"}},{"$f":"U53/T53","v":{"$error":"#N/A"}},{"$f":"+W51+W52","v":{"$error":"#N/A"}},{"$f":"+X51+X52","v":{"$error":"#N/A"}},{"$f":"X53/W53","v":{"$error":"#N/A"}},{"$f":"+Z51+Z52","v":{"$error":"#N/A"}},{"$f":"+AA51+AA52","v":{"$error":"#N/A"}},{"$f":"AA53/Z53","v":{"$error":"#N/A"}},{"$f":"+AC51+AC52","v":{"$error":"#N/A"}},{"$f":"+AD51+AD52","v":{"$error":"#N/A"}},{"$f":"AD53/AC53","v":{"$error":"#N/A"}},{"$f":"+AF51+AF52","v":{"$error":"#N/A"}},{"$f":"+AG51+AG52","v":{"$error":"#N/A"}},{"$f":"AG53/AF53","v":{"$error":"#N/A"}},{"$f":"+AI51+AI52","v":{"$error":"#N/A"}},{"$f":"+AJ51+AJ52","v":{"$error":"#N/A"}},{"$f":"AJ53/AI53","v":{"$error":"#N/A"}},{"$f":"+AL51+AL52","v":{"$error":"#N/A"}},{"$f":"+AM51+AM52","v":{"$error":"#N/A"}},{"$f":"AM53/AL53","v":{"$error":"#N/A"}},{"$f":"+AO51+AO52","v":{"$error":"#N/A"}},{"$f":"+AP51+AP52","v":{"$error":"#N/A"}},{"$f":"AP53/AO53","v":{"$error":"#N/A"}}]
["Textiles","Clothing Footwear, Towels, Sheets",null,{"$f":"+'4.MSW Comp. Analysis'!O70","v":{"$error":"#N/A"}},{"$f":"D54*'5.MSW Detailed Analysis'!$F$19","v":{"$error":"#N/A"}},{"$f":"'5.MSW Detailed Analysis'!G58","v":0},{"$error":"#N/A"},{"$f":"+$H$15*D54","v":{"$error":"#N/A"}},{"$f":"H54*J54","v":{"$error":"#N/A"}},{"$f":"'6.MSW Diversions'!K57","v":0},{"$f":"+$K$15*D54","v":{"$error":"#N/A"}},{"$f":"K54*M54","v":{"$error":"#N/A"}},{"$f":"'6.MSW Diversions'!N57","v":0},{"$f":"+$N$15*D54","v":{"$error":"#N/A"}},{"$f":"N54*P54","v":{"$error":"#N/A"}},{"$f":"'6.MSW Diversions'!Q57","v":0},{"$f":"+$Q$15*D54","v":{"$error":"#N/A"}},{"$f":"Q54*S54","v":{"$error":"#N/A"}},{"$f":"'6.MSW Diversions'!T57","v":0},{"$f":"+$T$15*D54","v":{"$error":"#N/A"}},{"$f":"T54*V54","v":{"$error":"#N/A"}},{"$f":"'6.MSW Diversions'!W57","v":0},{"$f":"+$W$15*D54","v":{"$error":"#N/A"}},{"$f":"W54*Y54","v":{"$error":"#N/A"}},{"$f":"'6.MSW Diversions'!Z57","v":0},{"$f":"+$Z$15*D54","v":{"$error":"#N/A"}},{"$f":"Z54*AB54","v":{"$error":"#N/A"}},{"$f":"'6.MSW Diversions'!AC57","v":0},{"$f":"+$AC$15*D54","v":{"$error":"#N/A"}},{"$f":"AC54*AE54","v":{"$error":"#N/A"}},{"$f":"'6.MSW Diversions'!AF57","v":0},{"$f":"+$AF$15*D54","v":{"$error":"#N/A"}},{"$f":"AF54*AH54","v":{"$error":"#N/A"}},{"$f":"'6.MSW Diversions'!AI57","v":0},{"$f":"+$AI$15*D54","v":{"$error":"#N/A"}},{"$f":"AI54*AK54","v":{"$error":"#N/A"}},{"$f":"'6.MSW Diversions'!AL57","v":0},{"$f":"+$AF$15*D54","v":{"$error":"#N/A"}},{"$f":"AL54*AN54","v":{"$error":"#N/A"}},{"$f":"'6.MSW Diversions'!AO57","v":0},{"$f":"+$AI$15*D54","v":{"$error":"#N/A"}},{"$f":"AO54*AQ54","v":{"$error":"#N/A"}},{"$f":"'6.MSW Diversions'!AR57","v":0}]
[null,"Carpet",null,{"$f":"+'4.MSW Comp. Analysis'!O71","v":{"$error":"#N/A"}},{"$f":"D55*'5.MSW Detailed Analysis'!$F$19","v":{"$error":"#N/A"}},{"$f":"'5.MSW Detailed Analysis'!G59","v":0},{"$error":"#N/A"},{"$f":"+$H$15*D55","v":{"$error":"#N/A"}},{"$f":"H55*J55","v":{"$error":"#N/A"}},{"$f":"'6.MSW Diversions'!K58","v":0},{"$f":"+$K$15*D55","v":{"$error":"#N/A"}},{"$f":"K55*M55","v":{"$error":"#N/A"}},{"$f":"'6.MSW Diversions'!N58","v":0},{"$f":"+$N$15*D55","v":{"$error":"#N/A"}},{"$f":"N55*P55","v":{"$error":"#N/A"}},{"$f":"'6.MSW Diversions'!Q58","v":0},{"$f":"+$Q$15*D55","v":{"$error":"#N/A"}},{"$f":"Q55*S55","v":{"$error":"#N/A"}},{"$f":"'6.MSW Diversions'!T58","v":0},{"$f":"+$T$15*D55","v":{"$error":"#N/A"}},{"$f":"T55*V55","v":{"$error":"#N/A"}},{"$f":"'6.MSW Diversions'!W58","v":0},{"$f":"+$W$15*D55","v":{"$error":"#N/A"}},{"$f":"W55*Y55","v":{"$error":"#N/A"}},{"$f":"'6.MSW Diversions'!Z58","v":0},{"$f":"+$Z$15*D55","v":{"$error":"#N/A"}},{"$f":"Z55*AB55","v":{"$error":"#N/A"}},{"$f":"'6.MSW Diversions'!AC58","v":0},{"$f":"+$AC$15*D55","v":{"$error":"#N/A"}},{"$f":"AC55*AE55","v":{"$error":"#N/A"}},{"$f":"'6.MSW Diversions'!AF58","v":0},{"$f":"+$AF$15*D55","v":{"$error":"#N/A"}},{"$f":"AF55*AH55","v":{"$error":"#N/A"}},{"$f":"'6.MSW Diversions'!AI58","v":0},{"$f":"+$AI$15*D55","v":{"$error":"#N/A"}},{"$f":"AI55*AK55","v":{"$error":"#N/A"}},{"$f":"'6.MSW Diversions'!AL58","v":0},{"$f":"+$AF$15*D55","v":{"$error":"#N/A"}},{"$f":"AL55*AN55","v":{"$error":"#N/A"}},{"$f":"'6.MSW Diversions'!AO58","v":0},{"$f":"+$AI$15*D55","v":{"$error":"#N/A"}},{"$f":"AO55*AQ55","v":{"$error":"#N/A"}},{"$f":"'6.MSW Diversions'!AR58","v":0}]
[null,"Total Textiles",null,{"$f":"+'4.MSW Comp. Analysis'!O72","v":{"$error":"#N/A"}},{"$f":"D56*'5.MSW Detailed Analysis'!$F$19","v":{"$error":"#N/A"}},{"$f":"'5.MSW Detailed Analysis'!G60","v":0},{"$error":"#N/A"},{"$f":"+H54+H55","v":{"$error":"#N/A"}},{"$f":"+I54+I55","v":{"$error":"#N/A"}},{"$f":"I56/H56","v":{"$error":"#N/A"}},{"$f":"+K54+K55","v":{"$error":"#N/A"}},{"$f":"+L54+L55","v":{"$error":"#N/A"}},{"$f":"L56/K56","v":{"$error":"#N/A"}},{"$f":"+N54+N55","v":{"$error":"#N/A"}},{"$f":"+O54+O55","v":{"$error":"#N/A"}},{"$f":"O56/N56","v":{"$error":"#N/A"}},{"$f":"+Q54+Q55","v":{"$error":"#N/A"}},{"$f":"+R54+R55","v":{"$error":"#N/A"}},{"$f":"R56/Q56","v":{"$error":"#N/A"}},{"$f":"+T54+T55","v":{"$error":"#N/A"}},{"$f":"+U54+U55","v":{"$error":"#N/A"}},{"$f":"U56/T56","v":{"$error":"#N/A"}},{"$f":"+W54+W55","v":{"$error":"#N/A"}},{"$f":"+X54+X55","v":{"$error":"#N/A"}},{"$f":"X56/W56","v":{"$error":"#N/A"}},{"$f":"+Z54+Z55","v":{"$error":"#N/A"}},{"$f":"+AA54+AA55","v":{"$error":"#N/A"}},{"$f":"AA56/Z56","v":{"$error":"#N/A"}},{"$f":"+AC54+AC55","v":{"$error":"#N/A"}},{"$f":"+AD54+AD55","v":{"$error":"#N/A"}},{"$f":"AD56/AC56","v":{"$error":"#N/A"}},{"$f":"+AF54+AF55","v":{"$error":"#N/A"}},{"$f":"+AG54+AG55","v":{"$error":"#N/A"}},{"$f":"AG56/AF56","v":{"$error":"#N/A"}},{"$f":"+AI54+AI55","v":{"$error":"#N/A"}},{"$f":"+AJ54+AJ55","v":{"$error":"#N/A"}},{"$f":"AJ56/AI56","v":{"$error":"#N/A"}},{"$f":"+AL54+AL55","v":{"$error":"#N/A"}},{"$f":"+AM54+AM55","v":{"$error":"#N/A"}},{"$f":"AM56/AL56","v":{"$error":"#N/A"}},{"$f":"+AO54+AO55","v":{"$error":"#N/A"}},{"$f":"+AP54+AP55","v":{"$error":"#N/A"}},{"$f":"AP56/AO56","v":{"$error":"#N/A"}}]
["Wood","Total Wood (Pallets, crates, adulterated and non-adulterated)",null,{"$f":"+'4.MSW Comp. Analysis'!O73","v":{"$error":"#N/A"}},{"$f":"D57*'5.MSW Detailed Analysis'!$F$19","v":{"$error":"#N/A"}},{"$f":"'5.MSW Detailed Analysis'!G61","v":0},{"$error":"#N/A"},{"$f":"+$H$15*D57","v":{"$error":"#N/A"}},{"$f":"H57*J57","v":{"$error":"#N/A"}},{"$f":"'6.MSW Diversions'!K60","v":0},{"$f":"+$K$15*D57","v":{"$error":"#N/A"}},{"$f":"K57*M57","v":{"$error":"#N/A"}},{"$f":"'6.MSW Diversions'!N60","v":0},{"$f":"+$N$15*D57","v":{"$error":"#N/A"}},{"$f":"P57*N57","v":{"$error":"#N/A"}},{"$f":"'6.MSW Diversions'!Q60","v":0},{"$f":"+$Q$15*D57","v":{"$error":"#N/A"}},{"$f":"Q57*S57","v":{"$error":"#N/A"}},{"$f":"'6.MSW Diversions'!T60","v":0},{"$f":"+$T$15*D57","v":{"$error":"#N/A"}},{"$f":"T57*V57","v":{"$error":"#N/A"}},{"$f":"'6.MSW Diversions'!W60","v":0},{"$f":"+$W$15*D57","v":{"$error":"#N/A"}},{"$f":"W57*Y57","v":{"$error":"#N/A"}},{"$f":"'6.MSW Diversions'!Z60","v":0},{"$f":"+$Z$15*D57","v":{"$error":"#N/A"}},{"$f":"Z57*AB57","v":{"$error":"#N/A"}},{"$f":"'6.MSW Diversions'!AC60","v":0},{"$f":"+$AC$15*D57","v":{"$error":"#N/A"}},{"$f":"AC57*AE57","v":{"$error":"#N/A"}},{"$f":"'6.MSW Diversions'!AF60","v":0},{"$f":"+$AF$15*D57","v":{"$error":"#N/A"}},{"$f":"AF57*AH57","v":{"$error":"#N/A"}},{"$f":"'6.MSW Diversions'!AI60","v":0},{"$f":"+$AI$15*D57","v":{"$error":"#N/A"}},{"$f":"AI57*AK57","v":{"$error":"#N/A"}},{"$f":"'6.MSW Diversions'!AL60","v":0},{"$f":"+$AF$15*D57","v":{"$error":"#N/A"}},{"$f":"AL57*AN57","v":{"$error":"#N/A"}},{"$f":"'6.MSW Diversions'!AO60","v":0},{"$f":"+$AI$15*D57","v":{"$error":"#N/A"}},{"$f":"AO57*AQ57","v":{"$error":"#N/A"}},{"$f":"'6.MSW Diversions'!AR60","v":0}]
["Miscellaneous","DIY Construction & Renovation Materials",null,{"$f":"+'4.MSW Comp. Analysis'!O74","v":{"$error":"#N/A"}},{"$f":"D58*'5.MSW Detailed Analysis'!$F$19","v":{"$error":"#N/A"}},{"$f":"'5.MSW Detailed Analysis'!G62","v":0},{"$error":"#N/A"},{"$error":"#N/A"},{"$error":"#N/A"},{"$f":"'6.MSW Diversions'!K61","v":0},{"$error":"#N/A"},{"$error":"#N/A"},{"$f":"'6.MSW Diversions'!N61","v":0},{"$error":"#N/A"},{"$error":"#N/A"},{"$f":"'6.MSW Diversions'!Q61","v":0},{"$error":"#N/A"},{"$error":"#N/A"},{"$f":"'6.MSW Diversions'!T61","v":0},{"$error":"#N/A"},{"$error":"#N/A"},{"$f":"'6.MSW Diversions'!W61","v":0},{"$error":"#N/A"},{"$error":"#N/A"},{"$f":"'6.MSW Diversions'!Z61","v":0},{"$error":"#N/A"},{"$error":"#N/A"},{"$f":"'6.MSW Diversions'!AC61","v":0},{"$error":"#N/A"},{"$error":"#N/A"},{"$f":"'6.MSW Diversions'!AF61","v":0},{"$error":"#N/A"},{"$error":"#N/A"},{"$f":"'6.MSW Diversions'!AI61","v":0},{"$error":"#N/A"},{"$error":"#N/A"},{"$f":"'6.MSW Diversions'!AL61","v":0},{"$f":"+$AF$15*D58","v":{"$error":"#N/A"}},{"$error":"#N/A"},{"$f":"'6.MSW Diversions'!AO61","v":0},{"$f":"+$AI$15*D58","v":{"$error":"#N/A"}},{"$error":"#N/A"},{"$f":"'6.MSW Diversions'!AR61","v":0}]
[null,"Diapers",null,{"$f":"+'4.MSW Comp. Analysis'!O75","v":{"$error":"#N/A"}},{"$f":"D59*'5.MSW Detailed Analysis'!$F$19","v":{"$error":"#N/A"}},{"$f":"'5.MSW Detailed Analysis'!G63","v":0},{"$error":"#N/A"},{"$error":"#N/A"},{"$error":"#N/A"},{"$f":"'6.MSW Diversions'!K62","v":0},{"$error":"#N/A"},{"$error":"#N/A"},{"$f":"'6.MSW Diversions'!N62","v":0},{"$error":"#N/A"},{"$error":"#N/A"},{"$f":"'6.MSW Diversions'!Q62","v":0},{"$error":"#N/A"},{"$error":"#N/A"},{"$f":"'6.MSW Diversions'!T62","v":0},{"$error":"#N/A"},{"$error":"#N/A"},{"$f":"'6.MSW Diversions'!W62","v":0},{"$error":"#N/A"},{"$error":"#N/A"},{"$f":"'6.MSW Diversions'!Z62","v":0},{"$error":"#N/A"},{"$error":"#N/A"},{"$f":"'6.MSW Diversions'!AC62","v":0},{"$error":"#N/A"},{"$error":"#N/A"},{"$f":"'6.MSW Diversions'!AF62","v":0},{"$error":"#N/A"},{"$error":"#N/A"},{"$f":"'6.MSW Diversions'!AI62","v":0},{"$error":"#N/A"},{"$error":"#N/A"},{"$f":"'6.MSW Diversions'!AL62","v":0},{"$f":"+$AF$15*D59","v":{"$error":"#N/A"}},{"$error":"#N/A"},{"$f":"'6.MSW Diversions'!AO62","v":0},{"$f":"+$AI$15*D59","v":{"$error":"#N/A"}},{"$error":"#N/A"},{"$f":"'6.MSW Diversions'!AR62","v":0}]
[null,"Electronics",null,{"$f":"+'4.MSW Comp. Analysis'!O76","v":{"$error":"#N/A"}},{"$f":"D60*'5.MSW Detailed Analysis'!$F$19","v":{"$error":"#N/A"}},{"$f":"'5.MSW Detailed Analysis'!G64","v":0},{"$error":"#N/A"},{"$error":"#N/A"},{"$error":"#N/A"},{"$f":"'6.MSW Diversions'!K63","v":0},{"$error":"#N/A"},{"$error":"#N/A"},{"$f":"'6.MSW Diversions'!N63","v":0},{"$error":"#N/A"},{"$error":"#N/A"},{"$f":"'6.MSW Diversions'!Q63","v":0},{"$error":"#N/A"},{"$error":"#N/A"},{"$f":"'6.MSW Diversions'!T63","v":0},{"$error":"#N/A"},{"$error":"#N/A"},{"$f":"'6.MSW Diversions'!W63","v":0},{"$error":"#N/A"},{"$error":"#N/A"},{"$f":"'6.MSW Diversions'!Z63","v":0},{"$error":"#N/A"},{"$error":"#N/A"},{"$f":"'6.MSW Diversions'!AC63","v":0},{"$error":"#N/A"},{"$error":"#N/A"},{"$f":"'6.MSW Diversions'!AF63","v":0},{"$error":"#N/A"},{"$error":"#N/A"},{"$f":"'6.MSW Diversions'!AI63","v":0},{"$error":"#N/A"},{"$error":"#N/A"},{"$f":"'6.MSW Diversions'!AL63","v":0},{"$error":"#N/A"},{"$error":"#N/A"},{"$f":"'6.MSW Diversions'!AO63","v":0},{"$error":"#N/A"},{"$error":"#N/A"},{"$f":"'6.MSW Diversions'!AR63","v":0}]
[null,"Tires",null,{"$f":"+'4.MSW Comp. Analysis'!O77","v":{"$error":"#N/A"}},{"$f":"D61*'5.MSW Detailed Analysis'!$F$19","v":{"$error":"#N/A"}},{"$f":"'5.MSW Detailed Analysis'!G65","v":0},{"$error":"#N/A"},{"$error":"#N/A"},{"$error":"#N/A"},{"$f":"'6.MSW Diversions'!K64","v":0},{"$error":"#N/A"},{"$error":"#N/A"},{"$f":"'6.MSW Diversions'!N64","v":0},{"$error":"#N/A"},{"$error":"#N/A"},{"$f":"'6.MSW Diversions'!Q64","v":0},{"$error":"#N/A"},{"$error":"#N/A"},{"$f":"'6.MSW Diversions'!T64","v":0},{"$error":"#N/A"},{"$error":"#N/A"},{"$f":"'6.MSW Diversions'!W64","v":0},{"$error":"#N/A"},{"$error":"#N/A"},{"$f":"'6.MSW Diversions'!Z64","v":0},{"$error":"#N/A"},{"$error":"#N/A"},{"$f":"'6.MSW Diversions'!AC64","v":0},{"$error":"#N/A"},{"$error":"#N/A"},{"$f":"'6.MSW Diversions'!AF64","v":0},{"$error":"#N/A"},{"$error":"#N/A"},{"$f":"'6.MSW Diversions'!AI64","v":0},{"$error":"#N/A"},{"$error":"#N/A"},{"$f":"'6.MSW Diversions'!AL64","v":0},{"$error":"#N/A"},{"$error":"#N/A"},{"$f":"'6.MSW Diversions'!AO64","v":0},{"$error":"#N/A"},{"$error":"#N/A"},{"$f":"'6.MSW Diversions'!AR64","v":0}]
[null,"HHW",null,{"$f":"+'4.MSW Comp. Analysis'!O78","v":{"$error":"#N/A"}},{"$f":"D62*'5.MSW Detailed Analysis'!$F$19","v":{"$error":"#N/A"}},{"$f":"'5.MSW Detailed Analysis'!G66","v":0},{"$error":"#N/A"},{"$error":"#N/A"},{"$error":"#N/A"},{"$f":"'6.MSW Diversions'!K65","v":0},{"$error":"#N/A"},{"$error":"#N/A"},{"$f":"'6.MSW Diversions'!N65","v":0},{"$error":"#N/A"},{"$error":"#N/A"},{"$f":"'6.MSW Diversions'!Q65","v":0},{"$error":"#N/A"},{"$error":"#N/A"},{"$f":"'6.MSW Diversions'!T65","v":0},{"$error":"#N/A"},{"$error":"#N/A"},{"$f":"'6.MSW Diversions'!W65","v":0},{"$error":"#N/A"},{"$error":"#N/A"},{"$f":"'6.MSW Diversions'!Z65","v":0},{"$error":"#N/A"},{"$error":"#N/A"},{"$f":"'6.MSW Diversions'!AC65","v":0},{"$error":"#N/A"},{"$error":"#N/A"},{"$f":"'6.MSW Diversions'!AF65","v":0},{"$error":"#N/A"},{"$error":"#N/A"},{"$f":"'6.MSW Diversions'!AI65","v":0},{"$error":"#N/A"},{"$error":"#N/A"},{"$f":"'6.MSW Diversions'!AL65","v":0},{"$error":"#N/A"},{"$error":"#N/A"},{"$f":"'6.MSW Diversions'!AO65","v":0},{"$error":"#N/A"},{"$error":"#N/A"},{"$f":"'6.MSW Diversions'!AR65","v":0}]
[null,"Soils and Fines",null,{"$f":"+'4.MSW Comp. Analysis'!O79","v":{"$error":"#N/A"}},{"$f":"D63*'5.MSW Detailed Analysis'!$F$19","v":{"$error":"#N/A"}},{"$f":"'5.MSW Detailed Analysis'!G67","v":0},{"$error":"#N/A"},{"$error":"#N/A"},{"$error":"#N/A"},{"$f":"'6.MSW Diversions'!K66","v":0},{"$error":"#N/A"},{"$error":"#N/A"},{"$f":"'6.MSW Diversions'!N66","v":0},{"$error":"#N/A"},{"$error":"#N/A"},{"$f":"'6.MSW Diversions'!Q66","v":0},{"$error":"#N/A"},{"$error":"#N/A"},{"$f":"'6.MSW Diversions'!T66","v":0},{"$error":"#N/A"},{"$error":"#N/A"},{"$f":"'6.MSW Diversions'!W66","v":0},{"$error":"#N/A"},{"$error":"#N/A"},{"$f":"'6.MSW Diversions'!Z66","v":0},{"$error":"#N/A"},{"$error":"#N/A"},{"$f":"'6.MSW Diversions'!AC66","v":0},{"$error":"#N/A"},{"$error":"#N/A"},{"$f":"'6.MSW Diversions'!AF66","v":0},{"$error":"#N/A"},{"$error":"#N/A"},{"$f":"'6.MSW Diversions'!AI66","v":0},{"$error":"#N/A"},{"$error":"#N/A"},{"$f":"'6.MSW Diversions'!AL66","v":0},{"$error":"#N/A"},{"$error":"#N/A"},{"$f":"'6.MSW Diversions'!AO66","v":0},{"$error":"#N/A"},{"$error":"#N/A"},{"$f":"'6.MSW Diversions'!AR66","v":0}]
[null,"Other Composite Materials - Durable and/or inert",null,{"$f":"+'4.MSW Comp. Analysis'!O80","v":{"$error":"#N/A"}},{"$f":"D64*'5.MSW Detailed Analysis'!$F$19","v":{"$error":"#N/A"}},{"$f":"'5.MSW Detailed Analysis'!G68","v":0},{"$error":"#N/A"},{"$error":"#N/A"},{"$error":"#N/A"},{"$f":"'6.MSW Diversions'!K67","v":0},{"$error":"#N/A"},{"$error":"#N/A"},{"$f":"'6.MSW Diversions'!N67","v":0},{"$error":"#N/A"},{"$error":"#N/A"},{"$f":"'6.MSW Diversions'!Q67","v":0},{"$error":"#N/A"},{"$error":"#N/A"},{"$f":"'6.MSW Diversions'!T67","v":0},{"$error":"#N/A"},{"$error":"#N/A"},{"$f":"'6.MSW Diversions'!W67","v":0},{"$error":"#N/A"},{"$error":"#N/A"},{"$f":"'6.MSW Diversions'!Z67","v":0},{"$error":"#N/A"},{"$error":"#N/A"},{"$f":"'6.MSW Diversions'!AC67","v":0},{"$error":"#N/A"},{"$error":"#N/A"},{"$f":"'6.MSW Diversions'!AF67","v":0},{"$error":"#N/A"},{"$error":"#N/A"},{"$f":"'6.MSW Diversions'!AI67","v":0},{"$error":"#N/A"},{"$error":"#N/A"},{"$f":"'6.MSW Diversions'!AL67","v":0},{"$error":"#N/A"},{"$error":"#N/A"},{"$f":"'6.MSW Diversions'!AO67","v":0},{"$error":"#N/A"},{"$error":"#N/A"},{"$f":"'6.MSW Diversions'!AR67","v":0}]
[null,"Total Miscellaneous",null,{"$f":"+'4.MSW Comp. Analysis'!O81","v":{"$error":"#N/A"}},{"$f":"D65*'5.MSW Detailed Analysis'!$F$19","v":{"$error":"#N/A"}},{"$f":"'5.MSW Detailed Analysis'!G69","v":0},{"$error":"#N/A"},{"$f":"SUM(H58:H64)","v":{"$error":"#N/A"}},{"$f":"SUM(I58:I64)","v":{"$error":"#N/A"}},{"$f":"I65/H65","v":{"$error":"#N/A"}},{"$f":"SUM(K58:K64)","v":{"$error":"#N/A"}},{"$f":"SUM(L58:L64)","v":{"$error":"#N/A"}},{"$f":"L65/K65","v":{"$error":"#N/A"}},{"$f":"SUM(N58:N64)","v":{"$error":"#N/A"}},{"$f":"SUM(O58:O64)","v":{"$error":"#N/A"}},{"$f":"O65/N65","v":{"$error":"#N/A"}},{"$f":"SUM(Q58:Q64)","v":{"$error":"#N/A"}},{"$f":"SUM(R58:R64)","v":{"$error":"#N/A"}},{"$f":"R65/Q65","v":{"$error":"#N/A"}},{"$f":"SUM(T58:T64)","v":{"$error":"#N/A"}},{"$f":"SUM(U58:U64)","v":{"$error":"#N/A"}},{"$f":"U65/T65","v":{"$error":"#N/A"}},{"$f":"SUM(W58:W64)","v":{"$error":"#N/A"}},{"$f":"SUM(X58:X64)","v":{"$error":"#N/A"}},{"$f":"X65/W65","v":{"$error":"#N/A"}},{"$f":"SUM(Z58:Z64)","v":{"$error":"#N/A"}},{"$f":"SUM(AA58:AA64)","v":{"$error":"#N/A"}},{"$f":"AA65/Z65","v":{"$error":"#N/A"}},{"$f":"SUM(AC58:AC64)","v":{"$error":"#N/A"}},{"$f":"SUM(AD58:AD64)","v":{"$error":"#N/A"}},{"$f":"AD65/AC65","v":{"$error":"#N/A"}},{"$f":"SUM(AF58:AF64)","v":{"$error":"#N/A"}},{"$f":"SUM(AG58:AG64)","v":{"$error":"#N/A"}},{"$f":"AG65/AF65","v":{"$error":"#N/A"}},{"$f":"SUM(AI58:AI64)","v":{"$error":"#N/A"}},{"$f":"SUM(AJ58:AJ64)","v":{"$error":"#N/A"}},{"$f":"AJ65/AI65","v":{"$error":"#N/A"}},{"$f":"SUM(AL58:AL64)","v":{"$error":"#N/A"}},{"$f":"SUM(AM58:AM64)","v":{"$error":"#N/A"}},{"$f":"AM65/AL65","v":{"$error":"#N/A"}},{"$f":"SUM(AO58:AO64)","v":{"$error":"#N/A"}},{"$f":"SUM(AP58:AP64)","v":{"$error":"#N/A"}},{"$f":"AP65/AO65","v":{"$error":"#N/A"}}]
[]
[]
[null,null,null,null,{"$f":"+E13","v":{"$error":"#N/A"}},null,null,{"$f":"+H13","v":{"$error":"#N/A"}},null,null,{"$f":"+K13","v":{"$error":"#N/A"}},null,null,{"$f":"+N13","v":{"$error":"#N/A"}},null,null,{"$f":"+Q13","v":{"$error":"#N/A"}},null,null,{"$f":"+T13","v":{"$error":"#N/A"}},null,null,{"$f":"+W13","v":{"$error":"#N/A"}},null,null,{"$f":"+Z13","v":{"$error":"#N/A"}},null,null,{"$f":"+AC13","v":{"$error":"#N/A"}},null,null,{"$f":"+AF13","v":{"$error":"#N/A"}},null,null,{"$f":"+AI13","v":{"$error":"#N/A"}},null,null,{"$f":"+AL13","v":{"$error":"#N/A"}},null,null,{"$f":"+AO13","v":{"$error":"#N/A"}}]
[null,"Population ",null,null,{"$f":"+'2.Waste Generation Rate'!X57","v":{"$error":"#N/A"}},null,null,{"$f":"+'3.PU&MSW Projections'!G56","v":{"$error":"#N/A"}},null,null,{"$f":"+'3.PU&MSW Projections'!H56","v":{"$error":"#N/A"}},null,null,{"$f":"+'3.PU&MSW Projections'!I56","v":{"$error":"#N/A"}},null,null,{"$f":"+'3.PU&MSW Projections'!J56","v":{"$error":"#N/A"}},null,null,{"$f":"+'3.PU&MSW Projections'!K56","v":{"$error":"#N/A"}},null,null,{"$f":"+'3.PU&MSW Projections'!L56","v":{"$error":"#N/A"}},null,null,{"$f":"+'3.PU&MSW Projections'!M56","v":{"$error":"#N/A"}},null,null,{"$f":"+'3.PU&MSW Projections'!N56","v":{"$error":"#N/A"}},null,null,{"$f":"+'3.PU&MSW Projections'!O56","v":{"$error":"#N/A"}},null,null,{"$f":"+'3.PU&MSW Projections'!P56","v":{"$error":"#N/A"}},null,null,{"$f":"+'3.PU&MSW Projections'!Q56","v":{"$error":"#N/A"}},null,null,{"$f":"+'3.PU&MSW Projections'!R56","v":{"$error":"#N/A"}}]
[null,"MSW Generated (tons)",null,null,{"$f":"+E15","v":0},null,null,{"$f":"+H15","v":{"$error":"#N/A"}},null,null,{"$f":"+K15","v":{"$error":"#N/A"}},null,null,{"$f":"+N15","v":{"$error":"#N/A"}},null,null,{"$f":"+Q15","v":{"$error":"#N/A"}},null,null,{"$f":"+T15","v":{"$error":"#N/A"}},null,null,{"$f":"+W15","v":{"$error":"#N/A"}},null,null,{"$f":"+Z15","v":{"$error":"#N/A"}},null,null,{"$f":"+AC15","v":{"$error":"#N/A"}},null,null,{"$f":"+AF15","v":{"$error":"#N/A"}},null,null,{"$f":"+AI15","v":{"$error":"#N/A"}},null,null,{"$f":"+AL15","v":{"$error":"#N/A"}},null,null,{"$f":"+AO15","v":{"$error":"#N/A"}}]
[null,"Per Capita MSW Generated (lbs/person/year)",null,null,{"$f":"+((E70*2000)/(E69))","v":{"$error":"#N/A"}},null,null,{"$f":"+((H70*2000)/(H69))","v":{"$error":"#N/A"}},null,null,{"$f":"+((K70*2000)/(K69))","v":{"$error":"#N/A"}},null,null,{"$f":"+((N70*2000)/(N69))","v":{"$error":"#N/A"}},null,null,{"$f":"+((Q70*2000)/(Q69))","v":{"$error":"#N/A"}},null,null,{"$f":"+((T70*2000)/(T69))","v":{"$error":"#N/A"}},null,null,{"$f":"+((W70*2000)/(W69))","v":{"$error":"#N/A"}},null,null,{"$f":"+((Z70*2000)/(Z69))","v":{"$error":"#N/A"}},null,null,{"$f":"+((AC70*2000)/(AC69))","v":{"$error":"#N/A"}},null,null,{"$f":"+((AF70*2000)/(AF69))","v":{"$error":"#N/A"}},null,null,{"$f":"+((AI70*2000)/(AI69))","v":{"$error":"#N/A"}},null,null,{"$f":"+((AL70*2000)/(AL69))","v":{"$error":"#N/A"}},null,null,{"$f":"+((AO70*2000)/(AO69))","v":{"$error":"#N/A"}}]
[]
[null,"MSW Diverted (tons)",null,null,{"$f":"+F15","v":0},null,null,{"$f":"+I15","v":{"$error":"#N/A"}},null,null,{"$f":"+L15","v":{"$error":"#N/A"}},null,null,{"$f":"+O15","v":{"$error":"#N/A"}},null,null,{"$f":"+R15","v":{"$error":"#N/A"}},null,null,{"$f":"+U15","v":{"$error":"#N/A"}},null,null,{"$f":"+X15","v":{"$error":"#N/A"}},null,null,{"$f":"+AA15","v":{"$error":"#N/A"}},null,null,{"$f":"+AD15","v":{"$error":"#N/A"}},null,null,{"$f":"+AG15","v":{"$error":"#N/A"}},null,null,{"$f":"+AJ15","v":{"$error":"#N/A"}},null,null,{"$f":"+AM15","v":{"$error":"#N/A"}},null,null,{"$f":"+AP15","v":{"$error":"#N/A"}}]
[null,"Per Capita MSW Diverted (lbs/person/year)",null,null,{"$f":"+(E73*2000)/E69","v":{"$error":"#N/A"}},null,null,{"$f":"+(H73*2000)/H69","v":{"$error":"#N/A"}},null,null,{"$f":"+(K73*2000)/K69","v":{"$error":"#N/A"}},null,null,{"$f":"+(N73*2000)/N69","v":{"$error":"#N/A"}},null,null,{"$f":"+(Q73*2000)/Q69","v":{"$error":"#N/A"}},null,null,{"$f":"+(T73*2000)/T69","v":{"$error":"#N/A"}},null,null,{"$f":"+(W73*2000)/W69","v":{"$error":"#N/A"}},null,null,{"$f":"+(Z73*2000)/Z69","v":{"$error":"#N/A"}},null,null,{"$f":"+(AC73*2000)/AC69","v":{"$error":"#N/A"}},null,null,{"$f":"+(AF73*2000)/AF69","v":{"$error":"#N/A"}},null,null,{"$f":"+(AI73*2000)/AI69","v":{"$error":"#N/A"}},null,null,{"$f":"+(AL73*2000)/AL69","v":{"$error":"#N/A"}},null,null,{"$f":"+(AO73*2000)/AO69","v":{"$error":"#N/A"}}]
[]
[null,"MSW Disposed (tons)",null,null,{"$f":"+E70-E73","v":0},null,null,{"$f":"+H70-H73","v":{"$error":"#N/A"}},null,null,{"$f":"+K70-K73","v":{"$error":"#N/A"}},null,null,{"$f":"+N70-N73","v":{"$error":"#N/A"}},null,null,{"$f":"+Q70-Q73","v":{"$error":"#N/A"}},null,null,{"$f":"+T70-T73","v":{"$error":"#N/A"}},null,null,{"$f":"+W70-W73","v":{"$error":"#N/A"}},null,null,{"$f":"+Z70-Z73","v":{"$error":"#N/A"}},null,null,{"$f":"+AC70-AC73","v":{"$error":"#N/A"}},null,null,{"$f":"+AF70-AF73","v":{"$error":"#N/A"}},null,null,{"$f":"+AI70-AI73","v":{"$error":"#N/A"}},null,null,{"$f":"+AL70-AL73","v":{"$error":"#N/A"}},null,null,{"$f":"+AO70-AO73","v":{"$error":"#N/A"}}]
[null,"Per Capita MSW Disposed (lbs/person/year)",null,null,{"$f":"+E71-E74","v":{"$error":"#N/A"}},null,null,{"$f":"+H71-H74","v":{"$error":"#N/A"}},null,null,{"$f":"+K71-K74","v":{"$error":"#N/A"}},null,null,{"$f":"+N71-N74","v":{"$error":"#N/A"}},null,null,{"$f":"+Q71-Q74","v":{"$error":"#N/A"}},null,null,{"$f":"+T71-T74","v":{"$error":"#N/A"}},null,null,{"$f":"+W71-W74","v":{"$error":"#N/A"}},null,null,{"$f":"+Z71-Z74","v":{"$error":"#N/A"}},null,null,{"$f":"+AC71-AC74","v":{"$error":"#N/A"}},null,null,{"$f":"+AF71-AF74","v":{"$error":"#N/A"}},null,null,{"$f":"+AI71-AI74","v":{"$error":"#N/A"}},null,null,{"$f":"+AL71-AL74","v":{"$error":"#N/A"}},null,null,{"$f":"+AO71-AO74","v":{"$error":"#N/A"}}]
[null,"Per Capita MSW Disposed (lbs/person/day)",null,null,{"$f":"+E77/365","v":{"$error":"#N/A"}},null,null,{"$f":"+H77/365","v":{"$error":"#N/A"}},null,null,{"$f":"+K77/365","v":{"$error":"#N/A"}},null,null,{"$f":"+N77/365","v":{"$error":"#N/A"}},null,null,{"$f":"+Q77/365","v":{"$error":"#N/A"}},null,null,{"$f":"+T77/365","v":{"$error":"#N/A"}},null,null,{"$f":"+W77/365","v":{"$error":"#N/A"}},null,null,{"$f":"+Z77/365","v":{"$error":"#N/A"}},null,null,{"$f":"+AC77/365","v":{"$error":"#N/A"}},null,null,{"$f":"+AF77/365","v":{"$error":"#N/A"}},null,null,{"$f":"+AI77/365","v":{"$error":"#N/A"}},null,null,{"$f":"+AL77/365","v":{"$error":"#N/A"}},null,null,{"$f":"+AO77/365","v":{"$error":"#N/A"}}]